{"text_format":"1","workbook":"xlsx","n_sheets":11,"sheets":["INSTRUCTIONS","Header","misc. entries","Mileage","Per Diems","Form Front","Form Back","Extension","In State","Out of State","Sheet1"],"not_rendered":{"charts":0,"images":7,"macros":1,"external_links":0,"defined_names":10,"comments":1,"pivot_tables":0},"unopened":[],"bounds":{"document_bytes":16777216,"sheet_cells":100000,"rows_first":2000,"rows_last":500,"rows_between":2000,"halvings":0,"cell_chars":16384,"cell_head_chars":4096},"cells_cut":0,"cells_raw":0,"read":"whole","date_system":"1900"}

{"sheet":"INSTRUCTIONS","index":0,"n_rows":87,"n_cols":11,"rows_kept":87,"cut":false,"hidden":false,"merged":[[18,7,18,10]]}
[]
[null,"EMPLOYEE TRAVEL REIMBURSEMENT"]
[]
["Set Up:","For First Time users only."]
[]
[null,"Step 1","Before doing anything else, click on Enable Content ribbon at top of sheet if it appears for you."]
[]
[null,"Step 2","Fill out the Header Page. (Click on Page Marked \"Header\" along bottom of Spreadsheet)"]
[]
[]
[null,"Step 3","Save the Spreadsheet under whatever name you wish to your Home folder on the network."]
[]
[null,null,null,"You now have a personal Travel Claim Master. You can make multiple copies  with just the Header completed to save you the"]
[null,null,null,"time of downloading and starting a new claim from scratch for each new claim. Keep in mind the mileage rate changes each Jan. 1 and"]
[null,null,null,"per diems rates change each Oct. 1 and the HSA Intranet claim form is updated at those intervals. Be sure you keep a current version."]
["Instructions for use:"]
[]
[null,"Step 1","Claim Description"]
[null,null,"Enter Purpose of travel here (indicate month)"]
[]
[null,"Step 2","Mileage",null,"(Click on Page Marked \"Mileage\" along bottom of Spreadsheet)"]
[]
[null,"A)","Enter Each trip in date order - Please try to enter miles for one month on one claim."]
[null,"B)","If miles are claimed for out of county travel, accompanying paperwork required ",null,null,null,null,null,null,null,"(See Line 21 on \"Header\" page)"]
[null,"C)","If the Claim does not contain mileage, skip to step 3"]
[null,"D)","If the claim is mileage only, after mileage is entered skip to step 7"]
[]
[null,"Step 3","Per Diems-Out of County/State-Set Up",null,null,null,"ATTENTION:  Required before doing step 4",null,null,null,"(Click on Page Marked \"Per Diems\" along bottom of Spreadsheet)"]
[]
[null,"A)","Find \"County -- City\" to which you traveled from the drop-down menu "]
[null,null,"If you traveled out of state, use the second drop-down menu labeled Out of State"]
[null,null,"menu to set \"State -- City\"",null,null,"Accompanying paperwork required ",null,null,null,"(See Line 24 on \"Header\" page)"]
[null,"B)","Click on Federal Per Diem Rate Lookup link to find applicable per diem rates. "]
[null,null,"Select State and City of travel and the website will produce the lodging rate and a Meal and Incident Expense (M&IE) Total. "]
[null,null,"In order to find M&IE breakdown use the same link but select M&IE Breakdown in left hand column menu. Here is the breakdown effective 10/1/15:"]
[]
[]
[]
[]
[]
[]
[]
[]
[]
[]
[]
[]
[]
[]
[]
[]
[]
[]
[]
[]
[]
[]
[]
[]
[]
[null,"B)","Set Start Date and End Date, as well as departure and return times.  Be sure to use the time you left"]
[null,null,"and returned to Santa Cruz, not your flight time."]
[]
[null,"Step 4","Per Diems-Meals & Lodging Entry",null,null,null,null,null,null,null,"(See Worksheet starting on line 19 of \"Per Diem\" page)"]
[]
[null,"A)","Enter the meals you wish to claim using the federal rates obtained from website."]
[null,null,"See HSA Travel Claim Policy for details on claiming meals. Link to Policy: ",null,null,null,null,null,null,null,"http://hsa/pp/501.pdf"]
[]
[null,null,null,null,"Accompanying paperwork required ",null,null,null,"(See Line 23 on \"Header\" page)"]
[]
[null,"B)","Enter the amount of lodging per night.",null,null,null,null,null,null,null,"(Click on Page Marked \"Per Diems\" along bottom of Spreadsheet)"]
[null,null,"If you have exceeded per deim amounts, you must have prior approval or you will only be paid up to the "]
[null,null,"per diem amount."]
[null,null,null,null,"Accompanying paperwork required ",null,null,null,"(See Line 23 on \"Header\" page)"]
[]
[]
[null,"Step 5","Miscellaneous entries",null,null,null,null,null,null,null,"(Click on Page Marked \"misc. entries\" along bottom of Spreadsheet)"]
[]
[null,null,"Enter as needed for other expenses."]
[]
[]
[null,"Step 6","Print your form"]
[]
[null,"A)","Print Form Front"]
[null,"B)","Print Form Back"]
[null,"C)","Print Extension",null,null,null,null,"For Claims with over 16 lines of Mileage"]
[null,"D)","Print Misc. Entries"]

{"sheet":"Header","index":1,"n_rows":35,"n_cols":7,"rows_kept":35,"cut":false,"hidden":false,"merged":[[20,5,20,8],[20,0,20,3],[21,0,21,3],[21,5,21,8],[35,5,35,8],[34,5,34,8],[26,0,26,3],[28,0,28,3],[30,0,30,3],[17,0,17,4],[17,6,17,9],[32,0,32,3],[34,0,34,3],[26,5,26,8],[28,5,28,8],[30,5,30,8],[32,5,32,8],[23,5,23,8],[24,5,24,8],[24,0,24,3],[23,0,23,3],[19,0,19,3],[19,5,19,8],[22,0,22,3],[22,5,22,8],[11,1,11,2],[6,1,6,2],[9,1,9,2],[10,1,10,2],[2,1,2,5],[3,1,3,5],[4,1,4,5],[5,1,5,5],[10,3,11,14]]}
[]
[null,"HEADER INFORMATION"]
["Name:"]
["Worksite:"]
["Department:","HSA"]
["Phone:"]
["Employee number:",null,null,"(6 digit number starting with 00 found on timecard and pay slip)"]
[null,null,null,"Enter  last four  digits (five if necessary) only including leading zero if appropriate - "]
[null,null,null,"(numbers beginning with zero must be preceded by an apostrophe)"]
["GL Key"]
["JL Key 1",null,null,"Note: If you will be entering some mileage with no JL Key (user code) and some mileage with a JL Key, leave the JL Key 1 field blank, and enter your JL Key in the JL Key 2 field. "]
["JL Key 2"]
[]
[]
[]
[]
[]
["WHAT DO I NEED TO GO WITH MY CLAIM?",null,null,null,null,null,"(Always include original and 1 copy of claim and supporting documents)"]
["TYPE OF CLAIM",null,null,null,null,"INFORMATION REQUIRED"]
["MILEAGE ONLY - IN COUNTY",null,null,null,null,"Requires Signed Claim (Front & Back)  only"]
["MILEAGE ONLY WITH OUT OF COUNTY MILES",null,null,null,null,"Requires Signed Claim (Front & Back)  with either HSA-94 (meetings & client visits) or HSA-853 (Conference Training Request & Report Form)"]
["DAY TRIP - OUT OF COUNTY",null,null,null,null,"Requires Signed Claim (Front & Back) and  either HSA-94 (meetings & client visits) or HSA-853 (Conference Training Request & Report Form), Agenda or other document showing Location, Time and Date.  "]
["OVERNIGHT - OUT OF COUNTY",null,null,null,null,"Requires Signed Claim (Front & Back) and  either HSA-94 (meetings & client visits) or HSA-853 (Conference Training Request & Report Form), Agenda or other document showing Location, Time and Date. Include Hotel Bill if claiming other than Per Diem "]
["OUT OF STATE",null,null,null,null,"Requires Signed Claim (Front & Back) and  HSA-854 (Conference Training Request & Report Form-Out of State) with signature from CAO, Agenda or other document showing Location, Time and Date. Include Hotel Bill if claiming other than Per Diem "]
["CLAIM FOR TRIP WITH PRIOR ADVANCE",null,null,null,null,"In addition to information listed above, include copy of advance request.  Must be submitted within 15 days of return"]
[]
["AIR TRAVEL",null,null,null,null,"To claim for reimbursement, itemize on claim form and include Ticket or document showing price, and copy of cancelled check or Credit Card receipt."]
[]
["REGISTRATIONS",null,null,null,null,"To claim, itemize on claim form and include copy of registration and copy of cancelled check or Credit Card receipt."]
[]
["BRIDGE TOLLS / PARKING",null,null,null,null,"To claim, itemize on claim form and include   receipts"]
[]
["TELEPHONE",null,null,null,null,"To claim,  itemize on claim form and include Hotel Bill"]
[]
["CELL PHONE",null,null,null,null,"To claim,  itemize on claim form and include ENTIRE phone bill"]

{"sheet":"misc. entries","index":2,"n_rows":23,"n_cols":29,"rows_kept":23,"cut":false,"hidden":false,"merged":[[2,26,2,31],[4,26,4,31],[6,26,6,31],[8,26,8,31],[2,5,2,10],[4,5,4,10],[6,5,6,10],[8,5,8,10],[16,1,16,2],[19,22,19,23],[10,26,10,28],[12,26,12,31],[14,26,14,31],[16,26,16,29],[19,1,19,2],[10,5,10,7],[19,5,19,9],[16,5,16,8],[12,5,12,10],[14,5,14,10]]}
["MISCELLANEOUS ENTRIES - Enter amount in appropriate square",null,null,null,null,null,null,null,null,null,null,null,null,null,null,null,null,"Subobject",null,null,null,"MISCELLANEOUS ENTRIES "]
[]
[62928,"Air Fare",null,null,null,"Provide receipt and canceled check or Credit Card Receipt",null,null,null,null,null,null,null,null,null,null,null,4150,null,null,null,62928,"Air Fare",null,{"$f":"+D3","v":0}]
[]
[62928,"Airport Shuttle",null,null,null,"Provide receipt and canceled check or Credit Card Receipt",null,null,null,null,null,null,null,null,null,null,null,4168,null,null,null,62928,"Airport Shuttle",null,{"$f":"+D5","v":0}]
[]
[62928,"Auto Rental",null,null,null,"Provide receipt and canceled check or Credit Card Receipt-requires prior approval",null,null,null,null,null,null,null,null,null,null,null,4152,null,null,null,62928,"Auto Rental",null,{"$f":"+D7","v":0}]
[]
[62928,"Gas, Oil, Fuel",null,null,null,"Use only for rental car or County car. Fuel is included in mileage for personal vehicles",null,null,null,null,null,null,null,null,null,null,null,4160,null,null,null,62928,"Gas, Oil, Fuel",null,{"$f":"+D9","v":0}]
[]
[62928,"Parking",null,null,null,"Provide receipt",null,null,null,null,null,null,null,null,null,null,null,4168,null,null,null,62928,"Parking",null,{"$f":"+D11","v":0}]
[]
[62928,"Bridge Tolls",null,null,null,"Provide receipt",null,null,null,null,null,null,null,null,null,null,null,4168,null,null,null,62928,"Bridge Tolls",null,{"$f":"+D13","v":0}]
[]
[62928,"Registration",null,null,null,"Provide receipt and canceled check or Credit Card Receipt",null,null,null,null,null,null,null,null,null,null,null,4170,null,null,null,62928,"Registration",null,{"$f":"+D15","v":0}]
[]
[62928,"Use of Personal Cell Phone for County Business",null,null,null,"Enter total reimbursement amount requested. Reimbursement rate of $.15 per minute. Cannot exceed bill total. Attach cell phone bill highlight applicable calls.",null,null,null,null,null,null,null,null,null,null,null,3241,null,null,null,62928,"Cell Phone",null,{"$f":"+D17","v":0}]
[null,null,"Total # of minutes",null,null,null,"Bill Total",null,null,null,null,null,null,null,null,null,null,null,null,null,null,null,null,"County minutes used",null,{"$f":"+E18","v":0},null,"bill total",{"$f":"+H18","v":0}]
[]
[62928,"Overnight Telephone or Internet Use for County Business",null,null,null,"1 call home per day, up to $10.00.  Provide Hotel Receipt",null,null,null,null,null,null,null,null,null,null,null,3241,null,null,null,62928,"Overnight Telephone",null,{"$f":"+D20","v":0}]
[]
[null,null,null,null,null,null,null,null,null,null,null,null,null,null,null,null,null,null,null,null,null,null,"Total",null,{"$f":"Y3+Y5+Y7+Y9+Y11+Y13+Y15+Y17+Y20","v":0}]
["S:\\FISCALSHR\\Travel\\Travel Claim Form.xls\\misc. entries"]

{"sheet":"Mileage","index":3,"n_rows":52,"n_cols":10,"rows_kept":52,"cut":false,"hidden":false,"merged":[[1,0,1,7]]}
[]
["ENTER DAILY MILEAGE HERE.  You have 46 lines.  If you require additional space, submit a separate claim.  Try to keep in date order.  Try to start and end with the beginning or end of the month.   If you do not have your odometer or trip meter readings, enter total miles in END column.  They will be checked against the charts.  "]
["Caution:  Do Not print this page to go with your claim. Please Print \"Form Back\" and \"Extension\" (if required).",null,null,null,null,null,null,null,null,"For JL Key 1 enter 1"]
[null,null,null,null,null,null,null,null,null,"For JL Key 2 enter 2 "]
["DATE","TIME","ORIGIN","DESTINATION","PURPOSE OF TRIP","END","START","MILES CLAIMED",null,"JL Key"]
[null,null,null,null,null,null,null,{"$f":"+F6-G6","v":0}]
[null,null,null,null,null,null,null,{"$f":"+F7-G7","v":0}]
[null,null,null,null,null,null,null,0]
[null,null,null,null,null,null,null,0]
[null,null,null,null,null,null,null,0]
[null,null,null,null,null,null,null,0]
[null,null,null,null,null,null,null,0]
[null,null,null,null,null,null,null,0]
[null,null,null,null,null,null,null,0]
[null,null,null,null,null,null,null,0]
[null,null,null,null,null,null,null,0]
[null,null,null,null,null,null,null,0]
[null,null,null,null,null,null,null,0]
[null,null,null,null,null,null,null,0]
[null,null,null,null,null,null,null,0]
[null,null,null,null,null,null,null,0]
[null,null,null,null,null,null,null,0]
[null,null,null,null,null,null,null,0]
[null,null,null,null,null,null,null,0]
[null,null,null,null,null,null,null,0]
[null,null,null,null,null,null,null,0]
[null,null,null,null,null,null,null,0]
[null,null,null,null,null,null,null,0]
[null,null,null,null,null,null,null,0]
[null,null,null,null,null,null,null,0]
[null,null,null,null,null,null,null,0]
[null,null,null,null,null,null,null,0]
[null,null,null,null,null,null,null,0]
[null,null,null,null,null,null,null,0]
[null,null,null,null,null,null,null,0]
[null,null,null,null,null,null,null,0]
[null,null,null,null,null,null,null,0]
[null,null,null,null,null,null,null,0]
[null,null,null,null,null,null,null,0]
[null,null,null,null,null,null,null,0]
[null,null,null,null,null,null,null,0]
[null,null,null,null,null,null,null,0]
[null,null,null,null,null,null,null,0]
[null,null,null,null,null,null,null,0]
[null,null,null,null,null,null,null,0]
[null,null,null,null,null,null,null,0]
[null,null,null,null,null,null,null,0]
[null,null,null,null,null,null,null,0]
[null,null,null,null,null,null,null,0]
[null,null,null,null,null,null,null,0]
[null,null,null,null,null,null,null,0]
[null,null,null,null,null,null,null,0]

{"sheet":"Per Diems","index":4,"n_rows":31,"n_cols":38,"rows_kept":31,"cut":false,"hidden":false,"merged":[[30,2,30,7],[5,9,5,13],[16,1,16,5],[6,9,6,13],[23,9,23,15],[25,9,25,15],[26,9,26,15],[15,1,15,8],[1,4,4,17],[29,9,29,15],[6,14,6,18],[27,9,27,15],[19,1,19,4]]}
[null,"Select the County of Travel and Dates and Times of Travel"]
[null,"In State Travel",null,null,"Note: Use drop downs to populate In State or Out of State City/County of Travel. Please look up per diem rates by clicking on Federal Per Diem Rate Look up link below. Key in rates for requested meal and lodging per diems into grid at bottom. See instructions tab for more detail regarding per diems.",null,null,null,null,null,null,null,null,null,null,null,null,null,null,null,null,null,null,"State/City",null,null,"CO-CITY"]
[null,null,null,null,null,null,null,null,null,null,null,null,null,null,null,null,null,null,null,null,null,null,null,"   --  ",null,null,"    --  ",null,null,null,null,null,{"$f":"+B8","v":"00:00:00"},{"$f":"HOUR(B12)","v":0},{"$f":"MINUTE(B12)","v":0},null,null,{"$f":"TIME(AH3,AI3,0)","v":"00:00:00"}]
[null,null,null,null,null,null,null,null,null,null,null,null,null,null,null,null,null,null,null,null,null,null,null,null,null,null,null,null,"IN STATE",null,"Out of State"]
[null,"Out of State Travel",null,null,null,null,null,null,null,null,null,null,null,null,null,null,null,null,null,null,null,null,null,null,null,null,null,null,"Hotel",null,null,null,{"$f":"+B10","v":"00:00:00"},{"$f":"HOUR(B14)","v":0},{"$f":"MINUTE(B14)","v":0},"PM",{"$f":"LEFT(AJ5,1)","v":"P"},{"$f":"TIME(IF(+AK5=\"p\",+AH5,+AH5),AI5,0)","v":"00:00:00"}]
[null,null,null,null,null,null,null,null,null,null,null,null,null,null,null,null,null,null,null,null,null,null,null,null,null,null,null,null,"W/tax_rate",null,"Pre-tax_rate"]
[null,"Departure Date",null,null,null,null,null,null,null,"Federal Per Diem Rate Look Up:",null,null,null,null,"http://www.gsa.gov/portal/content/104877",null,null,null,null,null,null,null,null,null,null,null,"Per Deim Rates",null,{"$f":"VLOOKUP(AA3,PDS,6)","v":0},null,{"$f":"VLOOKUP($X$3,OOS,4)","v":0},null,null,null,null,null,"06:00:00"]
[null,null,"  ( Format 00/00, month and date)",null,null,null,null,null,null,null,null,null,null,null,null,null,null,null,null,null,null,null,null,null,null,null,null,null,null,null,null,null,null,null,null,null,"11:00:00"]
[null,"Return Date",null,null,null,null,null,null,null,null,null,null,null,null,null,null,null,null,null,null,null,null,null,null,null,null,null,"Day 1","Day 2","Day 3","Day 4","Day 5","Day 6",null,null,null,"19:00:00"]
[null,null,"  ( Format 00/00, month and date)",null,null,null,null,null,null,null,null,null,null,null,null,null,null,null,null,null,null,null,null,null,null,null,null,{"$f":"+$B$8","v":"00:00:00"},{"$f":"IF($B$10>$B$8,$B$8+1,0)","v":"00:00:00"},{"$f":"IF($B$10=$B$8+1,0,IF($B$10>$B$8+1,$B$8+2,0))","v":"00:00:00"},{"$f":"IF($B$10=$B$8+2,0,IF($B$10>$B$8+2,$B$8+3,0))","v":"00:00:00"},{"$f":"IF($B$10=$B$8+3,0,IF($B$10>$B$8+3,$B$8+4,0))","v":"00:00:00"},{"$f":"IF($B$10=$B$8+4,0,IF($B$10>$B$8+4,$B$8+5,0))","v":"00:00:00"}]
[null,"Time of Departure","Hour","Minute","Morning/Afternoon (AM/PM)"]
[null,{"$f":"IF(LEFT(E12,1)=\"p\",TIME(C12+12,D12,0),TIME(C12,D12,0))","v":"00:00:00"},null,0,"A",null,null,"   Time you left Santa Cruz",null,null,null,null,null,null,null,null,null,null,null,null,null,null,null,null,null,"In State","Breakfast",{"$f":"IF(B12<AK7,B21,0)","v":0},{"$f":"IF(AC10=0,0,$B$21)","v":0},{"$f":"IF(AD10=0,0,$B$21)","v":0},{"$f":"IF(AE10=0,0,$B$21)","v":0},{"$f":"IF(AF10=0,0,$B$21)","v":0},{"$f":"IF(AG10=0,0,$B$21)","v":0}]
[null,"Time of Return",null,null,"Morning/Afternoon (AM/PM)",null,null,null,null,null,null,null,null,null,null,null,null,null,null,null,null,null,null,null,null,"In State","Lunch",{"$f":"IF(B12<AK8,C21,0)","v":0},{"$f":"IF(AC10=0,0,IF(AD10=0,IF(B14<AK8,0,$C$21),$C$21))","v":0},{"$f":"IF(AD10=0,0,IF(AE10=0,IF(B14<AK8,0,$C$21),$C$21))","v":0},{"$f":"IF(AE10=0,0,IF(AF10=0,IF(B14<AK8,0,$C$21),$C$21))","v":0},{"$f":"IF(AF10=0,0,IF(AG10=0,IF(J24<M20,0,$C$21),$C$21))","v":0},{"$f":"IF(AG10=0,0,IF(H29=0,IF(K24<N20,0,$C$21),$C$21))","v":0}]
[null,{"$f":"IF(LEFT(E14,1)=\"p\",TIME(C14+12,D14,0),TIME(C14,D14,0))","v":"00:00:00"},null,null,"A",null,null,"   Time you returned to Santa Cruz",null,null,null,null,null,null,null,null,null,null,null,null,null,null,null,null,null,"In State","Dinner",{"$f":"IF(AB10=0,0,IF(AC10=0,IF(B14<AK9,0,$D$21),$D$21))","v":0},{"$f":"IF(AC10=0,0,IF(AD10=0,IF(B14<AK9,0,$D$21),$D$21))","v":0},{"$f":"IF(AD10=0,0,IF(AE10=0,IF(B14<AK9,0,$D$21),$D$21))","v":0},{"$f":"IF(AE10=0,0,IF(AF10=0,IF(B14<AK9,0,$D$21),$D$21))","v":0},{"$f":"IF(AF10=0,0,IF(AG10=0,IF(J24<M21,0,$D$21),$D$21))","v":0},{"$f":"IF(AG10=0,0,IF(H29=0,IF(K24<N21,0,$D$21),$D$21))","v":0}]
[]
[null,null,null,null,null,null,null,null,null,null,null,null,null,null,null,null,null,null,null,null,null,null,null,null,null,"Out of State","Breakfast"]
[null,null,null,null,null,null,null,null,null,null,null,null,null,null,null,null,null,null,null,null,null,null,null,null,null,"Out of State","Lunch"]
[null,null,null,null,null,null,null,null,null,null,null,null,null,null,null,null,null,null,null,null,null,null,null,null,null,"Out of State","Dinner"]
[null,null,null,null,null,null,null,null,null,null,"If you received an advance, enter amount here."]
[null,"Enter meals purchased. You may enter the exact amount, or the per diem. Do not enter meals provided at a function. ",null,null,null,null,null,null,null,null,"Advance:"]
[]
[]
[]
[null,"Meals","Day 1","Day 2","Day 3","Day 4","Day 5",null,null,"Meal Per Diems can only be claimed for out of county travel."]
[null,"Date",{"$f":"IF(B8=\"\",0,+$B$8)","v":"00:00:00"},{"$f":"IF($B$10>$B$8,$B$8+1,0)","v":"00:00:00"},{"$f":"IF($B$10=$B$8+1,0,IF($B$10>$B$8+1,$B$8+2,0))","v":"00:00:00"},{"$f":"IF($B$10=$B$8+2,0,IF($B$10>$B$8+1,$B$8+3,0))","v":"00:00:00"},{"$f":"IF($B$10=$B$8+3,0,IF($B$10>$B$8+3,$B$8+4,0))","v":"00:00:00"}]
[null,"Breakfast",null,null,null,null,null,null,null,"To claim breakfast, departure time must be before 6:00 a.m."]
[null,"Lunch",null,null,null,null,null,null,null,"To claim lunch, departure time must be before 11:00 a.m. and return time must be after 2:00 p.m."]
[null,"Dinner",null,null,null,null,null,null,null,"To claim dinner, departure time must be before 5:00 p.m. and return time must be after 7:00 p.m."]
[]
[null,"Lodging",null,null,null,null,null,null,null,"Input lodging rate plus any tax from your lodging bill."]
[null,null,"Do Not enter lodging amounts above Per Diem rates unless approved by the Auditor's Office prior to departure"]

{"sheet":"Form Front","index":5,"n_rows":43,"n_cols":19,"rows_kept":43,"cut":false,"hidden":false,"merged":[[37,14,39,17],[37,18,39,18],[24,18,25,18],[24,14,25,17],[26,14,29,17],[30,14,32,17],[26,18,29,18],[30,18,32,18],[33,14,34,17],[33,18,34,18],[35,14,36,17],[35,18,36,18],[31,3,32,4],[33,3,33,4],[29,3,30,4],[31,5,32,6],[25,5,25,6],[26,7,28,8],[26,0,28,2],[36,7,36,8],[26,3,28,4],[29,5,30,6],[29,0,30,2],[34,3,35,4],[23,0,24,2],[21,0,22,2],[19,14,21,18],[23,14,23,18],[21,9,22,10],[29,12,30,13],[29,9,30,10],[23,3,24,4],[20,5,20,6],[23,12,24,13],[19,12,19,13],[19,0,19,2],[18,3,18,13],[14,15,14,18],[14,7,14,10],[14,5,14,6],[16,3,16,4],[14,3,14,4],[15,3,15,13],[20,3,20,4],[20,9,20,10],[19,5,19,6],[19,9,19,10],[16,11,16,13],[9,1,9,2],[11,1,11,2],[12,1,12,2],[13,1,13,2],[1,13,2,14],[1,15,2,18],[3,15,3,18],[4,15,5,16],[7,15,7,16],[4,17,5,17],[4,18,5,18],[10,17,10,18],[11,3,11,4],[4,3,4,4],[9,5,9,6],[2,2,2,4],[11,5,11,6],[11,11,11,13],[13,11,13,13],[4,13,5,14],[1,1,1,4],[3,13,3,14],[10,11,10,13],[7,13,7,14],[9,7,9,10],[12,3,12,4],[16,5,16,6],[16,7,16,10],[17,3,17,13],[13,3,13,4],[9,3,9,4],[10,3,10,4],[11,7,11,10],[39,7,39,8],[36,9,36,10],[36,12,37,13],[33,12,35,13],[34,11,35,11],[37,9,38,10],[37,11,38,11],[37,5,38,6],[37,7,38,8],[34,7,35,8],[36,5,36,6],[34,5,35,6],[37,3,38,4],[20,12,20,13],[39,5,39,6],[26,12,28,13],[33,7,33,8],[29,11,30,11],[29,7,30,8],[31,7,32,8],[20,7,20,8],[34,9,35,10],[31,9,32,10],[23,11,24,11],[36,3,36,4],[31,11,32,11],[31,12,32,13],[23,7,24,8],[25,9,25,10],[21,7,22,8],[33,5,33,6],[26,5,28,6],[33,9,33,10],[21,12,22,13],[38,12,39,13],[39,9,39,10],[40,0,40,1],[36,0,36,2],[39,0,39,2],[31,0,32,2],[34,0,35,2],[37,0,38,2],[33,0,33,2],[12,11,12,13],[19,7,19,8],[25,0,25,2],[18,1,18,2],[21,3,22,4],[20,0,20,2],[21,5,22,6],[25,3,25,4],[21,11,22,11],[25,7,25,8],[26,11,28,11],[26,9,28,10],[25,12,25,13],[23,9,24,10],[23,5,24,6],[39,3,39,4],[14,11,14,13],[1,5,2,11],[3,2,3,4],[3,0,3,1],[19,3,19,4],[16,1,16,2],[14,1,14,2],[10,1,10,2],[12,5,12,6],[13,5,13,6],[15,1,15,2],[17,1,17,2],[5,0,5,1],[5,3,5,6],[5,8,5,9],[8,0,8,2],[12,7,12,10],[13,7,13,10],[7,0,7,1],[7,3,7,6],[7,8,7,9],[10,5,10,6],[8,3,8,13],[9,11,9,13],[10,7,10,10]]}
[]
[null,"THIS BOX FOR AUDITOR'S USE ONLY              ",null,null,null,"COUNTY OF SANTA CRUZ",null,null,null,null,null,null,null,"CLAIMANT",null,{"$f":"+Header!B3","v":0}]
["    VOUCHER NUMBER",null,"PAYMENT DATE"]
[null,null,null,null,null,null,null,null,"TRAVEL REIMBURSEMENT",null,null,null,null,"WORKSITE",null,{"$f":"+Header!B4","v":0}]
[null,null,null,null,null,null,null,null,null,null,null,null,null,"DEPT",null,{"$f":"+Header!B5","v":"HSA"},null,"PHONE",{"$f":"+Header!B6","v":0}]
["VENDOR NUMBER / SUFFIX",null,"1 CK","DOCUMENT AMOUNT **",null,null,null,"LNS","T/C HASH"]
[null,null,null,null,null,null,null,null,null,null,null,null,null,null,null,null,null,"PHONE"]
[{"$f":"IF(LEN(Header!B7)=4,CONCATENATE(60,Header!B7,\"     \",\"(tab)  01\"),IF(LEN(Header!B7)=5,CONCATENATE(6,Header!B7,\"     \",\"(tab)  01\"),\"\"))","v":""},null,null,{"$f":"+B18","v":0},null,null,null,{"$f":"COUNT(D11:E17,B17)-1","v":0},{"$f":"+H8*150+(IF(B17=0,0,49))","v":0},null,null,null,null,"Reviewed By",null,null,null,"PHONE"]
["DESCRIPTION - INDICATE MONTH                      (& purpose) OF TRAVEL >>>>>",null,null,{"$f":"INSTRUCTIONS!H19","v":0}]
["T/C","AMOUNT",null,"GL KEY",null,"GL OBJECT",null,"JL KEY",null,null,null,"DOC REF",null,null,"     GL OBJECT TITLE:"]
[150,{"$f":"SUM(D38:L39)","v":0},null,{"$f":"IF(B11=0,\"\",+Header!$B$10)","v":""},null,62922,null,{"$f":"IF(B11=0,\"\",Header!$B$11)","v":""},null,null,null,null,null,null,"     LODGING-INCLUDING TAXES",null,null,"Attach Receipts If Amount                                  Exceeds Per Diem"]
[150,{"$f":"SUM(D35:L36)+SUM(D37:L37)","v":0},null,{"$f":"IF(B12=0,\"\",+Header!$B$10)","v":""},null,62924,null,{"$f":"IF(B12=0,\"\",Header!$B$11)","v":""},null,null,null,null,null,null,"     MEALS-and overnight incidental"]
[150,{"$f":"IF('Form Back'!K24=0,+'Form Back'!K27,'Form Back'!K24)","v":0},null,{"$f":"IF(B13=0,\"\",+Header!$B$10)","v":""},null,62926,null,{"$f":"IF(B13=0,\"\",Header!$B$11)","v":""},null,null,null,null,null,null,"     MILEAGE (From Reverse Side)"]
[150,{"$f":"'misc. entries'!Y22","v":0},null,{"$f":"IF(B14=0,\"\",+Header!$B$10)","v":""},null,62928,null,{"$f":"IF(B14=0,\"\",Header!$B$11)","v":""},null,null,null,null,null,null,"     OTHER (Explain on Reverse Side)"]
[150,{"$f":"'Form Back'!K25","v":0},null,{"$f":"IF(B15=0,\"\",+Header!B10)","v":""},null,{"$f":"IF(B15=0,\"\",62926)","v":""},null,{"$f":"IF(B15=0,\"\",Header!$B$12)","v":""},null,null,null,null,null,null,"     DESCR:",{"$f":"IF(B15>0,\"    Mileage with 2nd User Code\",\"\")","v":""}]
[null,{"$f":"SUM(B11:C15)","v":0},null,null,null,null,null,null,null,null,null,null,null,null,"     TOTAL THIS CLAIM (A)"]
[199,{"$f":"+'Per Diems'!M20","v":0},null,{"$f":"IF(B17=0,\"\",+Header!$B$10)","v":""},null,62940,null,null,null,null,null,null,null,null,"     TOTAL ADVANCE (B) See Below*"]
[null,{"$f":"+B16+B17","v":0},null,null,null,null,null,null,null,null,null,null,null,null,"     TOTAL OF A + B (Transfer this amount to AMOUNT** line)"]
[null,{"$f":"+B16-B17","v":0},null,null,null,null,null,null,null,null,null,null,null,null,"     TOTAL REIMBURSEMENT (A - B)"]
["  DATES>>>",null,null,{"$f":"+'Per Diems'!C25","v":"00:00:00"},null,{"$f":"'Per Diems'!D25","v":"00:00:00"},null,{"$f":"'Per Diems'!E25","v":"00:00:00"},null,{"$f":"'Per Diems'!F25","v":"00:00:00"},null,{"$f":"'Per Diems'!G25","v":"00:00:00"},null,null,"*Accounting for Travel Advance - The amount in line (B) must be less than or equal to line (A).  Any amount greater than (A) must be refunded to the County by personal check or cash.  This amount must accompany the travel claim form."]
["County of Travel",null,null,{"$f":"IF(VLOOKUP('Per Diems'!AA3,PDS,2)='In State'!B6,VLOOKUP('Per Diems'!X3,OOS,2),VLOOKUP('Per Diems'!AA3,PDS,2))","v":" "}]
["City of Travel",null,null,{"$f":"IF(VLOOKUP('Per Diems'!AA3,PDS,2)='In State'!B6,VLOOKUP('Per Diems'!X3,OOS,3),VLOOKUP('Per Diems'!AA3,PDS,3))","v":" "}]
[null,null,null,{"$f":"VLOOKUP('Per Diems'!AA5,PDS,2)","v":{"$error":"#N/A"}}]
["Time of Departure",null,null,{"$f":"+'Per Diems'!B12","v":"00:00:00"},null,null,null,null,null,null,null,null,null,null,"SIGNATURES - SEE CERTIFICATIONS ON REVERSE SIDE"]
[null,null,null,null,null,null,null,null,null,null,null,null,null,null,"CLAIMANT",null,null,null,"DATE"]
["Time of Return",null,null,{"$f":"IF('Per Diems'!$B$8='Per Diems'!$B$10,+'Per Diems'!$B$14,\"\")","v":"00:00:00"},null,{"$f":"IF('Per Diems'!$B$8='Per Diems'!$B$10-1,+'Per Diems'!$B$14,\"\")","v":""},null,{"$f":"IF('Per Diems'!$B$8='Per Diems'!$B$10-2,+'Per Diems'!$B$14,\"\")","v":""},null,{"$f":"IF('Per Diems'!$B$8='Per Diems'!$B$10-3,+'Per Diems'!$B$14,\"\")","v":""},null,{"$f":"IF('Per Diems'!$B$8='Per Diems'!$B$10-4,+'Per Diems'!$B$14,\"\")","v":""}]
["Meals-Breakfast",null,null,{"$f":"'Per Diems'!C26","v":0},null,{"$f":"'Per Diems'!D26","v":0},null,{"$f":"'Per Diems'!E26","v":0},null,{"$f":"'Per Diems'!F26","v":0},null,{"$f":"'Per Diems'!G26","v":0},null,null,"Supervisor",null,null,null,"DATE"]
[]
[]
["Meals-Lunch",null,null,{"$f":"'Per Diems'!C27","v":0},null,{"$f":"'Per Diems'!D27","v":0},null,{"$f":"'Per Diems'!E27","v":0},null,{"$f":"'Per Diems'!F27","v":0},null,{"$f":"'Per Diems'!G27","v":0}]
[null,null,null,null,null,null,null,null,null,null,null,null,null,null,"DEPARTMENT HEAD                                                                                   By:",null,null,null,"DATE"]
["Meals-Dinner",null,null,{"$f":"'Per Diems'!C28","v":0},null,{"$f":"'Per Diems'!D28","v":0},null,{"$f":"'Per Diems'!E28","v":0},null,{"$f":"'Per Diems'!F28","v":0},null,{"$f":"'Per Diems'!G28","v":0}]
[]
["$5 Incidentals (overnight only)",null,null,{"$f":"IF(F20=\"\",0,IF(F20=D20+1,5,0))","v":0},null,{"$f":"IF(H20=\"\",0,IF(H20=F20+1,5,0))","v":0},null,{"$f":"IF(J20=\"\",0,IF(J20=H20+1,5,0))","v":0},null,{"$f":"IF(L20=\"\",0,IF(L20=J20+1,5,0))","v":0},null,0,"Total Taxable   Per Diem",null,"CAMS Pre-Audit by A/C",null,null,null,"DATE"]
["Per Diem: Overnight",null,null,{"$f":"IF(F20=\"\",0,IF(F20=D20+1,+D27+D30+D32+D34,0))","v":0},null,{"$f":"IF(F20=\"no trip\",0,IF(F20=D20+1,F27+F30+F32+F34,0))","v":0},null,{"$f":"IF(H20=F20+1,SUM(H27:I34),0)","v":0},null,{"$f":"IF(J20=H20+1,J27+J30+J32+J34,0)","v":0},null,{"$f":"IF(L20=0,0,IF(L20=J20+1,+L27+L30+L32+L34,0))","v":0}]
[null,null,null,null,null,null,null,null,null,null,null,null,null,null,"Keyed by DPW/AC",null,null,null,"DATE"]
["Per Diem: Taxable: No Overnight",null,null,{"$f":"IF(F20=0,+D27+D30+D32,IF(F20=D20+1,0,0))","v":0},null,{"$f":"IF(F20=0,0,IF(F20=D20+1,0,+F27+F30+F32))","v":0},null,{"$f":"IF(H20=0,0,IF(H20=F20+1,0,+H27+H30+H32))","v":0},null,{"$f":"IF(J20=0,0,IF(J20=\"\",0,IF(J20=H20+1,0,+J27+J30+J32)))","v":0},null,{"$f":"IF(L20=0,0,IF(L20=J20+1,0,+L27+L30+L32))","v":0},{"$f":"+D37+F37+H37+J37+L37","v":0}]
["Lodging-Including Taxes",null,null,{"$f":"'Per Diems'!C30","v":0},null,{"$f":"'Per Diems'!D30","v":0},null,{"$f":"'Per Diems'!E30","v":0},null,{"$f":"'Per Diems'!F30","v":0},null,{"$f":"'Per Diems'!G30","v":0},null,null,"Final audit by AC",null,null,null,"DATE"]
[]
["Total Per Diem",null,null,{"$f":"+D38+D37+D35","v":0},null,{"$f":"+F38+F37+F35","v":0},null,{"$f":"+H38+H37+H35","v":0},null,{"$f":"+J38+J37+J35","v":0},null,{"$f":"+L38+L37+L35","v":0}]
[]
["AUD-26 FOR FAMIS 4.2 (white)  (REV JP 12.2.15)  "]
[null,"S:\\FISCALSHR\\Travel\\Travel Claim Form.xls\\Form Front"]

{"sheet":"Form Back","index":6,"n_rows":45,"n_cols":15,"rows_kept":45,"cut":false,"hidden":false,"merged":[[6,10,6,11],[15,10,15,11],[13,10,13,11],[14,10,14,11],[7,10,7,11],[8,10,8,11],[16,7,16,8],[9,10,9,11],[16,10,16,11],[11,10,11,11],[12,10,12,11],[10,10,10,11],[9,7,9,8],[10,3,10,4],[14,5,14,6],[16,3,16,4],[8,7,8,8],[10,7,10,8],[14,3,14,4],[13,7,13,8],[15,5,15,6],[8,5,8,6],[12,7,12,8],[10,5,10,6],[14,7,14,8],[15,7,15,8],[11,7,11,8],[11,5,11,6],[16,5,16,6],[0,3,0,4],[2,3,2,4],[3,3,3,4],[8,3,8,4],[4,3,4,4],[5,3,5,4],[6,3,6,4],[7,3,7,4],[1,3,1,4],[6,7,6,8],[7,7,7,8],[9,3,9,4],[6,5,6,6],[7,5,7,6],[9,5,9,6],[19,3,19,4],[11,3,11,4],[18,5,18,6],[12,5,12,6],[13,5,13,6],[15,3,15,4],[17,3,17,4],[13,3,13,4],[18,3,18,4],[12,3,12,4],[19,5,19,6],[17,5,17,6],[18,10,18,11],[17,10,17,11],[28,7,29,9],[28,10,29,11],[19,7,19,8],[19,10,19,11],[26,10,26,11],[21,10,21,11],[23,10,23,11],[24,10,24,11],[18,7,18,8],[17,7,17,8],[5,10,5,11],[0,10,1,11],[0,5,1,6],[3,10,3,11],[4,10,4,11],[0,7,0,9],[1,7,1,8],[2,7,2,8],[3,7,3,8],[4,5,4,6],[2,5,2,6],[3,5,3,6],[2,10,2,11],[5,5,5,6],[4,7,4,8],[5,7,5,8]]}
[null,null,null,null,null,"PURPOSE OF TRIP",null,"ODOMETER",null,null,"MILES CLAIMED"]
["DATE","TIME","ORIGIN","DESTINATION",null,null,null,"END",null,"START",null,null,null,"JL Key"]
[{"$f":"+Mileage!A6","v":"00:00:00"},{"$f":"+Mileage!B6","v":"00:00:00"},{"$f":"+Mileage!C6","v":0},{"$f":"+Mileage!D6","v":0},null,{"$f":"+Mileage!E6","v":0},null,{"$f":"+Mileage!F6","v":0},null,{"$f":"+Mileage!G6","v":0},{"$f":"+H3-J3","v":0},null,null,{"$f":"+Mileage!J6","v":0}]
[{"$f":"+Mileage!A7","v":"00:00:00"},{"$f":"+Mileage!B7","v":"00:00:00"},{"$f":"+Mileage!C7","v":0},{"$f":"+Mileage!D7","v":0},null,{"$f":"+Mileage!E7","v":0},null,{"$f":"+Mileage!F7","v":0},null,{"$f":"+Mileage!G7","v":0},{"$f":"+H4-J4","v":0},null,null,{"$f":"+Mileage!J7","v":0}]
[{"$f":"+Mileage!A8","v":"00:00:00"},{"$f":"+Mileage!B8","v":"00:00:00"},{"$f":"+Mileage!C8","v":0},{"$f":"+Mileage!D8","v":0},null,{"$f":"+Mileage!E8","v":0},null,{"$f":"+Mileage!F8","v":0},null,{"$f":"+Mileage!G8","v":0},0,null,null,{"$f":"+Mileage!J8","v":0}]
[{"$f":"+Mileage!A9","v":"00:00:00"},{"$f":"+Mileage!B9","v":"00:00:00"},{"$f":"+Mileage!C9","v":0},{"$f":"+Mileage!D9","v":0},null,{"$f":"+Mileage!E9","v":0},null,{"$f":"+Mileage!F9","v":0},null,{"$f":"+Mileage!G9","v":0},0,null,null,{"$f":"+Mileage!J9","v":0}]
[{"$f":"+Mileage!A10","v":"00:00:00"},{"$f":"+Mileage!B10","v":"00:00:00"},{"$f":"+Mileage!C10","v":0},{"$f":"+Mileage!D10","v":0},null,{"$f":"+Mileage!E10","v":0},null,{"$f":"+Mileage!F10","v":0},null,{"$f":"+Mileage!G10","v":0},0,null,null,{"$f":"+Mileage!J10","v":0}]
[{"$f":"+Mileage!A11","v":"00:00:00"},{"$f":"+Mileage!B11","v":"00:00:00"},{"$f":"+Mileage!C11","v":0},{"$f":"+Mileage!D11","v":0},null,{"$f":"+Mileage!E11","v":0},null,{"$f":"+Mileage!F11","v":0},null,{"$f":"+Mileage!G11","v":0},0,null,null,{"$f":"+Mileage!J11","v":0}]
[{"$f":"+Mileage!A12","v":"00:00:00"},{"$f":"+Mileage!B12","v":"00:00:00"},{"$f":"+Mileage!C12","v":0},{"$f":"+Mileage!D12","v":0},null,{"$f":"+Mileage!E12","v":0},null,{"$f":"+Mileage!F12","v":0},null,{"$f":"+Mileage!G12","v":0},0,null,null,{"$f":"+Mileage!J12","v":0}]
[{"$f":"+Mileage!A13","v":"00:00:00"},{"$f":"+Mileage!B13","v":"00:00:00"},{"$f":"+Mileage!C13","v":0},{"$f":"+Mileage!D13","v":0},null,{"$f":"+Mileage!E13","v":0},null,{"$f":"+Mileage!F13","v":0},null,{"$f":"+Mileage!G13","v":0},0,null,null,{"$f":"+Mileage!J13","v":0}]
[{"$f":"+Mileage!A14","v":"00:00:00"},{"$f":"+Mileage!B14","v":"00:00:00"},{"$f":"+Mileage!C14","v":0},{"$f":"+Mileage!D14","v":0},null,{"$f":"+Mileage!E14","v":0},null,{"$f":"+Mileage!F14","v":0},null,{"$f":"+Mileage!G14","v":0},0,null,null,{"$f":"+Mileage!J14","v":0}]
[{"$f":"+Mileage!A15","v":"00:00:00"},{"$f":"+Mileage!B15","v":"00:00:00"},{"$f":"+Mileage!C15","v":0},{"$f":"+Mileage!D15","v":0},null,{"$f":"+Mileage!E15","v":0},null,{"$f":"+Mileage!F15","v":0},null,{"$f":"+Mileage!G15","v":0},0,null,null,{"$f":"+Mileage!J15","v":0}]
[{"$f":"+Mileage!A16","v":"00:00:00"},{"$f":"+Mileage!B16","v":"00:00:00"},{"$f":"+Mileage!C16","v":0},{"$f":"+Mileage!D16","v":0},null,{"$f":"+Mileage!E16","v":0},null,{"$f":"+Mileage!F16","v":0},null,{"$f":"+Mileage!G16","v":0},0,null,null,{"$f":"+Mileage!J16","v":0}]
[{"$f":"+Mileage!A17","v":"00:00:00"},{"$f":"+Mileage!B17","v":"00:00:00"},{"$f":"+Mileage!C17","v":0},{"$f":"+Mileage!D17","v":0},null,{"$f":"+Mileage!E17","v":0},null,{"$f":"+Mileage!F17","v":0},null,{"$f":"+Mileage!G17","v":0},0,null,null,{"$f":"+Mileage!J17","v":0}]
[{"$f":"+Mileage!A18","v":"00:00:00"},{"$f":"+Mileage!B18","v":"00:00:00"},{"$f":"+Mileage!C18","v":0},{"$f":"+Mileage!D18","v":0},null,{"$f":"+Mileage!E18","v":0},null,{"$f":"+Mileage!F18","v":0},null,{"$f":"+Mileage!G18","v":0},0,null,null,{"$f":"+Mileage!J18","v":0}]
[{"$f":"+Mileage!A19","v":"00:00:00"},{"$f":"+Mileage!B19","v":"00:00:00"},{"$f":"+Mileage!C19","v":0},{"$f":"+Mileage!D19","v":0},null,{"$f":"+Mileage!E19","v":0},null,{"$f":"+Mileage!F19","v":0},null,{"$f":"+Mileage!G19","v":0},0,null,null,{"$f":"+Mileage!J19","v":0}]
[{"$f":"+Mileage!A20","v":"00:00:00"},{"$f":"+Mileage!B20","v":"00:00:00"},{"$f":"+Mileage!C20","v":0},{"$f":"+Mileage!D20","v":0},null,{"$f":"+Mileage!E20","v":0},null,{"$f":"+Mileage!F20","v":0},null,{"$f":"+Mileage!G20","v":0},0,null,null,{"$f":"+Mileage!J20","v":0}]
[{"$f":"+Mileage!A21","v":"00:00:00"},{"$f":"+Mileage!B21","v":"00:00:00"},{"$f":"+Mileage!C21","v":0},{"$f":"+Mileage!D21","v":0},null,{"$f":"+Mileage!E21","v":0},null,{"$f":"+Mileage!F21","v":0},null,{"$f":"+Mileage!G21","v":0},0,null,null,{"$f":"+Mileage!J21","v":0}]
[{"$f":"+Mileage!A22","v":"00:00:00"},{"$f":"+Mileage!B22","v":"00:00:00"},{"$f":"+Mileage!C22","v":0},{"$f":"+Mileage!D22","v":0},null,{"$f":"+Mileage!E22","v":0},null,{"$f":"+Mileage!F22","v":0},null,{"$f":"+Mileage!G22","v":0},0,null,null,{"$f":"+Mileage!J22","v":0}]
[{"$f":"+Mileage!$A$23","v":"00:00:00"},{"$f":"+Mileage!$B$23","v":"00:00:00"},{"$f":"+Mileage!$C$23","v":0},{"$f":"+Mileage!$D$23","v":0},null,{"$f":"+Mileage!$E$23","v":0},null,{"$f":"+Mileage!$F$23","v":0},null,{"$f":"+Mileage!$G$23","v":0},{"$f":"+H20-$J$20","v":0},null,null,{"$f":"+Mileage!J23","v":0}]
[]
["INSTRUCTIONS TO CLAIMANTS",null,null,null,"    REMARKS:",null,null,null,null,"TOTAL                     MILEAGE",{"$f":"SUM(K3:L21)","v":0}]
[null,null,null,null,null,{"$f":"IF(COUNT('misc. entries'!D3:D20)>0,\"See Attached Breakdown\",\"\")","v":""}]
[null,null,null,null,null,null,null,null,null,"JL Key 1",{"$f":"(SUMIF(N3:N20,\"1\",K3:L20)*0.535)+(SUMIF(Extension!N3:N31,\"1\",Extension!K3:L31)*0.535)","v":0}]
[null,null,null,null,null,null,null,null,null,"JL Key 2",{"$f":"(SUMIF(N3:N20,\"2\",K3:L20)*0.535)+(SUMIF(Extension!N3:N31,\"2\",Extension!K3:L31)*0.535)","v":0}]
[]
[null,null,null,null,null,"                     Total Mileage",{"$f":"+K22+Extension!K34","v":0},"X",0.53500000000000003,"per mile = ",{"$f":"+G27*I27","v":0}]
[]
["CERTIFICATION OF SIGNERS",null,null,null,null,null,null,"TOTAL CLAIM FOR MILEAGE",null,null,{"$f":"+K27","v":0},null,null,null,{"$f":"+K29","v":0}]
["By signing the claim on the reverse side of this document, the signators in their respective capacities agree to the following statements:"]
["CLAIMANT"]
["The claimant, under penalty of perjury states:  That the items on the reverse side and the items as therein set out are true and correct; that no part thereof has been heretofore paid, and that the amount therein is justly due,"]
["and that the claim is presented within one year after the last item thereof has accrued.  (Note: Signature required)"]
[]
["DEPARTMENT HEAD"]
["I hereby certify, under penalty of perjury, and upon my own personal knowledge that the articles or services specified on this claim for payment and/or as shown on any attached invoice(s) was(were) necessary and was(were)"]
["ordered by me for use by the department and for the purpose indicated above, that the item(s) billed has been delivered, or services performed of contracted for, except as otherwise indicated in remarks above, that no"]
["part thereof has been previously paid, and that I have not violated any of the provisions of Art.4, Title 1, Div. 4, of the Government Code of th4e State of California."]
[]
["AUDITOR CONTROLLER"]
["I hereby certify that I have examined the facts of the transaction herein set forth as evidenced by the documents attached thereto, or to the original purchase order or contract.  All verifications, certifications, and checking of"]
["computations required by county and government codes are in compliance and this claim in the total amount shown is hereby approved for payment."]
[]
["AUD-26 BACK FOR FAMIS 4.2 (white)(rev JP 12.2.15) "]
["S:\\FISCALSHR\\Travel\\Travel Claim Form.xls\\Form Back"]

{"sheet":"Extension","index":7,"n_rows":36,"n_cols":14,"rows_kept":36,"cut":false,"hidden":false,"merged":[[0,3,0,4],[0,5,0,6],[0,7,0,9],[1,3,1,4],[1,5,1,6],[1,7,1,8],[4,5,4,6],[4,7,4,8],[6,5,6,6],[6,7,6,8],[9,5,9,6],[13,3,13,4],[13,5,13,6],[13,7,13,8],[0,10,1,11],[3,10,3,11],[4,10,4,11],[3,5,3,6],[5,10,5,11],[6,10,6,11],[9,7,9,8],[10,3,10,4],[10,5,10,6],[10,7,10,8],[3,7,3,8],[8,3,8,4],[8,5,8,6],[8,7,8,8],[5,5,5,6],[5,7,5,8],[7,5,7,6],[7,7,7,8],[7,10,7,11],[8,10,8,11],[13,10,13,11],[14,10,14,11],[15,10,15,11],[16,10,16,11],[9,10,9,11],[10,10,10,11],[11,10,11,11],[12,10,12,11],[14,3,14,4],[14,5,14,6],[14,7,14,8],[15,3,15,4],[15,5,15,6],[15,7,15,8],[16,3,16,4],[16,5,16,6],[16,7,16,8],[11,3,11,4],[11,5,11,6],[11,7,11,8],[12,3,12,4],[12,5,12,6],[12,7,12,8],[9,3,9,4],[17,10,17,11],[18,10,18,11],[19,3,19,4],[19,5,19,6],[19,7,19,8],[19,10,19,11],[18,3,18,4],[18,5,18,6],[18,7,18,8],[17,3,17,4],[17,5,17,6],[17,7,17,8],[22,3,22,4],[22,5,22,6],[22,7,22,8],[22,10,22,11],[20,10,20,11],[21,3,21,4],[21,5,21,6],[21,7,21,8],[21,10,21,11],[20,3,20,4],[20,5,20,6],[20,7,20,8],[29,7,29,8],[29,10,29,11],[24,3,24,4],[24,5,24,6],[24,7,24,8],[24,10,24,11],[23,3,23,4],[23,5,23,6],[23,7,23,8],[23,10,23,11],[26,3,26,4],[26,5,26,6],[26,7,26,8],[26,10,26,11],[25,3,25,4],[25,5,25,6],[25,7,25,8],[25,10,25,11],[33,10,33,11],[2,3,2,4],[2,5,2,6],[2,7,2,8],[2,10,2,11],[3,3,3,4],[4,3,4,4],[5,3,5,4],[6,3,6,4],[7,3,7,4],[28,3,28,4],[28,5,28,6],[28,7,28,8],[28,10,28,11],[27,3,27,4],[27,5,27,6],[27,7,27,8],[27,10,27,11],[30,3,30,4],[30,5,30,6],[30,7,30,8],[30,10,30,11],[29,3,29,4],[29,5,29,6]]}
[null,null,null,null,null,null,null,"ODOMETER",null,null,"MILES CLAIMED"]
["DATE","TIME","ORIGIN","DESTINATION",null,"PURPOSE OF TRIP",null,"END",null,"START",null,null,null,"code"]
[{"$f":"+Mileage!A24","v":"00:00:00"},{"$f":"+Mileage!B24","v":"00:00:00"},{"$f":"+Mileage!C24","v":0},{"$f":"+Mileage!D24","v":0},null,{"$f":"+Mileage!E24","v":0},null,{"$f":"+Mileage!F24","v":0},null,{"$f":"+Mileage!G24","v":0},{"$f":"+H3-J3","v":0},null,null,{"$f":"+Mileage!J24","v":0}]
[{"$f":"+Mileage!A25","v":"00:00:00"},{"$f":"+Mileage!B25","v":"00:00:00"},{"$f":"+Mileage!C25","v":0},{"$f":"+Mileage!D25","v":0},null,{"$f":"+Mileage!E25","v":0},null,{"$f":"+Mileage!F25","v":0},null,{"$f":"+Mileage!G25","v":0},{"$f":"+H4-J4","v":0},null,null,{"$f":"+Mileage!J25","v":0}]
[{"$f":"+Mileage!A26","v":"00:00:00"},{"$f":"+Mileage!B26","v":"00:00:00"},{"$f":"+Mileage!C26","v":0},{"$f":"+Mileage!D26","v":0},null,{"$f":"+Mileage!E26","v":0},null,{"$f":"+Mileage!F26","v":0},null,{"$f":"+Mileage!G26","v":0},0,null,null,{"$f":"+Mileage!J26","v":0}]
[{"$f":"+Mileage!A27","v":"00:00:00"},{"$f":"+Mileage!B27","v":"00:00:00"},{"$f":"+Mileage!C27","v":0},{"$f":"+Mileage!D27","v":0},null,{"$f":"+Mileage!E27","v":0},null,{"$f":"+Mileage!F27","v":0},null,{"$f":"+Mileage!G27","v":0},0,null,null,{"$f":"+Mileage!J27","v":0}]
[{"$f":"+Mileage!A28","v":"00:00:00"},{"$f":"+Mileage!B28","v":"00:00:00"},{"$f":"+Mileage!C28","v":0},{"$f":"+Mileage!D28","v":0},null,{"$f":"+Mileage!E28","v":0},null,{"$f":"+Mileage!F28","v":0},null,{"$f":"+Mileage!G28","v":0},0,null,null,{"$f":"+Mileage!J28","v":0}]
[{"$f":"+Mileage!A29","v":"00:00:00"},{"$f":"+Mileage!B29","v":"00:00:00"},{"$f":"+Mileage!C29","v":0},{"$f":"+Mileage!D29","v":0},null,{"$f":"+Mileage!E29","v":0},null,{"$f":"+Mileage!F29","v":0},null,{"$f":"+Mileage!G29","v":0},0,null,null,{"$f":"+Mileage!J29","v":0}]
[{"$f":"+Mileage!A30","v":"00:00:00"},{"$f":"+Mileage!B30","v":"00:00:00"},{"$f":"+Mileage!C30","v":0},{"$f":"+Mileage!D30","v":0},null,{"$f":"+Mileage!E30","v":0},null,{"$f":"+Mileage!F30","v":0},null,{"$f":"+Mileage!G30","v":0},0,null,null,{"$f":"+Mileage!J30","v":0}]
[{"$f":"+Mileage!A31","v":"00:00:00"},{"$f":"+Mileage!B31","v":"00:00:00"},{"$f":"+Mileage!C31","v":0},{"$f":"+Mileage!D31","v":0},null,{"$f":"+Mileage!E31","v":0},null,{"$f":"+Mileage!F31","v":0},null,{"$f":"+Mileage!G31","v":0},0,null,null,{"$f":"+Mileage!J31","v":0}]
[{"$f":"+Mileage!A32","v":"00:00:00"},{"$f":"+Mileage!B32","v":"00:00:00"},{"$f":"+Mileage!C32","v":0},{"$f":"+Mileage!D32","v":0},null,{"$f":"+Mileage!E32","v":0},null,{"$f":"+Mileage!F32","v":0},null,{"$f":"+Mileage!G32","v":0},0,null,null,{"$f":"+Mileage!J32","v":0}]
[{"$f":"+Mileage!A33","v":"00:00:00"},{"$f":"+Mileage!B33","v":"00:00:00"},{"$f":"+Mileage!C33","v":0},{"$f":"+Mileage!D33","v":0},null,{"$f":"+Mileage!E33","v":0},null,{"$f":"+Mileage!F33","v":0},null,{"$f":"+Mileage!G33","v":0},0,null,null,{"$f":"+Mileage!J33","v":0}]
[{"$f":"+Mileage!A34","v":"00:00:00"},{"$f":"+Mileage!B34","v":"00:00:00"},{"$f":"+Mileage!C34","v":0},{"$f":"+Mileage!D34","v":0},null,{"$f":"+Mileage!E34","v":0},null,{"$f":"+Mileage!F34","v":0},null,{"$f":"+Mileage!G34","v":0},0,null,null,{"$f":"+Mileage!J34","v":0}]
[{"$f":"+Mileage!A35","v":"00:00:00"},{"$f":"+Mileage!B35","v":"00:00:00"},{"$f":"+Mileage!C35","v":0},{"$f":"+Mileage!D35","v":0},null,{"$f":"+Mileage!E35","v":0},null,{"$f":"+Mileage!F35","v":0},null,{"$f":"+Mileage!G35","v":0},0,null,null,{"$f":"+Mileage!J35","v":0}]
[{"$f":"+Mileage!A36","v":"00:00:00"},{"$f":"+Mileage!B36","v":"00:00:00"},{"$f":"+Mileage!C36","v":0},{"$f":"+Mileage!D36","v":0},null,{"$f":"+Mileage!E36","v":0},null,{"$f":"+Mileage!F36","v":0},null,{"$f":"+Mileage!G36","v":0},0,null,null,{"$f":"+Mileage!J36","v":0}]
[{"$f":"+Mileage!A37","v":"00:00:00"},{"$f":"+Mileage!B37","v":"00:00:00"},{"$f":"+Mileage!C37","v":0},{"$f":"+Mileage!D37","v":0},null,{"$f":"+Mileage!E37","v":0},null,{"$f":"+Mileage!F37","v":0},null,{"$f":"+Mileage!G37","v":0},0,null,null,{"$f":"+Mileage!J37","v":0}]
[{"$f":"+Mileage!A38","v":"00:00:00"},{"$f":"+Mileage!B38","v":"00:00:00"},{"$f":"+Mileage!C38","v":0},{"$f":"+Mileage!D38","v":0},null,{"$f":"+Mileage!E38","v":0},null,{"$f":"+Mileage!F38","v":0},null,{"$f":"+Mileage!G38","v":0},0,null,null,{"$f":"+Mileage!J38","v":0}]
[{"$f":"+Mileage!A39","v":"00:00:00"},{"$f":"+Mileage!B39","v":"00:00:00"},{"$f":"+Mileage!C39","v":0},{"$f":"+Mileage!D39","v":0},null,{"$f":"+Mileage!E39","v":0},null,{"$f":"+Mileage!F39","v":0},null,{"$f":"+Mileage!G39","v":0},0,null,null,{"$f":"+Mileage!J39","v":0}]
[{"$f":"+Mileage!A40","v":"00:00:00"},{"$f":"+Mileage!B40","v":"00:00:00"},{"$f":"+Mileage!C40","v":0},{"$f":"+Mileage!D40","v":0},null,{"$f":"+Mileage!E40","v":0},null,{"$f":"+Mileage!F40","v":0},null,{"$f":"+Mileage!G40","v":0},0,null,null,{"$f":"+Mileage!J40","v":0}]
[{"$f":"+Mileage!A41","v":"00:00:00"},{"$f":"+Mileage!B41","v":"00:00:00"},{"$f":"+Mileage!C41","v":0},{"$f":"+Mileage!D41","v":0},null,{"$f":"+Mileage!E41","v":0},null,{"$f":"+Mileage!F41","v":0},null,{"$f":"+Mileage!G41","v":0},0,null,null,{"$f":"+Mileage!J41","v":0}]
[{"$f":"+Mileage!A42","v":"00:00:00"},{"$f":"+Mileage!B42","v":"00:00:00"},{"$f":"+Mileage!C42","v":0},{"$f":"+Mileage!D42","v":0},null,{"$f":"+Mileage!E42","v":0},null,{"$f":"+Mileage!F42","v":0},null,{"$f":"+Mileage!G42","v":0},0,null,null,{"$f":"+Mileage!J42","v":0}]
[{"$f":"+Mileage!A43","v":"00:00:00"},{"$f":"+Mileage!B43","v":"00:00:00"},{"$f":"+Mileage!C43","v":0},{"$f":"+Mileage!D43","v":0},null,{"$f":"+Mileage!E43","v":0},null,{"$f":"+Mileage!F43","v":0},null,{"$f":"+Mileage!G43","v":0},0,null,null,{"$f":"+Mileage!J43","v":0}]
[{"$f":"+Mileage!A44","v":"00:00:00"},{"$f":"+Mileage!B44","v":"00:00:00"},{"$f":"+Mileage!C44","v":0},{"$f":"+Mileage!D44","v":0},null,{"$f":"+Mileage!E44","v":0},null,{"$f":"+Mileage!F44","v":0},null,{"$f":"+Mileage!G44","v":0},0,null,null,{"$f":"+Mileage!J44","v":0}]
[{"$f":"+Mileage!A45","v":"00:00:00"},{"$f":"+Mileage!B45","v":"00:00:00"},{"$f":"+Mileage!C45","v":0},{"$f":"+Mileage!D45","v":0},null,{"$f":"+Mileage!E45","v":0},null,{"$f":"+Mileage!F45","v":0},null,{"$f":"+Mileage!G45","v":0},0,null,null,{"$f":"+Mileage!J45","v":0}]
[{"$f":"+Mileage!A46","v":"00:00:00"},{"$f":"+Mileage!B46","v":"00:00:00"},{"$f":"+Mileage!C46","v":0},{"$f":"+Mileage!D46","v":0},null,{"$f":"+Mileage!E46","v":0},null,{"$f":"+Mileage!F46","v":0},null,{"$f":"+Mileage!G46","v":0},0,null,null,{"$f":"+Mileage!J46","v":0}]
[{"$f":"+Mileage!A47","v":"00:00:00"},{"$f":"+Mileage!B47","v":"00:00:00"},{"$f":"+Mileage!C47","v":0},{"$f":"+Mileage!D47","v":0},null,{"$f":"+Mileage!E47","v":0},null,{"$f":"+Mileage!F47","v":0},null,{"$f":"+Mileage!G47","v":0},0,null,null,{"$f":"+Mileage!J47","v":0}]
[{"$f":"+Mileage!A48","v":"00:00:00"},{"$f":"+Mileage!B48","v":"00:00:00"},{"$f":"+Mileage!C48","v":0},{"$f":"+Mileage!D48","v":0},null,{"$f":"+Mileage!E48","v":0},null,{"$f":"+Mileage!F48","v":0},null,{"$f":"+Mileage!G48","v":0},0,null,null,{"$f":"+Mileage!J48","v":0}]
[{"$f":"+Mileage!A49","v":"00:00:00"},{"$f":"+Mileage!B49","v":"00:00:00"},{"$f":"+Mileage!C49","v":0},{"$f":"+Mileage!D49","v":0},null,{"$f":"+Mileage!E49","v":0},null,{"$f":"+Mileage!F49","v":0},null,{"$f":"+Mileage!G49","v":0},0,null,null,{"$f":"+Mileage!J49","v":0}]
[{"$f":"+Mileage!A50","v":"00:00:00"},{"$f":"+Mileage!B50","v":"00:00:00"},{"$f":"+Mileage!C50","v":0},{"$f":"+Mileage!D50","v":0},null,{"$f":"+Mileage!E50","v":0},null,{"$f":"+Mileage!F50","v":0},null,{"$f":"+Mileage!G50","v":0},0,null,null,{"$f":"+Mileage!J50","v":0}]
[{"$f":"+Mileage!A51","v":"00:00:00"},{"$f":"+Mileage!B51","v":"00:00:00"},{"$f":"+Mileage!C51","v":0},{"$f":"+Mileage!D51","v":0},null,{"$f":"+Mileage!E51","v":0},null,{"$f":"+Mileage!F51","v":0},null,{"$f":"+Mileage!G51","v":0},0,null,null,{"$f":"+Mileage!J51","v":0}]
[{"$f":"+Mileage!A52","v":"00:00:00"},{"$f":"+Mileage!B52","v":"00:00:00"},{"$f":"+Mileage!C52","v":0},{"$f":"+Mileage!D52","v":0},null,{"$f":"+Mileage!E52","v":0},null,{"$f":"+Mileage!F52","v":0},null,{"$f":"+Mileage!G52","v":0},0,null,null,{"$f":"+Mileage!J52","v":0}]
[]
[]
["CLAIM OF",{"$f":"Header!B3","v":"00:00:00"},null,null,null,"PAGE    2 ","OF   2",null,"MILEAGE",null,{"$f":"SUM(K3:L31)","v":0}]
[]
["S:\\FISCALSHR\\Travel\\Travel Claim Form.xls\\Extension"]

{"sheet":"In State","index":8,"n_rows":642,"n_cols":19,"rows_kept":642,"cut":false,"hidden":false,"merged":[]}
[]
[]
[]
[]
["CO-CITY","COUNTY","CITY","Tax_Rate","Pre-tax_rate","W/tax_rate","AllMeals","Breakfast","Lunch","Dinner","Incidentals",null,null,null,"Day Tot","Breakfast","Lunch","Dinner","Incidentals"]
[{"$f":"B6&\"  -- \"&C6","v":"    --  "},"  "," ",0,0,0,0,0,0,0,0,null,null,null,31,6,6,16,5]
[{"$f":"B7&\"  -- \"&C7","v":"Alameda  -- Alameda, City"},"Alameda","Alameda, City",0.1,124,{"$f":"+E7+E7*D7","v":136.4},61,{"$f":"VLOOKUP($G7,meals,2)","v":10},{"$f":"VLOOKUP($G7,meals,3)","v":15},{"$f":"VLOOKUP($G7,meals,4)","v":31},{"$f":"VLOOKUP($G7,meals,5)","v":5},null,null,null,35,7,7,18,5]
[{"$f":"B8&\"  -- \"&C8","v":"Alameda  -- Albany"},"Alameda","Albany",0.1,124,{"$f":"+E8+E8*D8","v":136.4},61,{"$f":"VLOOKUP($G8,meals,2)","v":10},{"$f":"VLOOKUP($G8,meals,3)","v":15},{"$f":"VLOOKUP($G8,meals,4)","v":31},{"$f":"VLOOKUP($G8,meals,5)","v":5},null,null,null,39,7,11,18,5]
["Alameda  -- Berkeley","Alameda","Berkeley",0.12,124,138.88,61,10,15,31,5,null,null,null,43,9,9,22,5]
["Alameda  -- Dublin","Alameda","Dublin",0.08,124,133.91999999999999,61,10,15,31,5,null,null,null,44,8,12,21,5]
["Alameda  -- Emeryville","Alameda","Emeryville",0.12,124,138.88,61,10,15,31,5,null,null,null,46,7,11,23,5]
["Alameda  -- Fremont","Alameda","Fremont",0.1,124,136.4,61,10,15,31,5,null,null,null,51,8,12,26,5]
["Alameda  -- Hayward","Alameda","Hayward",8.5000000000000006E-2,124,134.54,61,10,15,31,5,null,null,null,56,9,13,29,5]
["Alameda  -- Livermore","Alameda","Livermore",0.08,124,133.91999999999999,61,10,15,31,5,null,null,null,61,10,15,31,5]
["Alameda  -- Newark","Alameda","Newark",0.1,124,136.4,61,10,15,31,5,null,null,null,66,11,16,34,5]
[{"$f":"B16&\"  -- \"&C16","v":"Alameda  -- Oakland "},"Alameda","Oakland ",0.14000000000000001,124,{"$f":"+E16+E16*D16","v":141.36000000000001},61,10,15,31,5,null,null,null,71,12,18,36,5]
["Alameda  -- Piedmont","Alameda","Piedmont",0,124,124,61,10,15,31,5]
[{"$f":"B18&\"  -- \"&C18","v":"Alameda  -- Pleasanton"},"Alameda","Pleasanton",0.08,124,133.91999999999999,61,10,15,31,5]
["Alameda  -- San Leandro","Alameda","San Leandro",0.1,124,136.4,61,10,15,31,5]
["Alameda  -- Unincorporated","Alameda","Unincorporated",0.1,124,136.4,61,10,15,31,5]
["Alameda  -- Union City","Alameda","Union City",0.1,124,136.4,61,10,15,31,5]
["Alpine  -- Markleeville*","Alpine","Markleeville*",0.1,83,{"$f":"+E22+E22*D22","v":91.3},46,7,11,23,5]
["Alpine  -- Unincorporated","Alpine","Unincorporated",0.1,83,{"$f":"+E23+E23*D23","v":91.3},46,7,11,23,5]
["Amador  -- Amador, City","Amador","Amador, City",0.1,83,91.3,46,7,11,23,5]
["Amador  -- Ione","Amador","Ione",0.06,83,87.98,46,7,11,23,5]
["Amador  -- Jackson*","Amador","Jackson*",0.1,83,91.3,46,7,11,23,5]
["Amador  -- Plymouth","Amador","Plymouth",0.1,83,91.3,46,7,11,23,5]
["Amador  -- Sutter Creek","Amador","Sutter Creek",7.2999999999999995E-2,83,89.058999999999997,46,7,11,23,5]
["Amador  -- Unincorporated","Amador","Unincorporated",0.06,83,87.98,46,7,11,23,5]
["Butte  -- Biggs","Butte","Biggs",0,83,83,46,7,11,23,5]
["Butte  -- Chico","Butte","Chico",0.1,83,91.3,46,7,11,23,5]
["Butte  -- Gridley","Butte","Gridley",0.06,83,87.98,46,7,11,23,5]
["Butte  -- Oroville*","Butte","Oroville*",0.09,83,90.47,46,7,11,23,5]
["Butte  -- Paradise","Butte","Paradise",0.1,83,91.3,46,7,11,23,5]
["Butte  -- Unincorporated","Butte","Unincorporated",0.06,83,87.98,46,7,11,23,5]
["Calaveras  -- Angels Camp","Calaveras","Angels Camp",0.1,83,91.3,46,7,11,23,5]
["Calaveras  -- Unincorporated/  and San Andreas","Calaveras","Unincorporated/  and San Andreas",0.06,83,87.98,46,7,11,23,5]
["Colusa  -- Colusa,  City *","Colusa","Colusa,  City *",0.08,83,89.64,46,7,11,23,5]
["Colusa  -- Unincorporated","Colusa","Unincorporated",0,83,83,46,7,11,23,5]
["Colusa  -- Williams","Colusa","Williams",0.1,83,91.3,46,7,11,23,5]
["Contra Costa  -- Antioch","Contra Costa","Antioch",0.1,122,134.19999999999999,66,11,16,34,5]
["Contra Costa  -- Brentwood","Contra Costa","Brentwood",0.1,122,134.19999999999999,66,11,16,34,5]
["Contra Costa  -- Clayton","Contra Costa","Clayton",0.04,122,126.88,66,11,16,34,5]
["Contra Costa  -- Concord","Contra Costa","Concord",0.1,122,134.19999999999999,66,11,16,34,5]
["Contra Costa  -- Danville","Contra Costa","Danville",6.5000000000000002E-2,122,129.93,66,11,16,34,5]
["Contra Costa  -- El Cerrito","Contra Costa","El Cerrito",0.1,122,134.19999999999999,66,11,16,34,5]
["Contra Costa  -- Hercules","Contra Costa","Hercules",0,122,122,66,11,16,34,5]
["Contra Costa  -- Lafayette","Contra Costa","Lafayette",9.5000000000000001E-2,122,133.59,66,11,16,34,5]
["Contra Costa  -- Martinez*","Contra Costa","Martinez*",0.1,122,134.19999999999999,66,11,16,34,5]
["Contra Costa  -- Moraga","Contra Costa","Moraga",0,122,122,66,11,16,34,5]
["Contra Costa  -- Pinole","Contra Costa","Pinole",0.1,122,134.19999999999999,66,11,16,34,5]
["Contra Costa  -- Pittsburg","Contra Costa","Pittsburg",0.12,122,136.63999999999999,66,11,16,34,5]
["Contra Costa  -- Pleasant Hill","Contra Costa","Pleasant Hill",0.1,122,134.19999999999999,66,11,16,34,5]
["Contra Costa  -- Richmond","Contra Costa","Richmond",0.1,122,134.19999999999999,66,11,16,34,5]
["Contra Costa  -- San Pablo","Contra Costa","San Pablo",0.12,122,136.63999999999999,66,11,16,34,5]
[{"$f":"B56&\"  -- \"&C56","v":"Contra Costa  -- San Ramon"},"Contra Costa","San Ramon",7.2999999999999995E-2,122,{"$f":"+E56+E56*D56","v":130.90600000000001},66,11,16,34,5]
["Contra Costa  -- Unincorporated","Contra Costa","Unincorporated",0.1,122,134.19999999999999,66,11,16,34,5]
["Contra Costa  -- Walnut Creek","Contra Costa","Walnut Creek",8.5000000000000006E-2,122,132.37,66,11,16,34,5]
["Del Norte  -- Crescent City*","Del Norte","Crescent City*",0.1,83,91.3,46,7,11,23,5]
["Del Norte  -- Unincorporated","Del Norte","Unincorporated",0.08,83,89.64,46,7,11,23,5]
[{"$f":"B61&\"  -- \"&C61","v":"El Dorado  -- Placerville*   10/1-11/30"},"El Dorado","Placerville*   10/1-11/30",0.1,114,125.4,71,12,18,36,5]
["El Dorado  -- Placerville*   12/1-3/31","El Dorado","Placerville*   12/1-3/31",0.1,114,125.4,71,12,18,36,5]
[{"$f":"B63&\"  -- \"&C63","v":"El Dorado  -- Placerville*   4/1-6/30"},"El Dorado","Placerville*   4/1-6/30",0.1,114,{"$f":"+E63+E63*D63","v":125.4},71,12,18,36,5]
["El Dorado  -- Placerville*   7/1-9/30","El Dorado","Placerville*   7/1-9/30",0.1,114,125.4,71,12,18,36,5]
[{"$f":"B65&\"  -- \"&C65","v":"El Dorado  -- So. Lake Tahoe-10% Older Hotels  10/1-11/30"},"El Dorado","So. Lake Tahoe-10% Older Hotels  10/1-11/30",0.1,114,138.6,71,12,18,36,5]
["El Dorado  -- So. Lake Tahoe-10% Older Hotels  12/1-3/31","El Dorado","So. Lake Tahoe-10% Older Hotels  12/1-3/31",0.1,114,154,71,12,18,36,5]
[{"$f":"B67&\"  -- \"&C67","v":"El Dorado  -- So. Lake Tahoe-10% Older Hotels  4/1-6/30"},"El Dorado","So. Lake Tahoe-10% Older Hotels  4/1-6/30",0.1,114,130.9,71,12,18,36,5]
["El Dorado  -- So. Lake Tahoe-10% Older Hotels  7/1-9/30","El Dorado","So. Lake Tahoe-10% Older Hotels  7/1-9/30",0.1,114,138.6,71,12,18,36,5]
[{"$f":"B69&\"  -- \"&C69","v":"El Dorado  -- Unincorporated  10/1-11/30"},"El Dorado","Unincorporated  10/1-11/30",0.1,114,125.4,71,12,18,36,5]
["El Dorado  -- Unincorporated  12/1-3/31","El Dorado","Unincorporated  12/1-3/31",0.1,114,125.4,71,12,18,36,5]
[{"$f":"B71&\"  -- \"&C71","v":"El Dorado  -- Unincorporated  4/1-6/30"},"El Dorado","Unincorporated  4/1-6/30",0.1,114,{"$f":"+E71+E71*D71","v":125.4},71,12,18,36,5]
["El Dorado  -- Unincorporated  7/1-9/30","El Dorado","Unincorporated  7/1-9/30",0.1,114,125.4,71,12,18,36,5]
["Fresno  -- Clovis","Fresno","Clovis",0.1,89,97.9,61,10,15,31,5]
["Fresno  -- Coalinga","Fresno","Coalinga",0.06,89,94.34,61,10,15,31,5]
["Fresno  -- Firebaugh","Fresno","Firebaugh",0.04,89,92.56,61,10,15,31,5]
["Fresno  -- Fowler","Fresno","Fowler",0,89,89,61,{"$f":"VLOOKUP($G76,meals,2)","v":10},{"$f":"VLOOKUP($G76,meals,3)","v":15},{"$f":"VLOOKUP($G76,meals,4)","v":31},{"$f":"VLOOKUP($G76,meals,5)","v":5}]
["Fresno  -- Fresno, City*","Fresno","Fresno, City*",0.12,89,99.68,61,10,15,31,5]
[{"$f":"B78&\"  -- \"&C78","v":"Fresno  -- Huron"},"Fresno","Huron",7.0000000000000007E-2,89,95.23,61,10,15,31,5]
["Fresno  -- Kerman","Fresno","Kerman",0,89,89,61,10,15,31,5]
["Fresno  -- Kingsburg","Fresno","Kingsburg",0.12,89,99.68,61,10,15,31,5]
["Fresno  -- Mendota","Fresno","Mendota",0,89,89,61,10,15,31,5]
["Fresno  -- Orange Cove","Fresno","Orange Cove",0,89,89,61,10,15,31,5]
["Fresno  -- Parlier","Fresno","Parlier",0,89,89,61,10,15,31,5]
["Fresno  -- Reedley","Fresno","Reedley",0.08,89,96.12,61,10,15,31,5]
[{"$f":"B85&\"  -- \"&C85","v":"Fresno  -- Sanger"},"Fresno","Sanger",0.04,89,{"$f":"+E85+E85*D85","v":92.56},61,{"$f":"VLOOKUP($G85,meals,2)","v":10},{"$f":"VLOOKUP($G85,meals,3)","v":15},{"$f":"VLOOKUP($G85,meals,4)","v":31},{"$f":"VLOOKUP($G85,meals,5)","v":5}]
[{"$f":"B86&\"  -- \"&C86","v":"Fresno  -- San Joaquin"},"Fresno","San Joaquin",0,89,{"$f":"+E86+E86*D86","v":89},61,{"$f":"VLOOKUP($G86,meals,2)","v":10},{"$f":"VLOOKUP($G86,meals,3)","v":15},{"$f":"VLOOKUP($G86,meals,4)","v":31},{"$f":"VLOOKUP($G86,meals,5)","v":5}]
["Fresno  -- Selma","Fresno","Selma",0.06,89,{"$f":"+E87+E87*D87","v":94.34},61,10,15,31,5]
["Fresno  -- Unincorporated","Fresno","Unincorporated",0,89,89,61,10,15,31,5]
["Glenn  -- Orland","Glenn","Orland",0.1,83,91.3,46,7,11,23,5]
["Glenn  -- Unincorporated","Glenn","Unincorporated",0.05,83,87.15,46,7,11,23,5]
["Glenn  -- Willows*","Glenn","Willows*",0.12,83,92.96,46,7,11,23,5]
["Humbolt  -- Arcata        9/1-6/30","Humbolt","Arcata        9/1-6/30",0.1,91,100.1,61,10,15,31,5]
["Humbolt  -- Arcata        7/1-8/31","Humbolt","Arcata        7/1-8/31",0.1,109,119.9,61,10,15,31,5]
["Humbolt  -- Blue Lake     9/1-6/30","Humbolt","Blue Lake     9/1-6/30",0,91,91,61,10,15,31,5]
["Humbolt  -- Blue Lake    7/1-8/31","Humbolt","Blue Lake    7/1-8/31",0,109,109,61,10,15,31,5]
["Humbolt  -- Eureka*   9/1-6/30","Humbolt","Eureka*   9/1-6/30",0.1,91,100.1,61,10,15,31,5]
["Humbolt  -- Eureka*   7/1-8/31","Humbolt","Eureka*   7/1-8/31",0.1,109,119.9,61,10,15,31,5]
["Humbolt  -- Ferndale  9/1-6/30","Humbolt","Ferndale  9/1-6/30",0.08,91,98.28,61,10,15,31,5]
["Humbolt  -- Ferndale  7/1-8/31","Humbolt","Ferndale  7/1-8/31",0.08,109,117.72,61,10,15,31,5]
["Humbolt  -- Fortuna         9/1-6/30","Humbolt","Fortuna         9/1-6/30",0.1,91,100.1,61,10,15,31,5]
["Humbolt  -- Fortuna         7/1-8/31","Humbolt","Fortuna         7/1-8/31",0.1,109,119.9,61,10,15,31,5]
["Humbolt  -- Rio Dell        9/1-6/30","Humbolt","Rio Dell        9/1-6/30",0.08,91,98.28,61,10,15,31,5]
["Humbolt  -- Rio Dell        7/1-8/31","Humbolt","Rio Dell        7/1-8/31",0.08,109,117.72,61,10,15,31,5]
["Humbolt  -- Trinidad       9/1-6/30","Humbolt","Trinidad       9/1-6/30",0.08,91,98.28,61,10,15,31,5]
["Humbolt  -- Trinidad       7/1-8/31","Humbolt","Trinidad       7/1-8/31",0.08,109,117.72,61,10,15,31,5]
["Humbolt  -- Unincorporated  9/1-6/30","Humbolt","Unincorporated  9/1-6/30",0.1,91,100.1,61,10,15,31,5]
["Humbolt  -- Unincorporated  7/1-8/31","Humbolt","Unincorporated  7/1-8/31",0.1,109,119.9,61,10,15,31,5]
["Imperial  -- Brawley","Imperial","Brawley",0.08,83,89.64,46,7,11,23,5]
["Imperial  -- Calexico","Imperial","Calexico",0.1,83,91.3,46,7,11,23,5]
["Imperial  -- Calipatria","Imperial","Calipatria",0.08,83,89.64,46,7,11,23,5]
["Imperial  -- El Centro*","Imperial","El Centro*",0.1,83,91.3,46,7,11,23,5]
["Imperial  -- Holtville","Imperial","Holtville",0.04,83,86.32,46,7,11,23,5]
["Imperial  -- Imperial","Imperial","Imperial",0.08,83,89.64,46,7,11,23,5]
["Imperial  -- Unincorporated","Imperial","Unincorporated",0.08,83,89.64,46,7,11,23,5]
["Imperial  -- Westmoreland","Imperial","Westmoreland",0.1,83,91.3,46,7,11,23,5]
["Inyo  -- Bishop","Inyo","Bishop",0.12,100,{"$f":"+E116+E116*D116","v":112},46,7,11,23,5]
["Inyo  -- Death Valley * Independence","Inyo","Death Valley * Independence",0.12,100,{"$f":"+E117+E117*D116","v":112},46,7,11,23,5]
["Inyo  -- Unincorporated","Inyo","Unincorporated",0.12,100,{"$f":"+E118+E118*D117","v":112},46,7,11,23,5]
["Kern  -- Arvin","Kern","Arvin",0.1,92,{"$f":"+E119+E119*D119","v":101.2},51,8,12,26,5]
["Kern  -- Bakersfield","Kern","Bakersfield",0.12,92,103.03999999999999,51,8,12,26,5]
["Kern  -- California City","Kern","California City",0.08,92,99.36,51,8,12,26,5]
["Kern  -- Delano","Kern","Delano",0.1,92,101.2,51,8,12,26,5]
["Kern  -- Maricopa","Kern","Maricopa",0.1,92,101.2,51,8,12,26,5]
["Kern  -- McFarland","Kern","McFarland",0.06,92,97.52,51,8,12,26,5]
["Kern  -- Ridgecrest","Kern","Ridgecrest",0.1,92,101.2,51,8,12,26,5]
["Kern  -- Shaffer","Kern","Shaffer",0,92,92,51,8,12,26,5]
["Kern  -- Taft","Kern","Taft",0.1,92,101.2,51,8,12,26,5]
["Kern  -- Tehachapi","Kern","Tehachapi",0.08,92,99.36,51,8,12,26,5]
["Kern  -- Unincorporated","Kern","Unincorporated",0.06,92,{"$f":"+E129+E129*D128","v":99.36},51,8,12,26,5]
["Kern  -- Wasco","Kern","Wasco",0.06,92,{"$f":"+E130+E130*D130","v":97.52},51,8,12,26,5]
["Kings  -- Avenal","Kings","Avenal",0.06,88,93.28,61,10,15,31,5]
["Kings  -- Corcoran","Kings","Corcoran",0.08,88,95.04,61,10,15,31,5]
["Kings  -- Hanford*","Kings","Hanford*",0.08,88,95.04,61,10,15,31,5]
["Kings  -- Lemoore","Kings","Lemoore",0.08,88,95.04,61,10,15,31,5]
["Kings  -- Unincorporated","Kings","Unincorporated",0.1,88,96.8,61,10,15,31,5]
["Lake  -- Clearlake   ","Lake","Clearlake   ",0.09,83,90.47,46,7,11,23,5]
["Lake  -- Lakeport* ","Lake","Lakeport* ",0.1,83,91.3,46,7,11,23,5]
["Lake  -- Unincorporated","Lake","Unincorporated",0.09,83,90.47,46,{"$f":"VLOOKUP($G138,meals,2)","v":7},{"$f":"VLOOKUP($G138,meals,3)","v":11},{"$f":"VLOOKUP($G138,meals,4)","v":23},{"$f":"VLOOKUP($G138,meals,5)","v":5}]
["Lassen  -- Susanville*","Lassen","Susanville*",0.1,83,91.3,46,7,11,23,5]
["Lassen  -- Unincorporated","Lassen","Unincorporated",0.1,83,91.3,46,7,11,23,5]
["Los Angeles  -- Agoura Hills","Los Angeles","Agoura Hills",0.12,138,154.56,71,12,18,36,5]
[{"$f":"B142&\"  -- \"&C142","v":"Los Angeles  -- Alhambra"},"Los Angeles","Alhambra",0.12,138,154.56,71,12,18,36,5]
["Los Angeles  -- Arcadia","Los Angeles","Arcadia",0.1,138,151.80000000000001,71,12,18,36,5]
["Los Angeles  -- Artesia","Los Angeles","Artesia",0.125,138,155.25,71,12,18,36,5]
["Los Angeles  -- Avalon","Los Angeles","Avalon",0.12,138,154.56,71,12,18,36,5]
["Los Angeles  -- Azusa","Los Angeles","Azusa",7.4999999999999997E-2,138,148.35,71,12,18,36,5]
["Los Angeles  -- Baldwin Park","Los Angeles","Baldwin Park",0.1,138,151.80000000000001,71,12,18,36,5]
["Los Angeles  -- Bell","Los Angeles","Bell",3.5000000000000003E-2,138,142.83000000000001,71,12,18,36,5]
["Los Angeles  -- Bell Gardens","Los Angeles","Bell Gardens",0.08,138,149.04,71,12,18,36,5]
["Los Angeles  -- Bellflower","Los Angeles","Bellflower",0.09,138,150.41999999999999,71,12,18,36,5]
["Los Angeles  -- Beverly Hills","Los Angeles","Beverly Hills",0.14000000000000001,138,157.32,71,12,18,36,5]
["Los Angeles  -- Bradbury","Los Angeles","Bradbury",0,138,138,71,12,18,36,5]
["Los Angeles  -- Burbank","Los Angeles","Burbank",0.1,138,151.80000000000001,71,12,18,36,5]
["Los Angeles  -- Calabasas","Los Angeles","Calabasas",0.12,138,154.56,71,12,18,36,5]
["Los Angeles  -- Carson","Los Angeles","Carson",0.09,138,150.41999999999999,71,12,18,36,5]
["Los Angeles  -- Cerritos","Los Angeles","Cerritos",0.06,138,146.28,71,12,18,36,5]
["Los Angeles  -- Claremont","Los Angeles","Claremont",0.1,138,151.80000000000001,71,12,18,36,5]
["Los Angeles  -- Commerce","Los Angeles","Commerce",0.12,138,154.56,71,12,18,36,5]
["Los Angeles  -- Compton","Los Angeles","Compton",7.4999999999999997E-2,138,148.35,71,12,18,36,5]
["Los Angeles  -- Covina","Los Angeles","Covina",0.1,138,151.80000000000001,71,12,18,36,5]
["Los Angeles  -- Cudahy","Los Angeles","Cudahy",0.08,138,149.04,71,12,18,36,5]
["Los Angeles  -- Culver City","Los Angeles","Culver City",0.14000000000000001,138,157.32,71,12,18,36,5]
["Los Angeles  -- Diamond Bar","Los Angeles","Diamond Bar",0.1,138,151.80000000000001,71,12,18,36,5]
["Los Angeles  -- Downey","Los Angeles","Downey",0.09,138,150.41999999999999,71,12,18,36,5]
["Los Angeles  -- Duarte","Los Angeles","Duarte",0.1,138,151.80000000000001,71,12,18,36,5]
["Los Angeles  -- El Monte","Los Angeles","El Monte",0.1,138,151.80000000000001,71,12,18,36,5]
["Los Angeles  -- El Segundo","Los Angeles","El Segundo",0.08,138,149.04,71,12,18,36,5]
["Los Angeles  -- Gardena","Los Angeles","Gardena",0.11,138,153.18,71,12,18,36,5]
["Los Angeles  -- Glendale","Los Angeles","Glendale",0.1,138,151.80000000000001,71,12,18,36,5]
["Los Angeles  -- Glendora","Los Angeles","Glendora",0.06,138,146.28,71,12,18,36,5]
["Los Angeles  -- Hawaiian Garden","Los Angeles","Hawaiian Garden",0.09,138,150.41999999999999,71,12,18,36,5]
["Los Angeles  -- Hawthorne","Los Angeles","Hawthorne",0.12,138,154.56,71,12,18,36,5]
["Los Angeles  -- Hermosa Beach","Los Angeles","Hermosa Beach",0.1,138,151.80000000000001,71,12,18,36,5]
["Los Angeles  -- Hidden Hills","Los Angeles","Hidden Hills",0,138,138,71,12,18,36,5]
["Los Angeles  -- Huntington Park","Los Angeles","Huntington Park",0.05,138,144.9,71,12,18,36,5]
["Los Angeles  -- Industry","Los Angeles","Industry",0.1,138,151.80000000000001,71,12,18,36,5]
["Los Angeles  -- Inglewood","Los Angeles","Inglewood",0.14000000000000001,138,157.32,71,12,18,36,5]
["Los Angeles  -- Irwindale","Los Angeles","Irwindale",0,138,138,71,12,18,36,5]
["Los Angeles  -- La Canada Flintridge","Los Angeles","La Canada Flintridge",0,138,138,71,12,18,36,5]
["Los Angeles  -- La Hambra Heights","Los Angeles","La Hambra Heights",0,138,138,71,12,18,36,5]
["Los Angeles  -- La Miranda","Los Angeles","La Miranda",0.1,138,151.80000000000001,71,12,18,36,5]
["Los Angeles  -- La Puente","Los Angeles","La Puente",0.1,138,151.80000000000001,71,12,18,36,5]
["Los Angeles  -- La Verne","Los Angeles","La Verne",0.1,138,151.80000000000001,71,12,18,36,5]
["Los Angeles  -- Lakewood","Los Angeles","Lakewood",0.08,138,149.04,71,12,18,36,5]
["Los Angeles  -- Lancaster","Los Angeles","Lancaster",7.0000000000000007E-2,138,147.66,71,12,18,36,5]
["Los Angeles  -- Lawndale","Los Angeles","Lawndale",0.09,138,150.41999999999999,71,12,18,36,5]
["Los Angeles  -- Lomita","Los Angeles","Lomita",0.1,138,151.80000000000001,71,12,18,36,5]
["Los Angeles  -- Long Beach","Los Angeles","Long Beach",0.12,138,154.56,71,12,18,36,5]
["Los Angeles  -- Los Angeles, City* ","Los Angeles","Los Angeles, City* ",0.14000000000000001,138,157.32,71,12,18,36,5]
["Los Angeles  -- Lynwood","Los Angeles","Lynwood",0,138,138,71,12,18,36,5]
["Los Angeles  -- Malibu","Los Angeles","Malibu",0.12,138,154.56,71,12,18,36,5]
["Los Angeles  -- Manhatten Beach","Los Angeles","Manhatten Beach",0.1,138,151.80000000000001,71,12,18,36,5]
["Los Angeles  -- Maywood","Los Angeles","Maywood",0.05,138,144.9,71,12,18,36,5]
["Los Angeles  -- Monrovia","Los Angeles","Monrovia",0.1,138,{"$f":"+E194+E194*D194","v":151.80000000000001},71,12,18,36,5]
["Los Angeles  -- Montebello","Los Angeles","Montebello",0.1,138,151.80000000000001,71,12,18,36,5]
["Los Angeles  -- Monterey Park","Los Angeles","Monterey Park",0.12,138,154.56,71,12,18,36,5]
["Los Angeles  -- Norwalk","Los Angeles","Norwalk",0.1,138,151.80000000000001,71,12,18,36,5]
["Los Angeles  -- Palmdale","Los Angeles","Palmdale",0.1,138,151.80000000000001,71,12,18,36,5]
["Los Angeles  -- Palos Verdes Estate","Los Angeles","Palos Verdes Estate",0,138,138,71,12,18,36,5]
["Los Angeles  -- Paramount","Los Angeles","Paramount",0.1,138,151.80000000000001,71,12,18,36,5]
["Los Angeles  -- Pasadena","Los Angeles","Pasadena",0.121,138,154.69800000000001,71,{"$f":"VLOOKUP($G201,meals,2)","v":12},{"$f":"VLOOKUP($G201,meals,3)","v":18},{"$f":"VLOOKUP($G201,meals,4)","v":36},{"$f":"VLOOKUP($G201,meals,5)","v":5}]
["Los Angeles  -- Pico Rivera","Los Angeles","Pico Rivera",0.1,138,151.80000000000001,71,12,18,36,5]
["Los Angeles  -- Pomona","Los Angeles","Pomona",0.1,138,151.80000000000001,71,12,18,36,5]
["Los Angeles  -- Rancho Palos Verdes","Los Angeles","Rancho Palos Verdes",0.1,138,151.80000000000001,71,12,18,36,5]
["Los Angeles  -- Redondo Beach","Los Angeles","Redondo Beach",0.12,138,154.56,71,12,18,36,5]
[{"$f":"B206&\"  -- \"&C206","v":"Los Angeles  -- Rolling Hills"},"Los Angeles","Rolling Hills",0,138,138,71,12,18,36,5]
["Los Angeles  -- Rolling Hills Estate","Los Angeles","Rolling Hills Estate",0.1,138,151.80000000000001,71,12,18,36,5]
["Los Angeles  -- Rosemead","Los Angeles","Rosemead",0.1,138,151.80000000000001,71,12,18,36,5]
["Los Angeles  -- San Dimas","Los Angeles","San Dimas",0.08,138,149.04,71,12,18,36,5]
["Los Angeles  -- San Fernando","Los Angeles","San Fernando",0,138,138,71,12,18,36,5]
["Los Angeles  -- San Gabriel","Los Angeles","San Gabriel",0.1,138,151.80000000000001,71,12,18,36,5]
["Los Angeles  -- San Marino","Los Angeles","San Marino",0,138,138,71,12,18,36,5]
["Los Angeles  -- Santa Clarita","Los Angeles","Santa Clarita",0.1,138,151.80000000000001,71,12,18,36,5]
["Los Angeles  -- Santa Fe Springs","Los Angeles","Santa Fe Springs",0.1,138,151.80000000000001,71,12,18,36,5]
[{"$f":"B215&\"  -- \"&C215","v":"Los Angeles  -- Santa Monica 9/1-12/31"},"Los Angeles","Santa Monica 9/1-12/31",0.14000000000000001,190,{"$f":"+E215+E215*D215","v":216.6},71,12,18,36,5]
[{"$f":"B216&\"  -- \"&C216","v":"Los Angeles  -- Santa Monica 1/31-5/31"},"Los Angeles","Santa Monica 1/31-5/31",0.14000000000000001,202,{"$f":"+E216+E216*D216","v":230.28},71,12,18,36,5]
[{"$f":"B217&\"  -- \"&C217","v":"Los Angeles  -- Santa Monica 6/1-8/31"},"Los Angeles","Santa Monica 6/1-8/31",0.14000000000000001,230,{"$f":"+E217+E217*D217","v":262.2},71,12,18,36,5]
["Los Angeles  -- Sierre Madre","Los Angeles","Sierre Madre",0,138,138,71,12,18,36,5]
["Los Angeles  -- Signal Hill","Los Angeles","Signal Hill",0.09,138,150.41999999999999,71,12,18,36,5]
["Los Angeles  -- South El Monte","Los Angeles","South El Monte",0.08,138,149.04,71,12,18,36,5]
["Los Angeles  -- South Gate","Los Angeles","South Gate",0.08,138,149.04,71,12,18,36,5]
["Los Angeles  -- South Pasadena","Los Angeles","South Pasadena",0,138,138,71,12,18,36,5]
["Los Angeles  -- Temple City","Los Angeles","Temple City",0.1,138,151.80000000000001,71,12,18,36,5]
["Los Angeles  -- Torrance","Los Angeles","Torrance",0.11,138,153.18,71,12,18,36,5]
["Los Angeles  -- Unincorporated","Los Angeles","Unincorporated",0.12,138,154.56,71,12,18,36,5]
["Los Angeles  -- Van Nuys - See L.A.","Los Angeles","Van Nuys - See L.A.",0.14000000000000001,138,157.32,71,12,18,36,5]
["Los Angeles  -- Vernon","Los Angeles","Vernon",0,138,138,71,12,18,36,5]
["Los Angeles  -- Walnut","Los Angeles","Walnut",8.5000000000000006E-2,138,149.72999999999999,71,12,18,36,5]
["Los Angeles  -- West Covina","Los Angeles","West Covina",0.1,138,151.80000000000001,71,12,18,36,5]
["Los Angeles  -- West Hollywood","Los Angeles","West Hollywood",0.125,138,155.25,71,12,18,36,5]
["Los Angeles  -- Westlake Village","Los Angeles","Westlake Village",0.1,138,151.80000000000001,71,12,18,36,5]
["Los Angeles  -- Whittier","Los Angeles","Whittier",0.1,138,151.80000000000001,71,12,18,36,5]
[{"$f":"B233&\"  -- \"&C233","v":"Madera  -- Chowchilla 9/1-5/31"},"Madera","Chowchilla 9/1-5/31",0.1,87,95.7,56,9,13,29,5]
[{"$f":"B234&\"  -- \"&C234","v":"Madera  -- Chowchilla 6/1-8/31"},"Madera","Chowchilla 6/1-8/31",0.1,111,{"$f":"+E234+E234*D234","v":122.1},56,9,13,29,5]
[{"$f":"B235&\"  -- \"&C235","v":"Madera  -- Madera,  City*  9/1-5/31"},"Madera","Madera,  City*  9/1-5/31",0.09,87,94.83,56,9,13,29,5]
[{"$f":"B236&\"  -- \"&C236","v":"Madera  -- Madera,  City*  6/1-8/31"},"Madera","Madera,  City*  6/1-8/31",0.09,111,{"$f":"+E236+E236*D236","v":120.99},56,9,13,29,5]
["Madera  -- Oakhurst   9/1-5/31","Madera","Oakhurst   9/1-5/31",0.09,87,94.83,56,9,13,29,5]
[{"$f":"B238&\"  -- \"&C238","v":"Madera  -- Oakhurst  6/1-8/31"},"Madera","Oakhurst  6/1-8/31",0.09,111,{"$f":"+E238+E238*D238","v":120.99},56,9,13,29,5]
[{"$f":"B239&\"  -- \"&C239","v":"Madera  -- Unincorporated  9/1-5/31"},"Madera","Unincorporated  9/1-5/31",0.09,87,94.83,56,9,13,29,5]
[{"$f":"B240&\"  -- \"&C240","v":"Madera  -- Unincorporated 6/1-8/31"},"Madera","Unincorporated 6/1-8/31",0.09,111,{"$f":"+E240+E240*D240","v":120.99},56,9,13,29,5]
["Marin  -- Belvedere","Marin","Belvedere",0,133,{"$f":"+E241+E241*D241","v":133},56,9,13,29,5]
["Marin  -- Corte Madera","Marin","Corte Madera",0.1,133,{"$f":"+E242+E242*D242","v":146.30000000000001},56,9,13,29,5]
["Marin  -- Fairfax","Marin","Fairfax",0.1,133,146.30000000000001,56,9,13,29,5]
["Marin  -- Larkspur","Marin","Larkspur",0.1,133,146.30000000000001,56,9,13,29,5]
["Marin  -- Mill Valley","Marin","Mill Valley",0.1,133,146.30000000000001,56,9,13,29,5]
["Marin  -- Novato","Marin","Novato",0.1,133,146.30000000000001,56,9,13,29,5]
["Marin  -- Ross","Marin","Ross",0,133,133,56,9,13,29,5]
["Marin  -- San Anselmo","Marin","San Anselmo",0,133,133,56,9,13,29,5]
["Marin  -- San Rafael*","Marin","San Rafael*",0.1,133,146.30000000000001,56,9,13,29,5]
["Marin  -- Sausalito","Marin","Sausalito",0.12,133,148.96,56,9,13,29,5]
["Marin  -- Tiburon","Marin","Tiburon",0.1,133,146.30000000000001,56,9,13,29,5]
["Marin  -- Unincorporated","Marin","Unincorporated",0.1,133,146.30000000000001,56,9,13,29,5]
["Mariposa  -- Uninc./ Mariposa*and Yosemite 12/1-5/31","Mariposa","Uninc./ Mariposa*and Yosemite 12/1-5/31",0.1,113,{"$f":"+E253+E253*D253","v":124.3},71,12,18,36,5]
[{"$f":"B254&\"  -- \"&C254","v":"Mariposa  -- Uninc./ Mariposa*and Yosemite 6/1-8/31"},"Mariposa","Uninc./ Mariposa*and Yosemite 6/1-8/31",0.1,124,{"$f":"+E254+E254*D254","v":136.4},71,12,18,36,5]
[{"$f":"B255&\"  -- \"&C255","v":"Mariposa  -- Uninc./ Mariposa*and Yosemite 9/1-11/30"},"Mariposa","Uninc./ Mariposa*and Yosemite 9/1-11/30",0.1,90,{"$f":"+E255+E255*D255","v":99},71,12,18,36,5]
["Mendocino  -- Fort Brag","Mendocino","Fort Brag",0.1,96,{"$f":"+E256+E256*D256","v":105.6},66,11,16,34,5]
["Mendocino  -- Gualala","Mendocino","Gualala",0,96,{"$f":"+E257+E257*D257","v":96},66,11,16,34,5]
["Mendocino  -- Point Arena","Mendocino","Point Arena",0.1,96,105.6,66,11,16,34,5]
["Mendocino  -- Ukiah*","Mendocino","Ukiah*",0.1,96,105.6,66,11,16,34,5]
["Mendocino  -- Unincorporated","Mendocino","Unincorporated",0.1,96,105.6,66,11,16,34,5]
["Mendocino  -- Willits","Mendocino","Willits",0.09,96,104.64,66,11,16,34,5]
["Merced  -- Altwater","Merced","Altwater",0.08,83,89.64,46,7,11,23,5]
["Merced  -- Dos Palos","Merced","Dos Palos",0,83,83,46,7,11,23,5]
["Merced  -- Gustine","Merced","Gustine",7.0000000000000007E-2,83,88.81,46,7,11,23,5]
["Merced  -- Livingston","Merced","Livingston",0.06,83,87.98,46,7,11,23,5]
["Merced  -- Los Banos","Merced","Los Banos",0.1,83,91.3,46,{"$f":"VLOOKUP($G266,meals,2)","v":7},{"$f":"VLOOKUP($G266,meals,3)","v":11},{"$f":"VLOOKUP($G266,meals,4)","v":23},{"$f":"VLOOKUP($G266,meals,5)","v":5}]
["Merced  -- Merced, City*","Merced","Merced, City*",0.1,83,91.3,46,7,11,23,5]
["Merced  -- Unincorporated","Merced","Unincorporated",0.1,83,91.3,46,7,11,23,5]
["Modoc  -- Alturas*","Modoc","Alturas*",0.1,83,91.3,46,7,11,23,5]
[{"$f":"B270&\"  -- \"&C270","v":"Modoc  -- Unincorporated"},"Modoc","Unincorporated",0.04,83,86.32,46,7,11,23,5]
["Mono  -- Bridgeport  4/1-11/30","Mono","Bridgeport  4/1-11/30",0,102,102,61,10,15,31,5]
["Mono  -- Bridgeport  12/1-3/31","Mono","Bridgeport  12/1-3/31",0,128,128,61,10,15,31,5]
[{"$f":"B273&\"  -- \"&C273","v":"Mono  -- Mammoth Lakes 4/1-11/30"},"Mono","Mammoth Lakes 4/1-11/30",0.13,102,115.26,61,10,15,31,5]
[{"$f":"B274&\"  -- \"&C274","v":"Mono  -- Mammoth Lakes 12/1-3/31"},"Mono","Mammoth Lakes 12/1-3/31",0.13,128,144.63999999999999,61,10,15,31,5]
["Mono  -- Unincorporated 4/1-11/30","Mono","Unincorporated 4/1-11/30",0.12,102,114.24,61,10,15,31,5]
["Mono  -- Unincorporated 12/1-3/31","Mono","Unincorporated 12/1-3/31",0.12,128,143.36000000000001,61,10,15,31,5]
["Monterey  -- Carmel By The Sea 9/1-6/30","Monterey","Carmel By The Sea 9/1-6/30",0.1,131,144.1,71,12,18,36,5]
[{"$f":"B278&\"  -- \"&C278","v":"Monterey  -- Carmel By The Sea 7/1-8/31"},"Monterey","Carmel By The Sea 7/1-8/31",0.1,166,{"$f":"+E278+E278*D278","v":182.6},71,12,18,36,5]
["Monterey  -- Del Rey Oaks 9/1-6/30","Monterey","Del Rey Oaks 9/1-6/30",0,131,131,71,12,18,36,5]
[{"$f":"B280&\"  -- \"&C280","v":"Monterey  -- Del Rey Oaks 7/1-8/31"},"Monterey","Del Rey Oaks 7/1-8/31",0,166,{"$f":"+E280+E280*D280","v":166},71,12,18,36,5]
["Monterey  -- Gonzales 9/1-6/30","Monterey","Gonzales 9/1-6/30",0.08,131,141.47999999999999,71,12,18,36,5]
[{"$f":"B282&\"  -- \"&C282","v":"Monterey  -- Gonzales 7/1-8/31  "},"Monterey","Gonzales 7/1-8/31  ",0.08,166,{"$f":"+E282+E282*D282","v":179.28},71,12,18,36,5]
["Monterey  -- Greenfield 9/1-6/30 ","Monterey","Greenfield 9/1-6/30 ",0.08,131,141.47999999999999,71,12,18,36,5]
[{"$f":"B284&\"  -- \"&C284","v":"Monterey  -- Greenfield 7/1-8/31 "},"Monterey","Greenfield 7/1-8/31 ",0.08,166,{"$f":"+E284+E284*D284","v":179.28},71,12,18,36,5]
["Monterey  -- King City 9/1-6/30 ","Monterey","King City 9/1-6/30 ",0.1,131,144.1,71,12,18,36,5]
[{"$f":"B286&\"  -- \"&C286","v":"Monterey  -- King City 7/1-8/31 "},"Monterey","King City 7/1-8/31 ",0.1,166,{"$f":"+E286+E286*D286","v":182.6},71,12,18,36,5]
["Monterey  -- Marina 9/1-6/30 ","Monterey","Marina 9/1-6/30 ",0.12,131,146.72,71,12,18,36,5]
[{"$f":"B288&\"  -- \"&C288","v":"Monterey  -- Marina 7/1-8/31 "},"Monterey","Marina 7/1-8/31 ",0.12,166,{"$f":"+E288+E288*D288","v":185.92},71,12,18,36,5]
["Monterey  -- Monterey 9/1-6/30  ","Monterey","Monterey 9/1-6/30  ",0.1,131,144.1,71,12,18,36,5]
[{"$f":"B290&\"  -- \"&C290","v":"Monterey  -- Monterey 7/1-8/31 "},"Monterey","Monterey 7/1-8/31 ",0.1,166,{"$f":"+E290+E290*D290","v":182.6},71,12,18,36,5]
["Monterey  -- Pacific Grove 9/1-6/30  ","Monterey","Pacific Grove 9/1-6/30  ",0.1,131,144.1,71,12,18,36,5]
[{"$f":"B292&\"  -- \"&C292","v":"Monterey  -- Pacific Grove 7/1-8/31  "},"Monterey","Pacific Grove 7/1-8/31  ",0.1,166,{"$f":"+E292+E292*D292","v":182.6},71,12,18,36,5]
["Monterey  -- Salinas 9/1-6/30  ","Monterey","Salinas 9/1-6/30  ",0.1,131,144.1,71,12,18,36,5]
[{"$f":"B294&\"  -- \"&C294","v":"Monterey  -- Salinas 7/1-8/31  "},"Monterey","Salinas 7/1-8/31  ",0.1,166,{"$f":"+E294+E294*D294","v":182.6},71,12,18,36,5]
["Monterey  -- Sand City 9/1-6/30  ","Monterey","Sand City 9/1-6/30  ",0,131,131,71,12,18,36,5]
[{"$f":"B296&\"  -- \"&C296","v":"Monterey  -- Sand City 7/1-8/31  "},"Monterey","Sand City 7/1-8/31  ",0,166,{"$f":"+E296+E296*D296","v":166},71,12,18,36,5]
["Monterey  -- Seaside 9/1-6/30  ","Monterey","Seaside 9/1-6/30  ",0.12,131,146.72,71,12,18,36,5]
[{"$f":"B298&\"  -- \"&C298","v":"Monterey  -- Seaside 7/1-8/31  "},"Monterey","Seaside 7/1-8/31  ",0.12,166,{"$f":"+E298+E298*D298","v":185.92},71,12,18,36,5]
["Monterey  -- Soledad 9/1-6/30 ","Monterey","Soledad 9/1-6/30 ",0.09,131,142.79,71,12,18,36,5]
[{"$f":"B300&\"  -- \"&C300","v":"Monterey  -- Soledad 7/1-8/31 "},"Monterey","Soledad 7/1-8/31 ",0.09,166,{"$f":"+E300+E300*D300","v":180.94},71,12,18,36,5]
["Monterey  -- Unincorporated 9/1-6/30 ","Monterey","Unincorporated 9/1-6/30 ",0.105,131,144.755,71,12,18,36,5]
[{"$f":"B302&\"  -- \"&C302","v":"Monterey  -- Unincorporated 7/1-8/31 "},"Monterey","Unincorporated 7/1-8/31 ",0.105,166,{"$f":"+E302+E302*D302","v":183.43},71,12,18,36,5]
["Napa  -- American Canyon  2/1-11/30","Napa","American Canyon  2/1-11/30",0.12,171,{"$f":"+E303+E303*D303","v":191.52},66,11,16,34,5]
["Napa  -- American Canyon  12/1-1/31","Napa","American Canyon  12/1-1/31",0.12,131,{"$f":"+E304+E304*D304","v":146.72},66,11,16,34,5]
["Napa  -- Calistoga  2/1-11/30","Napa","Calistoga  2/1-11/30",0.12,171,191.52,66,11,16,34,5]
["Napa  -- Calistoga  12/1-1/31","Napa","Calistoga  12/1-1/31",0.12,131,146.72,66,11,16,34,5]
["Napa  -- Napa, City*  2/1-11/30","Napa","Napa, City*  2/1-11/30",0.12,171,191.52,66,11,16,34,5]
["Napa  -- Napa, City* 12/1-1/31","Napa","Napa, City* 12/1-1/31",0.12,131,146.72,66,11,16,34,5]
["Napa  -- St. Helena   2/1-11/30","Napa","St. Helena   2/1-11/30",0.12,171,191.52,66,11,16,34,5]
["Napa  -- St. Helena   12/1-1/31","Napa","St. Helena   12/1-1/31",0.12,131,146.72,66,11,16,34,5]
["Napa  -- Unincorporated*   2/1-11/30","Napa","Unincorporated*   2/1-11/30",0.12,171,191.52,66,11,16,34,5]
["Napa  -- Unincorporated*  12/1-1/31","Napa","Unincorporated*  12/1-1/31",0.12,131,146.72,66,11,16,34,5]
[{"$f":"B313&\"  -- \"&C313","v":"Napa  -- Yountville   2/1-11/30"},"Napa","Yountville   2/1-11/30",0.12,171,191.52,66,11,16,34,5]
["Napa  -- Yountville   12/1-1/31","Napa","Yountville   12/1-1/31",0.12,131,146.72,66,11,16,34,5]
[{"$f":"B315&\"  -- \"&C315","v":"Nevada Co.  -- Grass Valley  "},"Nevada Co.","Grass Valley  ",0.1,106,116.6,71,12,18,36,5]
["Nevada Co.  -- Nevada City*  ","Nevada Co.","Nevada City*  ",0.1,106,{"$f":"+E316+E316*D316","v":116.6},71,12,18,36,5]
["Nevada Co.  -- Truckee  ","Nevada Co.","Truckee  ",0.1,106,{"$f":"+E317+E317*D317","v":116.6},71,12,18,36,5]
["Nevada Co.  -- Unincorporated  ","Nevada Co.","Unincorporated  ",0.1,106,{"$f":"+E318+E318*D318","v":116.6},71,12,18,36,5]
["Orange Co.  -- Anaheim","Orange Co.","Anaheim",0.15,138,{"$f":"+E319+E319*D319","v":158.69999999999999},71,{"$f":"VLOOKUP($G319,meals,2)","v":12},{"$f":"VLOOKUP($G319,meals,3)","v":18},{"$f":"VLOOKUP($G319,meals,4)","v":36},{"$f":"VLOOKUP($G319,meals,5)","v":5}]
["Orange Co.  -- Brea","Orange Co.","Brea",0.1,138,{"$f":"+E320+E320*D320","v":151.80000000000001},71,12,18,36,5]
["Orange Co.  -- Buena Park","Orange Co.","Buena Park",0.12,138,154.56,71,12,18,36,5]
["Orange Co.  -- Costa Mesa","Orange Co.","Costa Mesa",0.08,138,149.04,71,12,18,36,5]
["Orange Co.  -- Cypress","Orange Co.","Cypress",0.1,138,151.80000000000001,71,12,18,36,5]
["Orange Co.  -- Dana Point","Orange Co.","Dana Point",0.1,138,151.80000000000001,71,12,18,36,5]
["Orange Co.  -- Fountain Valley","Orange Co.","Fountain Valley",0.09,138,150.41999999999999,71,12,18,36,5]
["Orange Co.  -- Fullerton","Orange Co.","Fullerton",0.1,138,151.80000000000001,71,12,18,36,5]
["Orange Co.  -- Garden Grove","Orange Co.","Garden Grove",0.14499999999999999,138,158.01,71,12,18,36,5]
["Orange Co.  -- Huntington Beach","Orange Co.","Huntington Beach",0.1,138,151.80000000000001,71,12,18,36,5]
["Orange Co.  -- Irvine","Orange Co.","Irvine",0.08,138,149.04,71,12,18,36,5]
["Orange Co.  -- La Habra","Orange Co.","La Habra",0,138,138,71,12,18,36,5]
["Orange Co.  -- La Palma","Orange Co.","La Palma",7.0000000000000007E-2,138,147.66,71,12,18,36,5]
["Orange Co.  -- Laguna Beach","Orange Co.","Laguna Beach",0.1,138,151.80000000000001,71,12,18,36,5]
["Orange Co.  -- Laguna Hills","Orange Co.","Laguna Hills",0.1,138,151.80000000000001,71,12,18,36,5]
["Orange Co.  -- Laguna Niguel","Orange Co.","Laguna Niguel",0.08,138,149.04,71,12,18,36,5]
["Orange Co.  -- Lake Forest","Orange Co.","Lake Forest",0.1,138,151.80000000000001,71,12,18,36,5]
["Orange Co.  -- Los Alamitos","Orange Co.","Los Alamitos",0.08,138,149.04,71,12,18,36,5]
["Orange Co.  -- Mission Viejo","Orange Co.","Mission Viejo",0.08,138,149.04,71,12,18,36,5]
["Orange Co.  -- Newport Beach","Orange Co.","Newport Beach",0.1,138,151.80000000000001,71,12,18,36,5]
[{"$f":"B339&\"  -- \"&C339","v":"Orange Co.  -- Orange, City"},"Orange Co.","Orange, City",0.1,138,151.80000000000001,71,12,18,36,5]
["Orange Co.  -- Placientia","Orange Co.","Placientia",0.1,138,151.80000000000001,71,12,18,36,5]
["Orange Co.  -- San Clemente","Orange Co.","San Clemente",0.1,138,151.80000000000001,71,12,18,36,5]
["Orange Co.  -- San Juan Capistrano","Orange Co.","San Juan Capistrano",0.1,138,151.80000000000001,71,12,18,36,5]
["Orange Co.  -- Santa Ana*","Orange Co.","Santa Ana*",0.11,138,153.18,71,12,18,36,5]
["Orange Co.  -- Seal Beach","Orange Co.","Seal Beach",0.12,138,154.56,71,12,18,36,5]
["Orange Co.  -- Stanton","Orange Co.","Stanton",0.08,138,149.04,71,12,18,36,5]
["Orange Co.  -- Tustin","Orange Co.","Tustin",0.06,138,146.28,71,12,18,36,5]
["Orange Co.  -- Unincorporated","Orange Co.","Unincorporated",0.1,138,151.80000000000001,71,12,18,36,5]
["Orange Co.  -- Villa Park","Orange Co.","Villa Park",0,138,138,71,12,18,36,5]
["Orange Co.  -- Westminster","Orange Co.","Westminster",0.08,138,149.04,71,12,18,36,5]
["Orange Co.  -- Yorba Linda","Orange Co.","Yorba Linda",0.1,138,151.80000000000001,71,12,18,36,5]
["Placer  -- Auburn*","Placer","Auburn*",0.08,87,{"$f":"+E351+E351*D351","v":93.96},61,10,15,31,5]
["Placer  -- Colfax","Placer","Colfax",0.08,87,{"$f":"+E352+E352*D352","v":93.96},61,10,15,31,5]
["Placer  -- Lincoln","Placer","Lincoln",0.1,87,95.7,61,10,15,31,5]
["Placer  -- Loomis","Placer","Loomis",0.08,87,93.96,61,10,15,31,5]
["Placer  -- Rocklin","Placer","Rocklin",0.08,87,93.96,61,10,15,31,5]
["Placer  -- Roseville","Placer","Roseville",0.06,87,92.22,61,10,15,31,5]
["Placer  -- Unincorporated/ Tahoe City","Placer","Unincorporated/ Tahoe City",0.1,87,95.7,61,10,15,31,5]
["Plumas  -- Portola","Plumas","Portola",0.09,83,90.47,46,7,11,23,5]
["Plumas  -- Unincorporated/ Quincy*","Plumas","Unincorporated/ Quincy*",0.09,83,90.47,46,7,11,23,5]
["Riverside  -- Banning   10/1-12/31","Riverside","Banning   10/1-12/31",0.12,110,123.2,71,12,18,36,5]
[{"$f":"B361&\"  -- \"&C361","v":"Riverside  -- Banning   1/1-5/31"},"Riverside","Banning   1/1-5/31",0.12,128,{"$f":"+E361+E361*D361","v":143.36000000000001},71,12,18,36,5]
[{"$f":"B362&\"  -- \"&C362","v":"Riverside  -- Banning   6/1-9/30"},"Riverside","Banning   6/1-9/30",0.12,90,100.8,71,12,18,36,5]
["Riverside  -- Beaumont   10/1-12/31","Riverside","Beaumont   10/1-12/31",0.1,110,121,71,12,18,36,5]
[{"$f":"B364&\"  -- \"&C364","v":"Riverside  -- Beaumont   1/1-5/31"},"Riverside","Beaumont   1/1-5/31",0.1,128,{"$f":"+E364+E364*D364","v":140.80000000000001},71,12,18,36,5]
[{"$f":"B365&\"  -- \"&C365","v":"Riverside  -- Beaumont   6/1-9/31"},"Riverside","Beaumont   6/1-9/31",0.1,90,99,71,12,18,36,5]
["Riverside  -- Blythe  10/1-12/31","Riverside","Blythe  10/1-12/31",0.1,110,121,71,12,18,36,5]
[{"$f":"B367&\"  -- \"&C367","v":"Riverside  -- Blythe  1/1-5/31"},"Riverside","Blythe  1/1-5/31",0.1,128,{"$f":"+E367+E367*D367","v":140.80000000000001},71,12,18,36,5]
[{"$f":"B368&\"  -- \"&C368","v":"Riverside  -- Blythe  6/1-9/30"},"Riverside","Blythe  6/1-9/30",0.1,90,99,71,12,18,36,5]
["Riverside  -- Calimesa  10/1-12/31","Riverside","Calimesa  10/1-12/31",0.1,110,121,71,12,18,36,5]
[{"$f":"B370&\"  -- \"&C370","v":"Riverside  -- Calimesa  1/1-5/31"},"Riverside","Calimesa  1/1-5/31",0.1,128,{"$f":"+E370+E370*D370","v":140.80000000000001},71,12,18,36,5]
[{"$f":"B371&\"  -- \"&C371","v":"Riverside  -- Calimesa  6/1-9/30"},"Riverside","Calimesa  6/1-9/30",0.1,90,99,71,12,18,36,5]
["Riverside  -- Canyon Lake  10/1-12/31","Riverside","Canyon Lake  10/1-12/31",0.1,110,121,71,12,18,36,5]
[{"$f":"B373&\"  -- \"&C373","v":"Riverside  -- Canyon Lake  1/1-5/31"},"Riverside","Canyon Lake  1/1-5/31",0.1,128,{"$f":"+E373+E373*D373","v":140.80000000000001},71,12,18,36,5]
[{"$f":"B374&\"  -- \"&C374","v":"Riverside  -- Canyon Lake 6/1-9/30"},"Riverside","Canyon Lake 6/1-9/30",0.1,90,99,71,12,18,36,5]
["Riverside  -- Cathedral City  10/1-12/31","Riverside","Cathedral City  10/1-12/31",0.12,110,123.2,71,12,18,36,5]
[{"$f":"B376&\"  -- \"&C376","v":"Riverside  -- Cathedral City  1/1-5/31"},"Riverside","Cathedral City  1/1-5/31",0.12,128,{"$f":"+E376+E376*D376","v":143.36000000000001},71,12,18,36,5]
[{"$f":"B377&\"  -- \"&C377","v":"Riverside  -- Cathedral City  6/1-9/30"},"Riverside","Cathedral City  6/1-9/30",0.12,90,100.8,71,12,18,36,5]
[{"$f":"B378&\"  -- \"&C378","v":"Riverside  -- Coachella  10/1-12/31"},"Riverside","Coachella  10/1-12/31",0.09,110,{"$f":"+E378+E378*D378","v":119.9},71,12,18,36,5]
[{"$f":"B379&\"  -- \"&C379","v":"Riverside  -- Coachella  1/1-5/31"},"Riverside","Coachella  1/1-5/31",0.09,128,{"$f":"+E379+E379*D379","v":139.52000000000001},71,12,18,36,5]
[{"$f":"B380&\"  -- \"&C380","v":"Riverside  -- Coachella  6/1-9/30"},"Riverside","Coachella  6/1-9/30",0.09,90,{"$f":"+E380+E380*D380","v":98.1},71,12,18,36,5]
["Riverside  -- Corona  10/1-12/31","Riverside","Corona  10/1-12/31",0.1,110,121,71,12,18,36,5]
[{"$f":"B382&\"  -- \"&C382","v":"Riverside  -- Corona  1/1-5/31"},"Riverside","Corona  1/1-5/31",0.1,128,{"$f":"+E382+E382*D382","v":140.80000000000001},71,12,18,36,5]
[{"$f":"B383&\"  -- \"&C383","v":"Riverside  -- Corona 6/1-9/30"},"Riverside","Corona 6/1-9/30",0.1,90,99,71,12,18,36,5]
["Riverside  -- Desert Hot Springs  10/1-12/31","Riverside","Desert Hot Springs  10/1-12/31",0.12,110,123.2,71,12,18,36,5]
["Riverside  -- Desert Hot Springs  1/1-5/31","Riverside","Desert Hot Springs  1/1-5/31",0.12,128,143.36000000000001,71,{"$f":"VLOOKUP($G385,meals,2)","v":12},{"$f":"VLOOKUP($G385,meals,3)","v":18},{"$f":"VLOOKUP($G385,meals,4)","v":36},{"$f":"VLOOKUP($G385,meals,5)","v":5}]
["Riverside  -- Desert Hot Springs 6/1-9/30","Riverside","Desert Hot Springs 6/1-9/30",0.12,90,{"$f":"+E386+E386*D386","v":100.8},71,12,18,36,5]
["Riverside  -- Hemet  10/1-12/31","Riverside","Hemet  10/1-12/31",0.1,110,{"$f":"+E387+E387*D387","v":121},71,12,18,36,5]
["Riverside  -- Hemet  1/1-5/31","Riverside","Hemet  1/1-5/31",0.1,128,{"$f":"+E388+E388*D388","v":140.80000000000001},71,12,18,36,5]
["Riverside  -- Hemet  6/1-9/30","Riverside","Hemet  6/1-9/30",0.1,90,{"$f":"+E389+E389*D389","v":99},71,12,18,36,5]
["Riverside  -- Indian Wells  10/1-12/31","Riverside","Indian Wells  10/1-12/31",0.1125,110,122.375,71,12,18,36,5]
["Riverside  -- Indian Wells  1/1-5/31","Riverside","Indian Wells  1/1-5/31",0.1125,128,{"$f":"+E391+E391*D391","v":142.4},71,12,18,36,5]
["Riverside  -- Indian Wells  6/1-9/30","Riverside","Indian Wells  6/1-9/30",0.1125,90,100.125,71,12,18,36,5]
["Riverside  -- Indio  10/1-12/31","Riverside","Indio  10/1-12/31",0.1,110,121,71,12,18,36,5]
["Riverside  -- Indio  1/1-5/31","Riverside","Indio  1/1-5/31",0.1,128,{"$f":"+E394+E394*D394","v":140.80000000000001},71,12,18,36,5]
["Riverside  -- Indio  6/1-9/30","Riverside","Indio  6/1-9/30",0.1,90,99,71,12,18,36,5]
["Riverside  -- La Quinta  10/1-12/31","Riverside","La Quinta  10/1-12/31",0.11,110,122.1,71,12,18,36,5]
["Riverside  -- La Quinta  1/1-5/31","Riverside","La Quinta  1/1-5/31",0.11,128,142.08000000000001,71,12,18,36,5]
["Riverside  -- La Quinta  6/1-9/30","Riverside","La Quinta  6/1-9/30",0.11,90,99.9,71,12,18,36,5]
["Riverside  -- Lake Elsinore  10/1-12/31","Riverside","Lake Elsinore  10/1-12/31",0.1,110,121,71,12,18,36,5]
["Riverside  -- Lake Elsinore  1/1-5/31","Riverside","Lake Elsinore  1/1-5/31",0.1,128,{"$f":"+E400+E400*D400","v":140.80000000000001},71,12,18,36,5]
["Riverside  -- Lake Elsinore 6/1-9/30","Riverside","Lake Elsinore 6/1-9/30",0.1,90,99,71,12,18,36,5]
["Riverside  -- Moreno Valley  10/1-12/31","Riverside","Moreno Valley  10/1-12/31",0.08,110,118.8,71,12,18,36,5]
[{"$f":"B403&\"  -- \"&C403","v":"Riverside  -- Moreno Valley  1/1-5/31"},"Riverside","Moreno Valley  1/1-5/31",0.08,128,{"$f":"+E403+E403*D403","v":138.24},71,12,18,36,5]
["Riverside  -- Moreno Valley  6/1-9/30","Riverside","Moreno Valley  6/1-9/30",0.08,90,97.2,71,12,18,36,5]
["Riverside  -- Norco  10/1-12/31","Riverside","Norco  10/1-12/31",0.11,110,122.1,71,12,18,36,5]
["Riverside  -- Norco  1/1-5/31","Riverside","Norco  1/1-5/31",0.11,128,{"$f":"+E406+E406*D406","v":142.08000000000001},71,12,18,36,5]
["Riverside  -- Norco  6/1-9/30","Riverside","Norco  6/1-9/30",0.11,90,99.9,71,12,18,36,5]
["Riverside  -- Palm Desert  10/1-12/31","Riverside","Palm Desert  10/1-12/31",0.09,110,119.9,71,12,18,36,5]
["Riverside  -- Palm Desert  1/1-5/31","Riverside","Palm Desert  1/1-5/31",0.09,128,139.52000000000001,71,12,18,36,5]
["Riverside  -- Palm Desert 6/1-9/30","Riverside","Palm Desert 6/1-9/30",0.09,90,{"$f":"+E410+E410*D410","v":98.1},71,12,18,36,5]
["Riverside  -- Palm Springs  10/1-12/31","Riverside","Palm Springs  10/1-12/31",0.13500000000000001,110,124.85,71,12,18,36,5]
["Riverside  -- Palm Springs  1/1-5/31","Riverside","Palm Springs  1/1-5/31",0.13500000000000001,128,{"$f":"+E412+E412*D412","v":145.28},71,12,18,36,5]
["Riverside  -- Palm Springs  6/1-9/30","Riverside","Palm Springs  6/1-9/30",0.13500000000000001,90,102.15,71,12,18,36,5]
["Riverside  -- Perris  10/1-12/31","Riverside","Perris  10/1-12/31",0.1,110,121,71,12,18,36,5]
["Riverside  -- Perris  1/1-5/31","Riverside","Perris  1/1-5/31",0.1,128,{"$f":"+E415+E415*D415","v":140.80000000000001},71,12,18,36,5]
["Riverside  -- Perris 6/1-9/30","Riverside","Perris 6/1-9/30",0.1,90,99,71,12,18,36,5]
["Riverside  -- Rancho Mirage  10/1-12/31","Riverside","Rancho Mirage  10/1-12/31",0.1,110,121,71,12,18,36,5]
["Riverside  -- Rancho Mirage  1/1-5/31","Riverside","Rancho Mirage  1/1-5/31",0.1,128,140.80000000000001,71,12,18,36,5]
["Riverside  -- Rancho Mirage  6/1-9/30","Riverside","Rancho Mirage  6/1-9/30",0.1,90,99,71,12,18,36,5]
["Riverside  -- Riverside, City*  10/1-12/31","Riverside","Riverside, City*  10/1-12/31",0.13,110,124.3,71,12,18,36,5]
["Riverside  -- Riverside, City*  1/1-5/31","Riverside","Riverside, City*  1/1-5/31",0.13,128,144.63999999999999,71,12,18,36,5]
["Riverside  -- Riverside, City* 6/1-9/30","Riverside","Riverside, City* 6/1-9/30",0.13,90,101.7,71,12,18,36,5]
["Riverside  -- San Jacinto  10/1-12/31","Riverside","San Jacinto  10/1-12/31",0.08,110,118.8,71,12,18,36,5]
["Riverside  -- San Jacinto  1/1-5/31","Riverside","San Jacinto  1/1-5/31",0.08,128,138.24,71,12,18,36,5]
["Riverside  -- San Jacinto  6/1-9/30","Riverside","San Jacinto  6/1-9/30",0.08,90,97.2,71,12,18,36,5]
["Riverside  -- Temescula  10/1-12/31","Riverside","Temescula  10/1-12/31",0.08,110,118.8,71,12,18,36,5]
["Riverside  -- Temescula  1/1-5/31","Riverside","Temescula  1/1-5/31",0.08,128,138.24,71,12,18,36,5]
["Riverside  -- Temescula  6/1-9/30","Riverside","Temescula  6/1-9/30",0.08,90,97.2,71,12,18,36,5]
["Riverside  -- Unincorporated  10/1-12/31","Riverside","Unincorporated  10/1-12/31",0.1,110,121,71,12,18,36,5]
["Riverside  -- Unincorporated  1/1-5/31","Riverside","Unincorporated  1/1-5/31",0.1,128,140.80000000000001,71,12,18,36,5]
["Riverside  -- Unincorporated  6/1-9/30","Riverside","Unincorporated  6/1-9/30",0.1,90,99,71,12,18,36,5]
["Sacramento  -- Citrus Hights","Sacramento","Citrus Hights",0.12,107,119.84,61,10,15,31,5]
["Sacramento  -- Folsom","Sacramento","Folsom",0.08,107,115.56,61,10,15,31,5]
["Sacramento  -- Galt","Sacramento","Galt",0.1,107,{"$f":"+E434+E434*D434","v":117.7},61,10,15,31,5]
["Sacramento  -- Isleton","Sacramento","Isleton",0.1,107,117.7,61,10,15,31,5]
["Sacramento  -- Rancho Cordova","Sacramento","Rancho Cordova",0.12,107,{"$f":"+E436+E436*D436","v":119.84},61,10,15,31,5]
[{"$f":"B437&\"  -- \"&C437","v":"Sacramento  -- Sacramento, City*"},"Sacramento","Sacramento, City*",0.12,107,119.84,61,10,15,31,5]
[{"$f":"B438&\"  -- \"&C438","v":"Sacramento  -- Unincorporated"},"Sacramento","Unincorporated",0.12,107,119.84,61,10,15,31,5]
["San Benito  -- Hollister*","San Benito","Hollister*",0.08,83,89.64,46,7,11,23,5]
["San Benito  -- San Juan Bautista","San Benito","San Juan Bautista",0.12,83,92.96,46,7,11,23,5]
["San Benito  -- Unincorporated","San Benito","Unincorporated",0.08,83,89.64,46,7,11,23,5]
["San Bernardino  -- Adelanto 10/1-3/31","San Bernardino","Adelanto 10/1-3/31",0.1,98,107.8,56,9,13,29,5]
[{"$f":"B443&\"  -- \"&C443","v":"San Bernardino  -- Adelanto 4/1-9/30"},"San Bernardino","Adelanto 4/1-9/30",0.1,99,{"$f":"+E443+E443*D443","v":108.9},56,9,13,29,5]
["San Bernardino  -- Apple Valley ","San Bernardino","Apple Valley ",7.0000000000000007E-2,98,104.86,56,9,13,29,5]
[{"$f":"B445&\"  -- \"&C445","v":"San Bernardino  -- Barstow "},"San Bernardino","Barstow ",0.125,98,{"$f":"+E445+E445*D445","v":110.25},56,9,13,29,5]
["San Bernardino  -- Big Bear Lake ","San Bernardino","Big Bear Lake ",0.08,98,105.84,56,9,13,29,5]
[{"$f":"B447&\"  -- \"&C447","v":"San Bernardino  -- Chino "},"San Bernardino","Chino ",0.08,98,{"$f":"+E447+E447*D447","v":105.84},56,9,13,29,5]
[{"$f":"B448&\"  -- \"&C448","v":"San Bernardino  -- Chino Hills "},"San Bernardino","Chino Hills ",0.1,98,{"$f":"+E448+E448*D448","v":107.8},56,9,13,29,5]
[{"$f":"B449&\"  -- \"&C449","v":"San Bernardino  -- Colton "},"San Bernardino","Colton ",0.1,98,{"$f":"+E449+E449*D449","v":107.8},56,9,13,29,5]
["San Bernardino  -- Fontana ","San Bernardino","Fontana ",0.08,98,105.84,56,9,13,29,5]
["San Bernardino  -- Grand Terrace ","San Bernardino","Grand Terrace ",0,98,98,56,9,13,29,5]
["San Bernardino  -- Hesperia ","San Bernardino","Hesperia ",0.1,98,107.8,56,9,13,29,5]
["San Bernardino  -- Highland ","San Bernardino","Highland ",7.0000000000000007E-2,98,104.86,56,9,13,29,5]
[{"$f":"B454&\"  -- \"&C454","v":"San Bernardino  -- Loma Linda "},"San Bernardino","Loma Linda ",0.1,98,{"$f":"+E454+E454*D454","v":107.8},56,9,13,29,5]
["San Bernardino  -- Montclair ","San Bernardino","Montclair ",0.1,98,107.8,56,{"$f":"VLOOKUP($G455,meals,2)","v":9},{"$f":"VLOOKUP($G455,meals,3)","v":13},{"$f":"VLOOKUP($G455,meals,4)","v":29},{"$f":"VLOOKUP($G455,meals,5)","v":5}]
["San Bernardino  -- Needles ","San Bernardino","Needles ",0.1,98,107.8,56,9,13,29,5]
["San Bernardino  -- Ontario ","San Bernardino","Ontario ",0.11799999999999999,98,109.56399999999999,56,9,13,29,5]
["San Bernardino  -- Rancho Cucamonga ","San Bernardino","Rancho Cucamonga ",0.1,98,107.8,56,9,13,29,5]
["San Bernardino  -- Redlands ","San Bernardino","Redlands ",0.1,98,107.8,56,9,13,29,5]
["San Bernardino  -- Rialto ","San Bernardino","Rialto ",0.09,98,106.82,56,9,13,29,5]
["San Bernardino  -- San Bernardino* ","San Bernardino","San Bernardino* ",0.1,98,107.8,56,9,13,29,5]
["San Bernardino  -- Twentynine Palms ","San Bernardino","Twentynine Palms ",0.09,98,106.82,56,9,13,29,5]
["San Bernardino  -- Unincorporated ","San Bernardino","Unincorporated ",7.0000000000000007E-2,98,104.86,56,9,13,29,5]
["San Bernardino  -- Upland ","San Bernardino","Upland ",0.1,98,107.8,56,9,13,29,5]
[{"$f":"B465&\"  -- \"&C465","v":"San Bernardino  -- Victorville "},"San Bernardino","Victorville ",7.0000000000000007E-2,98,{"$f":"+E465+E465*D465","v":104.86},56,9,13,29,5]
["San Bernardino  -- Yucaipa ","San Bernardino","Yucaipa ",7.0000000000000007E-2,98,104.86,56,9,13,29,5]
[{"$f":"B467&\"  -- \"&C467","v":"San Bernardino  -- Yucca Valley "},"San Bernardino","Yucca Valley ",7.0000000000000007E-2,98,{"$f":"+E467+E467*D467","v":104.86},56,9,13,29,5]
["San Diego  -- Carlsbad ","San Diego","Carlsbad ",0.1,142,156.19999999999999,71,12,18,36,5]
["San Diego  -- Chula Vista ","San Diego","Chula Vista ",0.1,142,156.19999999999999,71,12,18,36,5]
["San Diego  -- Coronado ","San Diego","Coronado ",0.1,142,156.19999999999999,71,12,18,36,5]
["San Diego  -- Del Mar ","San Diego","Del Mar ",0.13,142,160.46,71,12,18,36,5]
["San Diego  -- El Cajon ","San Diego","El Cajon ",0.1,142,156.19999999999999,71,12,18,36,5]
["San Diego  -- Encinitas ","San Diego","Encinitas ",0.1,142,156.19999999999999,71,12,18,36,5]
["San Diego  -- Escondido ","San Diego","Escondido ",0.1,142,156.19999999999999,71,12,18,36,5]
["San Diego  -- Imperial Beach ","San Diego","Imperial Beach ",0.1,142,156.19999999999999,71,12,18,36,5]
["San Diego  -- La Mesa ","San Diego","La Mesa ",0.1,142,156.19999999999999,71,12,18,36,5]
["San Diego  -- Lemon Grove ","San Diego","Lemon Grove ",0.06,142,150.52000000000001,71,12,18,36,5]
["San Diego  -- National City ","San Diego","National City ",0.1,142,156.19999999999999,71,12,18,36,5]
["San Diego  -- Oceanside ","San Diego","Oceanside ",0.1,142,156.19999999999999,71,12,18,36,5]
["San Diego  -- Poway ","San Diego","Poway ",0.1,142,156.19999999999999,71,12,18,36,5]
["San Diego  -- San Diego, City* ","San Diego","San Diego, City* ",0.105,142,156.91,71,12,18,36,5]
["San Diego  -- San Marcos ","San Diego","San Marcos ",0.1,142,156.19999999999999,71,12,18,36,5]
["San Diego  -- Santee ","San Diego","Santee ",0.1,142,156.19999999999999,71,12,18,36,5]
["San Diego  -- Solana Beach ","San Diego","Solana Beach ",0.12,142,159.04,71,12,18,36,5]
["San Diego  -- Unincorporated ","San Diego","Unincorporated ",0.09,142,154.78,71,{"$f":"VLOOKUP($G485,meals,2)","v":12},{"$f":"VLOOKUP($G485,meals,3)","v":18},{"$f":"VLOOKUP($G485,meals,4)","v":36},{"$f":"VLOOKUP($G485,meals,5)","v":5}]
["San Diego  -- Vista ","San Diego","Vista ",0.1,142,156.19999999999999,71,12,18,36,5]
["San Francisco  -- SF City & County 9/1-10/31","San Francisco","SF City & County 9/1-10/31",0.14000000000000001,251,286.14,71,12,18,36,5]
["San Francisco  -- SF City & County 11/1-12/31","San Francisco","SF City & County 11/1-12/31",0.14000000000000001,209,238.26,71,12,18,36,5]
[{"$f":"B489&\"  -- \"&C489","v":"San Francisco  -- SF City & County 1/1-8/31"},"San Francisco","SF City & County 1/1-8/31",0.14000000000000001,219,{"$f":"+E489+E489*D489","v":249.66},71,12,18,36,5]
["San Joaquin  -- Escalon","San Joaquin","Escalon",0.1,93,{"$f":"+E490+E490*D490","v":102.3},46,7,11,23,5]
[{"$f":"B491&\"  -- \"&C491","v":"San Joaquin  -- Lathrop"},"San Joaquin","Lathrop",0.09,93,{"$f":"+E491+E491*D491","v":101.37},46,7,11,23,5]
["San Joaquin  -- Lodi","San Joaquin","Lodi",0.06,93,{"$f":"+E492+E492*D492","v":98.58},46,7,11,23,5]
["San Joaquin  -- Manteca","San Joaquin","Manteca",0.09,93,101.37,46,7,11,23,5]
["San Joaquin  -- Ripon","San Joaquin","Ripon",0.1,93,102.3,46,7,11,23,5]
["San Joaquin  -- Stockton*","San Joaquin","Stockton*",0.08,93,100.44,46,7,11,23,5]
["San Joaquin  -- Tracy","San Joaquin","Tracy",0.1,93,102.3,46,7,11,23,5]
["San Joaquin  -- Unincorporated","San Joaquin","Unincorporated",0.08,93,100.44,46,7,11,23,5]
["San Luis Obispo  -- Arroyo Grande  ","San Luis Obispo","Arroyo Grande  ",0.1,111,{"$f":"+E498+E498*D498","v":122.1},66,11,16,34,5]
["San Luis Obispo  -- Atascadero  ","San Luis Obispo","Atascadero  ",0.1,111,{"$f":"+E499+E499*D499","v":122.1},66,11,16,34,5]
["San Luis Obispo  -- El Paso De Robles  ","San Luis Obispo","El Paso De Robles  ",0.1,111,122.1,66,11,16,34,5]
["San Luis Obispo  -- Grover Beach City ","San Luis Obispo","Grover Beach City ",0.1,111,122.1,66,11,16,34,5]
[{"$f":"B502&\"  -- \"&C502","v":"San Luis Obispo  -- Morro Bay  "},"San Luis Obispo","Morro Bay  ",0.1,111,122.1,66,11,16,34,5]
["San Luis Obispo  -- Pismo Beach  ","San Luis Obispo","Pismo Beach  ",0.1,111,122.1,66,11,16,34,5]
["San Luis Obispo  -- San Luis Obispo, City*  ","San Luis Obispo","San Luis Obispo, City*  ",0.1,111,122.1,66,11,16,34,5]
["San Luis Obispo  -- Shell Beach (area)  ","San Luis Obispo","Shell Beach (area)  ",0.1,111,122.1,66,11,16,34,5]
["San Luis Obispo  -- Unincorporated  ","San Luis Obispo","Unincorporated  ",0.09,111,120.99,66,11,16,34,5]
["San Mateo  -- Atherton","San Mateo","Atherton",0,155,{"$f":"+E507+E507*D507","v":155},61,10,15,31,5]
[{"$f":"B508&\"  -- \"&C508","v":"San Mateo  -- Belmont "},"San Mateo","Belmont ",0.1,155,{"$f":"+E508+E508*D508","v":170.5},61,10,15,31,5]
["San Mateo  -- Brisbane","San Mateo","Brisbane",0.12,155,{"$f":"+E509+E509*D509","v":173.6},61,10,15,31,5]
["San Mateo  -- Burlingame","San Mateo","Burlingame",0.12,155,173.6,61,10,15,31,5]
["San Mateo  -- Colma","San Mateo","Colma",0,155,155,61,10,15,31,5]
["San Mateo  -- Daly City","San Mateo","Daly City",0.1,155,170.5,61,10,15,31,5]
["San Mateo  -- East Palo Alto","San Mateo","East Palo Alto",0.12,155,173.6,61,10,15,31,5]
[{"$f":"B514&\"  -- \"&C514","v":"San Mateo  -- Foster City "},"San Mateo","Foster City ",9.5000000000000001E-2,155,{"$f":"+E514+E514*D514","v":169.72499999999999},61,10,15,31,5]
["San Mateo  -- Half Moon Bay","San Mateo","Half Moon Bay",0.12,155,173.6,61,10,15,31,5]
["San Mateo  -- Hillsborough","San Mateo","Hillsborough",0,155,155,61,10,15,31,5]
["San Mateo  -- Menlo Park","San Mateo","Menlo Park",0.12,155,173.6,61,10,15,31,5]
["San Mateo  -- Millbrae","San Mateo","Millbrae",0.12,155,173.6,61,10,15,31,5]
["San Mateo  -- Pacifica","San Mateo","Pacifica",0.12,155,173.6,61,10,15,31,5]
["San Mateo  -- Portola Valley","San Mateo","Portola Valley",0,155,155,61,10,15,31,5]
["San Mateo  -- Redwood City*","San Mateo","Redwood City*",0.12,155,173.6,61,10,15,31,5]
["San Mateo  -- San Bruno","San Mateo","San Bruno",0.12,155,173.6,61,10,15,31,5]
["San Mateo  -- San Carlos","San Mateo","San Carlos",0.1,155,170.5,61,10,15,31,5]
[{"$f":"B524&\"  -- \"&C524","v":"San Mateo  -- San Mateo, City"},"San Mateo","San Mateo, City",0.12,155,{"$f":"+E524+E524*D524","v":173.6},61,10,15,31,5]
["San Mateo  -- So.San Francisco","San Mateo","So.San Francisco",0.1,155,170.5,61,10,15,31,5]
["San Mateo  -- Unincorporated","San Mateo","Unincorporated",0.1,155,170.5,61,10,15,31,5]
["San Mateo  -- Woodside","San Mateo","Woodside",0,155,155,61,10,15,31,5]
["Santa Barbara  -- Buelton  9/1-6/30","Santa Barbara","Buelton  9/1-6/30",0.12,151,{"$f":"+E528+E528*D528","v":169.12},66,11,16,34,5]
["Santa Barbara  -- Buelton  7/1-8/31","Santa Barbara","Buelton  7/1-8/31",0.12,200,{"$f":"+E529+E529*D529","v":224},66,11,16,34,5]
["Santa Barbara  -- Carpinteria  9/1-6/30","Santa Barbara","Carpinteria  9/1-6/30",0.12,151,169.12,66,11,16,34,5]
["Santa Barbara  -- Carpinteria  7/1-8/31","Santa Barbara","Carpinteria  7/1-8/31",0.12,200,224,66,11,16,34,5]
["Santa Barbara  -- Guadalupe  9/1-6/30","Santa Barbara","Guadalupe  9/1-6/30",0,151,151,66,11,16,34,5]
["Santa Barbara  -- Guadalupe  7/1-8/31","Santa Barbara","Guadalupe  7/1-8/31",0,200,200,66,11,16,34,5]
["Santa Barbara  -- Lompoc  9/1-6/30","Santa Barbara","Lompoc  9/1-6/30",0.1,151,166.1,66,11,16,34,5]
["Santa Barbara  -- Lompoc  7/1-8/31","Santa Barbara","Lompoc  7/1-8/31",0.1,200,220,66,11,16,34,5]
[{"$f":"B536&\"  -- \"&C536","v":"Santa Barbara  -- Santa Barbara, City*  9/1-6/30"},"Santa Barbara","Santa Barbara, City*  9/1-6/30",0.12,151,169.12,66,{"$f":"VLOOKUP($G536,meals,2)","v":11},{"$f":"VLOOKUP($G536,meals,3)","v":16},{"$f":"VLOOKUP($G536,meals,4)","v":34},{"$f":"VLOOKUP($G536,meals,5)","v":5}]
["Santa Barbara  -- Santa Barbara, City*  3/30-6/30","Santa Barbara","Santa Barbara, City*  3/30-6/30",0.12,200,224,66,11,16,34,5]
["Santa Barbara  -- Santa Maria  9/1-6/30","Santa Barbara","Santa Maria  9/1-6/30",0.1,151,166.1,66,11,16,34,5]
[{"$f":"B539&\"  -- \"&C539","v":"Santa Barbara  -- Santa Maria  9/1-9/30"},"Santa Barbara","Santa Maria  9/1-9/30",0.1,200,220,66,11,16,34,5]
["Santa Barbara  -- Solvang  9/1-6/30","Santa Barbara","Solvang  9/1-6/30",0.12,151,169.12,66,11,16,34,5]
["Santa Barbara  -- Solvang  7/1-8/31","Santa Barbara","Solvang  7/1-8/31",0.12,200,224,66,11,16,34,5]
["Santa Barbara  -- Unincorporated  9/1-6/30","Santa Barbara","Unincorporated  9/1-6/30",0.1,151,166.1,66,11,16,34,5]
["Santa Barbara  -- Unincorporated  7/1-8/31","Santa Barbara","Unincorporated  7/1-8/31",0.1,200,220,66,11,16,34,5]
["Santa Clara  -- Campbell","Santa Clara","Campbell",0.12,162,{"$f":"+E544+E544*D544","v":181.44},56,9,13,29,5]
["Santa Clara  -- Cupertino","Santa Clara","Cupertino",0.12,162,{"$f":"+E545+E545*D545","v":181.44},56,9,13,29,5]
["Santa Clara  -- Gilroy","Santa Clara","Gilroy",0.09,162,176.58,56,9,13,29,5]
["Santa Clara  -- Los Altos","Santa Clara","Los Altos",0.11,162,179.82,56,9,13,29,5]
["Santa Clara  -- Los Altos Hills","Santa Clara","Los Altos Hills",0,162,162,56,9,13,29,5]
["Santa Clara  -- Los Gatos","Santa Clara","Los Gatos",0.1,162,178.2,56,9,13,29,5]
["Santa Clara  -- Milpitas","Santa Clara","Milpitas",0.1,162,178.2,56,9,13,29,5]
["Santa Clara  -- Monte Sereno","Santa Clara","Monte Sereno",0,162,162,56,9,13,29,5]
["Santa Clara  -- Morgan Hill","Santa Clara","Morgan Hill",0.1,162,178.2,56,9,13,29,5]
["Santa Clara  -- Mountain View","Santa Clara","Mountain View",0.1,162,178.2,56,9,13,29,5]
["Santa Clara  -- Palo Alto","Santa Clara","Palo Alto",0.12,162,181.44,56,9,13,29,5]
["Santa Clara  -- San Jose*","Santa Clara","San Jose*",0.1,162,178.2,56,9,13,29,5]
["Santa Clara  -- Santa Clara, City","Santa Clara","Santa Clara, City",9.5000000000000001E-2,162,177.39,56,9,13,29,5]
["Santa Clara  -- Saratoga","Santa Clara","Saratoga",0.1,162,178.2,56,9,13,29,5]
["Santa Clara  -- Sunnyvale","Santa Clara","Sunnyvale",0.09,162,176.58,56,9,13,29,5]
["Santa Clara  -- Unincorporated","Santa Clara","Unincorporated",0.08,162,174.96,56,9,13,29,5]
["Shasta  -- Anderson","Shasta","Anderson",0.1,89,{"$f":"+E560+E560*D560","v":97.9},61,10,15,31,5]
["Shasta  -- Redding*","Shasta","Redding*",0.1,89,{"$f":"+E561+E561*D561","v":97.9},61,10,15,31,5]
["Shasta  -- Shasta Lake","Shasta","Shasta Lake",0.1,89,97.9,61,10,15,31,5]
["Shasta  -- Unincorporated","Shasta","Unincorporated",0.1,89,97.9,61,10,15,31,5]
["Sierra  -- Loyalton","Sierra","Loyalton",0,83,83,46,7,11,23,5]
["Sierra  -- Unincorporated/ Downieville*","Sierra","Unincorporated/ Downieville*",0.1,83,91.3,46,7,11,23,5]
[{"$f":"B566&\"  -- \"&C566","v":"Siskiyou  -- Dorris"},"Siskiyou","Dorris",0.05,83,87.15,46,7,11,23,5]
["Siskiyou  -- Dunsmuir","Siskiyou","Dunsmuir",0.1,83,91.3,46,7,11,23,5]
["Siskiyou  -- Etna","Siskiyou","Etna",0.06,83,87.98,46,7,11,23,5]
["Siskiyou  -- Fort Jones","Siskiyou","Fort Jones",0,83,83,46,7,11,23,5]
["Siskiyou  -- Montague","Siskiyou","Montague",0,83,83,46,7,11,23,5]
["Siskiyou  -- Mt. Shasta, City","Siskiyou","Mt. Shasta, City",0.1,83,91.3,46,7,11,23,5]
["Siskiyou  -- Tulelake","Siskiyou","Tulelake",0,83,83,46,7,11,23,5]
["Siskiyou  -- Unincorporated","Siskiyou","Unincorporated",0.08,83,89.64,46,7,11,23,5]
["Siskiyou  -- Weed","Siskiyou","Weed",0.1,83,91.3,46,7,11,23,5]
["Siskiyou  -- Yreka*","Siskiyou","Yreka*",0.1,83,91.3,46,7,11,23,5]
["Solano  -- Benecia","Solano","Benecia",0.09,83,90.47,56,9,13,29,5]
["Solano  -- Dixon","Solano","Dixon",0.09,83,90.47,56,9,13,29,5]
["Solano  -- Fairfield*","Solano","Fairfield*",0.1,83,91.3,56,9,13,29,5]
["Solano  -- Rio Vista","Solano","Rio Vista",0.1,83,91.3,56,9,13,29,5]
["Solano  -- Suisun","Solano","Suisun",0,83,83,56,9,13,29,5]
["Solano  -- Unincorporated","Solano","Unincorporated",0,83,83,56,9,13,29,5]
["Solano  -- Vacaville","Solano","Vacaville",0.08,83,{"$f":"+E582+E582*D582","v":89.64},56,9,13,29,5]
["Solano  -- Vallejo","Solano","Vallejo",0.11,83,{"$f":"+E583+E583*D583","v":92.13},56,9,13,29,5]
["Sonoma  -- Cloverdale","Sonoma","Cloverdale",0.1,121,{"$f":"+E584+E584*D584","v":133.1},61,10,15,31,5]
["Sonoma  -- Cotati","Sonoma","Cotati",0.1,121,{"$f":"+E585+E585*D585","v":133.1},61,10,15,31,5]
["Sonoma  -- Healdsburg","Sonoma","Healdsburg",0.12,121,135.52000000000001,61,10,15,31,5]
["Sonoma  -- Petaluma","Sonoma","Petaluma",0.1,121,133.1,61,10,15,31,5]
["Sonoma  -- Rohnert Park","Sonoma","Rohnert Park",0.12,121,135.52000000000001,61,10,15,31,5]
["Sonoma  -- Santa Rosa*","Sonoma","Santa Rosa*",0.09,121,131.88999999999999,61,10,15,31,5]
["Sonoma  -- Sebastopol","Sonoma","Sebastopol",0.1,121,133.1,61,10,15,31,5]
["Sonoma  -- Sonoma, City","Sonoma","Sonoma, City",0.1,121,133.1,61,10,15,31,5]
["Sonoma  -- Unincorporated/Bodega Bay","Sonoma","Unincorporated/Bodega Bay",0.09,121,131.88999999999999,61,10,15,31,5]
["Sonoma  -- Windsor","Sonoma","Windsor",0.12,121,135.52000000000001,61,10,15,31,5]
["Stanislaus  -- Ceres","Stanislaus","Ceres",0.05,85,{"$f":"+E594+E594*D594","v":89.25},51,8,12,26,5]
["Stanislaus  -- Hughson","Stanislaus","Hughson",0,85,{"$f":"+E595+E595*D595","v":85},51,{"$f":"VLOOKUP($G595,meals,2)","v":8},{"$f":"VLOOKUP($G595,meals,3)","v":12},{"$f":"VLOOKUP($G595,meals,4)","v":26},{"$f":"VLOOKUP($G595,meals,5)","v":5}]
["Stanislaus  -- Modesto","Stanislaus","Modesto",0.09,85,92.65,51,8,12,26,5]
["Stanislaus  -- Newman","Stanislaus","Newman",0,85,85,51,8,12,26,5]
["Stanislaus  -- Oakdale","Stanislaus","Oakdale",7.0000000000000007E-2,85,90.95,51,8,12,26,5]
["Stanislaus  -- Patterson","Stanislaus","Patterson",0.08,85,91.8,51,8,12,26,5]
["Stanislaus  -- Riverbank","Stanislaus","Riverbank",0.04,85,88.4,51,8,12,26,5]
["Stanislaus  -- Turlock","Stanislaus","Turlock",0.09,85,92.65,51,8,12,26,5]
["Stanislaus  -- Unincorporated","Stanislaus","Unincorporated",0.08,85,91.8,51,8,12,26,5]
["Stanislaus  -- Waterford","Stanislaus","Waterford",0.08,85,91.8,51,8,12,26,5]
["Sutter  -- Live Oak","Sutter","Live Oak",0,83,83,46,7,11,23,5]
["Sutter  -- Unincorporated","Sutter","Unincorporated",0,83,83,46,7,11,23,5]
["Sutter  -- Yuba City","Sutter","Yuba City",0.1,83,91.3,46,7,11,23,5]
["Tehama  -- Corning","Tehama","Corning",0.1,83,91.3,46,7,11,23,5]
["Tehama  -- Red Bluff","Tehama","Red Bluff",0.1,83,91.3,46,7,11,23,5]
["Tehama  -- Tehama City","Tehama","Tehama City",0,83,83,46,7,11,23,5]
["Tehama  -- Unincorporated","Tehama","Unincorporated",0.08,83,89.64,46,7,11,23,5]
["Trinity  -- Unincorporated/Weaverville","Trinity","Unincorporated/Weaverville",0.05,83,87.15,46,7,11,23,5]
["Tulare  -- Dinuba","Tulare","Dinuba",0.1,88,{"$f":"+E612+E612*D612","v":96.8},61,10,15,31,5]
["Tulare  -- Exeter","Tulare","Exeter",0.08,88,{"$f":"+E613+E613*D613","v":95.04},61,10,15,31,5]
["Tulare  -- Farmersville","Tulare","Farmersville",0,88,88,61,10,15,31,5]
["Tulare  -- Lindsay","Tulare","Lindsay",0.08,88,95.04,61,10,15,31,5]
["Tulare  -- Porterville","Tulare","Porterville",0.08,88,95.04,61,10,15,31,5]
["Tulare  -- Tulare City","Tulare","Tulare City",0.1,88,96.8,61,10,15,31,5]
["Tulare  -- Unincorporated","Tulare","Unincorporated",0.1,88,96.8,61,10,15,31,5]
["Tulare  -- Visalia","Tulare","Visalia",0.1,88,96.8,61,10,15,31,5]
["Tulare  -- Woodlake","Tulare","Woodlake",0,88,88,61,10,15,31,5]
["Tuolumne  -- Sonora","Tuolumne","Sonora",0.1,83,91.3,46,7,11,23,5]
["Tuolumne  -- Unincorporated","Tuolumne","Unincorporated",0.1,83,91.3,46,7,11,23,5]
["Ventura  -- Camarillo","Ventura","Camarillo",0.09,138,150.41999999999999,71,12,18,36,5]
["Ventura  -- Fillmore","Ventura","Fillmore",0.1,138,151.80000000000001,71,12,18,36,5]
["Ventura  -- Moorpark","Ventura","Moorpark",0.1,138,151.80000000000001,71,12,18,36,5]
["Ventura  -- Ojai","Ventura","Ojai",0.1,138,151.80000000000001,71,12,18,36,5]
["Ventura  -- Oxnard","Ventura","Oxnard",0.1,138,151.80000000000001,71,12,18,36,5]
["Ventura  -- Port Hueneme","Ventura","Port Hueneme",0.1,138,151.80000000000001,71,12,18,36,5]
["Ventura  -- San Buenaventura","Ventura","San Buenaventura",0.1,138,151.80000000000001,71,12,18,36,5]
["Ventura  -- Santa Paula","Ventura","Santa Paula",0.1,138,151.80000000000001,71,12,18,36,5]
["Ventura  -- Simi Valley","Ventura","Simi Valley",0.1,138,151.80000000000001,71,12,18,36,5]
["Ventura  -- Thousand Oaks","Ventura","Thousand Oaks",0.1,138,151.80000000000001,71,12,18,36,5]
["Ventura  -- Unincorporated","Ventura","Unincorporated",0.08,138,149.04,71,12,18,36,5]
["Ventura  -- Ventura City","Ventura","Ventura City",0,138,138,71,12,18,36,5]
["Yolo  -- Davis","Yolo","Davis",0.1,108,{"$f":"+E635+E635*D635","v":118.8},51,8,12,26,5]
["Yolo  -- Unincorporated","Yolo","Unincorporated",0.08,108,{"$f":"+E636+E636*D636","v":116.64},51,8,12,26,5]
["Yolo  -- West Sacramento","Yolo","West Sacramento",0.12,108,120.96,51,8,12,26,5]
["Yolo  -- Winters","Yolo","Winters",0.1,108,118.8,51,8,12,26,5]
["Yolo  -- Woodland","Yolo","Woodland",0.11,108,119.88,51,8,12,26,5]
["Yuba  -- Marysville","Yuba","Marysville",0.1,83,91.3,46,7,11,23,5]
["Yuba  -- Unincorporated","Yuba","Unincorporated",0.1,83,91.3,46,7,11,23,5]
["Yuba  -- Wheatland","Yuba","Wheatland",0,83,83,46,7,11,23,5]

{"sheet":"Out of State","index":9,"n_rows":661,"n_cols":18,"rows_kept":661,"cut":false,"hidden":false,"merged":[[0,1,0,5]]}
[null,"Note: Out of State rates are not up-to-date. Please check rates at: http://www.gsa.gov/portal/category/100120"]
[]
[]
[]
[null,"State/City","STATE","CITY","Pre-tax_rate","AllMeals","Breakfast","Lunch","Dinner","Incidentals",null,null,null,"Day Tot","Breakfast","Lunch","Dinner","Incidentals"]
[null,"   --  "," "," ",0,0,0,0,0,0,null,null,null,31,6,6,16,5]
[null,"ALABAMA  -- Conus Rate","Alabama","CONUS",77,46,{"$f":"VLOOKUP($F7,$N$6:$R$17,2)","v":7},{"$f":"VLOOKUP($F7,$N$6:$R$17,3)","v":11},{"$f":"VLOOKUP($F7,$N$6:$R$17,4)","v":23},{"$f":"VLOOKUP($F7,$N$6:$R$17,5)","v":5},{"$f":"E7+F7","v":123},null,null,35,7,7,18,5]
[null,"Alabama - Baldwin (Gulf Shores) (October 1-May 31)","Alabama","Gulf Shores",100.02987,51,8,12,26,5,{"$f":"E8+F8","v":151.02987000000002},null,null,43,9,9,22,5]
[null,"Alabama - Baldwin (Gulf Shores) (June 1-July 31)","Alabama","Gulf Shores",117,51,8,12,26,5,168,null,null,39,7,11,18,5]
[null,"Alabama - Baldwin (Gulf Shores) (Aug 1-Sep 30)","Alabama","Gulf Shores",100,51,8,12,26,5,151,null,null,39,7,11,18,5]
[null,"Alabama - Jefferson and Shelby (Birmingham)","Alabama","Birmingham",86.362124999999992,56,9,13,29,5,142.36212499999999,null,null,46,7,11,23,5]
[null,"Alabama - Madison and Limestone (Huntsville)","Alabama","Huntsville",87,51,8,12,26,5,138,null,null,47,9,11,24,5]
[null,"Alabama - Montgomery (Montgomery)","Alabama","Montgomery",80,51,8,12,26,5,131,null,null,47,9,11,24,5]
[null,"ARIZONA  -- Conus Rate","Arizona","CONUS",77,46,7,11,23,5,123,null,null,49,9,13,24,5]
[null,"Arizona - City Limits of Sedona (Sedona) (October 1-February 29)","Arizona","Sedona",127,66,9,13,29,5,193,null,null,61,10,15,31,5]
[null,"Arizona - City Limits of Sedona (Sedona) (March 1-April 30)","Arizona","Sedona",145,66,9,13,29,5,211,null,null,51,8,12,26,5]
[null,"Arizona - City Limits of Sedona (Sedona) (May 1-September 30)","Arizona","Sedona",127,66,9,13,29,5,193,null,null,56,9,13,29,5]
[null,"Arizona - Cochise (Sierra Vista)","Arizona","Sierra Vista",83,46,7,11,23,5,129,null,null,64,12,18,31,5]
[null,"Arizona - Coconino (except the city limits of Sedona), Yavapai (Grand Canyon/Flagstaff) (October 1-October 31)","Arizona","Grand Canyon/Flagstaff",97,66,9,13,29,5,163]
[null,"Arizona - Coconino (except the city limits of Sedona), Yavapai (Grand Canyon/Flagstaff) (November 1-February 29)","Arizona","Grand Canyon/Flagstaff",77,66,9,13,29,5,143,null,null,71,12,18,36,5]
[null,"Arizona - Coconino (except the city limits of Sedona), Yavapai (Grand Canyon/Flagstaff) (March 1-September 30)","Arizona","Grand Canyon/Flagstaff",97,66,9,13,29,5,163,null,null,66,11,16,34,5]
[null,"Arizona - Maricopa (Phoenix/Scottsdale) (Oct 1-Dec 31)","Arizona","Phoenix/Scottsdale",105,71,9,13,29,5,176]
[null,"Arizona - Maricopa (Phoenix/Scottsdale) (Jan 1-May 31)","Arizona","Phoenix/Scottsdale",128,71,9,13,29,5,199]
[null,"Arizona - Maricopa (Phoenix/Scottsdale) (Jun 1-Aug 31)","Arizona","Phoenix/Scottsdale",80,71,9,13,29,5,151]
[null,"Arizona - Maricopa (Phoenix/Scottsdale) (Sep 1-Sep 30)","Arizona","Phoenix/Scottsdale",105,71,9,13,29,5,176]
[null,"Arizona - Navajo (Kayenta )","Arizona","Kayenta ",79,46,7,11,23,5,125]
[null,"Arizona - Pima (Tucson) (October 1-January 31)","Arizona","Tucson",90,56,9,13,29,5,146]
[null,"Arizona - Pima (Tucson) (February 1-May 31)","Arizona","Tucson",103,56,9,13,29,5,159]
[null,"Arizona - Pima (Tucson) (June 1-August 31)","Arizona","Tucson",77,56,9,13,29,5,133]
[null,"Arizona - Pima (Tucson) (September 1-September 30)","Arizona","Tucson",90,56,9,13,29,5,146]
[null,"Arizona - Yuma (Yuma) (October 1-October 31)","Arizona","Yuma",78,46,7,11,23,5,124]
[null,"Arizona - Yuma (Yuma) (November 1-March 31)","Arizona","Yuma",78,46,7,11,23,5,124]
[null,"Arizona - Yuma (Yuma) (April 1-September 30)","Arizona","Yuma",78,46,7,11,23,5,124]
[null,"ARKANSAS  -- Conus Rate",null,null,77,46,7,11,23,5,123]
[null,"Arkansas - Garland (Hot Springs)","Arkansas","Hot Springs",101,46,7,11,23,5,147]
[null,"Arkansas - Pulaski (Little Rock)","Arkansas","Little Rock",86,61,9,13,29,5,147]
[null,"COLORADO  -- Conus Rate","Colorado","CONUS",77,46,7,11,23,5,123]
[null,"Colorado - Boulder and Broomfield (Boulder/Broomfield)","Colorado","Boulder/Broomfield",98.147255000000001,54,8,12,26,5,152.147255]
[null,"Colorado - Denver, Adams, Arapahoe, and Jefferson  (Denver/Aurora)","Colorado","Denver/Aurora",140.02714999999998,49,9,13,24,5,189.02714999999998]
[null,"Colorado - Douglas (Douglas County)","Colorado","Douglas County",89.645894999999996,54,8,12,26,5,143.645895]
[null,"Colorado - Eagle (Vail) (April 1-September 30)","Colorado","Vail",176,64,9,13,29,5,240]
[null,"Colorado - Eagle (Vail) (December 1-January 31)","Colorado","Vail",316.66853500000002,64,9,13,29,5,380.66853500000002]
[null,"Colorado - Eagle (Vail) (February 1-March 31)","Colorado","Vail",252,64,9,13,29,5,316]
[null,"Colorado - Eagle (Vail) (October 1-November 30)","Colorado","Vail",176,64,9,13,29,5,240]
[null,"Colorado - El Paso (Colorado Springs)","Colorado","Colorado Springs",83.494644999999991,44,7,11,18,5,127.49464499999999]
[null,"Colorado - Garfield/Mesa (Glenwood Springs/Grand Junction)","Colorado","Glenwood Springs/Grand Junction",80.918340000000001,49,9,13,24,5,129.91834]
[null,"Colorado - Gunnison (Crested Butte/Gunnison) (April 1-August 31)","Colorado","Crested Butte/Gunnison",93.852779999999996,49,9,13,24,5,142.85278]
[null,"Colorado - Gunnison (Crested Butte/Gunnison) (December 1-March 31)","Colorado","Crested Butte/Gunnison",236.51190499999998,49,9,13,24,5,285.51190499999996]
[null,"Colorado - Gunnison (Crested Butte/Gunnison) (October 1-November 30)","Colorado","Crested Butte/Gunnison",76.161309999999986,49,9,13,24,5,125.16130999999999]
[null,"Colorado - Gunnison (Crested Butte/Gunnison) (September 1-September 30)","Colorado","Crested Butte/Gunnison",76.161309999999986,49,9,13,24,5,125.16130999999999]
[null,"Colorado - La Plata (Durango) (May 1-September 30)","Colorado","Durango",107.63405,49,9,13,24,5,156.63405]
[null,"Colorado - La Plata (Durango) (October 1-April 30)","Colorado","Durango",85.81188499999999,49,9,13,24,5,134.81188499999999]
[null,"Colorado - Larimer (Fort Collins/Loveland)","Colorado","Fort Collins/Loveland",85.233999999999995,44,7,11,18,5,129.23399999999998]
[null,"Colorado - Montezuma (Cortez) (June 1-August 31)","Colorado","Cortez",90.234324999999998,39,7,7,18,5,129.23432500000001]
[null,"Colorado - Montezuma (Cortez) (October 1-May 31)","Colorado","Cortez",74.848314999999999,39,7,7,18,5,113.848315]
[null,"Colorado - Montezuma (Cortez) (September 1-September 30)","Colorado","Cortez",74.848314999999999,39,7,7,18,5,113.848315]
[null,"Colorado - Montrose (Montrose) (May 1-September 30)","Colorado","Montrose",79.694455000000005,39,7,7,18,5,118.694455]
[null,"Colorado - Montrose (Montrose) (October 1-April 30)","Colorado","Montrose",69.889884999999992,39,7,7,18,5,108.88988499999999]
[null,"Colorado - Pitkin (Aspen) (October 1-November 30)","Colorado","Aspen",103.50591999999999,71,9,13,29,5,174.50592]
[null,"Colorado - Pitkin (Aspen) (December 1-Mar 31)","Colorado","Aspen",207,71,9,13,29,5,278]
[null,"Colorado - Pitkin (Aspen) (Apr 1-May 31)","Colorado","Aspen",111,71,9,13,29,5,182]
[null,"Colorado - Pitkin (Aspen) (Jun 1-Aug 31)","Colorado","Aspen",150,71,9,13,29,5,221]
[null,"Colorado - Pitkin (Aspen) (Sep 1-Sep 30)","Colorado","Aspen",104,71,9,13,29,5,175]
[null,"Colorado - Routt (Steamboat Springs) (October 1-November 30)","Colorado","Steamboat Springs",99,56,9,13,29,5,155]
[null,"Colorado - Routt (Steamboat Springs) (December 1-Mar 30)","Colorado","Steamboat Springs",181,56,9,13,29,5,237]
[null,"Colorado - Routt (Steamboat Springs) (Apr 1-September 30)","Colorado","Steamboat Springs",99,56,9,13,29,5,155]
[null,"Colorado - San Miguel (Telluride) (October 1-Nov 30)","Colorado","Telluride",92,71,9,13,29,5,163]
[null,"Colorado - San Miguel (Telluride) (Dec 1-March 31)","Colorado","Telluride",160,71,9,13,29,5,231]
[null,"Colorado - San Miguel (Telluride) (April 1-May 31)","Colorado","Telluride",90,71,9,13,29,5,161]
[null,"Colorado - San Miguel (Telluride) (June 1-September 30)","Colorado","Telluride",126,71,9,13,29,5,197]
[null,"Colorado - Summit (Silverthorne/Breckenridge) (October 1-November 30)","Colorado","Silverthorne/Breckenridge",92,56,{"$f":"VLOOKUP($F71,$N$6:$R$17,2)","v":9},{"$f":"VLOOKUP($F71,$N$6:$R$17,3)","v":13},{"$f":"VLOOKUP($F71,$N$6:$R$17,4)","v":29},{"$f":"VLOOKUP($F71,$N$6:$R$17,5)","v":5},148]
[null,"Colorado - Summit (Silverthorne/Breckenridge) (December 1-Mar 31)","Colorado","Silverthorne/Breckenridge",144,56,9,13,29,5,{"$f":"E72+F72","v":200}]
[null,"Colorado - Summit (Silverthorne/Breckenridge) (April 1-Sep 30)","Colorado","Silverthorne/Breckenridge",92.428444999999996,56,9,13,29,5,148.42844500000001]
[null,"CONNECTICUT  -- Conus Rate",null,null,77,46,7,11,23,5,123]
[null,"Connecticut - Fairfield (Bridgeport/Danbury)","Connecticut","Bridgeport/Danbury",113,71,9,13,29,5,184]
[null,"Connecticut - Hartford (Hartford)","Connecticut","Hartford",104,56,9,13,29,5,160]
[null,"Connecticut - Litchfield  (Lakeville/Salisbury)","Connecticut","Lakeville/Salisbury",95,66,9,13,29,5,161]
[null,"Connecticut - Middlesex (Cromwell/Old Saybrook)","Connecticut","Cromwell/Old Saybrook",81,61,9,13,29,5,142]
[null,"Connecticut - New Haven (New Haven)","Connecticut","New Haven",87,61,9,13,29,5,148]
[null,"Connecticut - New London (New London/Groton)","Connecticut","New London/Groton",97,61,9,13,29,5,158]
[null,"Connecticut - Windham/Tolland (Putnam/Danielson/Storrs/Mansfield)","Connecticut","Putnam/Danielson/Storrs/Mansfield",71.335880000000003,59,9,13,29,5,130.33588]
[null,"DELAWARE  -- Conus Rate","Delaware","CONUS",77,46,7,11,23,5,123]
[null,"Delaware - Kent (Dover) (October 1-Apr 30)","Delaware","Dover",77,46,7,11,23,5,123]
[null,"Delaware - Kent (Dover) (May 1-September 30)","Delaware","Dover",90,46,7,11,23,5,136]
[null,"Delaware - New Castle (Wilmington)","Delaware","Wilmington",114,56,9,13,29,5,170]
[null,"Delaware - Sussex (Lewes) (October 1-June 30)","Delaware","Lewes",83,46,7,11,23,5,129]
[null,"Delaware - Sussex (Lewes) (July 1-August 31)","Delaware","Lewes",122,46,7,11,23,5,168]
[null,"Delaware - Sussex (Lewes) (September 1-September 30)","Delaware","Lewes",83,46,7,11,23,5,129]
[null,"District of Columbia - CONUS","District of Columbia","District of Columbia",77,46,7,11,23,5,123]
[null,"District of Columbia - Washington DC  (See also Maryland and Virginia) (District of Columbia) (October 1-October 31)","District of Columbia","District of Columbia",226,71,9,13,29,5,{"$f":"E90+F90","v":297}]
[null,"District of Columbia - Washington DC  (See also Maryland and Virginia) (District of Columbia) (Nov 1- Feb 28)","District of Columbia","District of Columbia",183,71,9,13,29,5,{"$f":"E91+F91","v":254}]
[null,"District of Columbia - Washington DC (See also Maryland and Virginia) (District of Columbia) (Mar 1-Jun 30)","District of Columbia","District of Columbia",224,71,9,13,29,5,295]
[null,"District of Columbia - Washington DC (See also Maryland and Virginia) (District of Columbia) (Jul 1-Aug 31)","District of Columbia","District of Columbia",169,71,9,13,29,5,{"$f":"E93+F93","v":240}]
[null,"District of Columbia - Washington DC  (See also Maryland and Virginia) (District of Columbia) (September 1-September 30)","District of Columbia","District of Columbia",226,71,9,13,29,5,297]
[null,"FLORIDA  -- Conus Rate","Florida","CONUS",77,46,7,11,23,5,123]
[null,"Florida - Alachua (Gainesville)","Florida","Gainesville",90,51,8,12,26,5,141]
[null,"Florida - Bay (Panama City) (October 1-February 29)","Florida","Panama City",79,51,{"$f":"VLOOKUP($F97,$N$6:$R$17,2)","v":8},{"$f":"VLOOKUP($F97,$N$6:$R$17,3)","v":12},{"$f":"VLOOKUP($F97,$N$6:$R$17,4)","v":26},{"$f":"VLOOKUP($F97,$N$6:$R$17,5)","v":5},{"$f":"E97+F97","v":130}]
[null,"Florida - Bay (Panama City) (March 1-Jul 31)","Florida","Panama City",103,51,{"$f":"VLOOKUP($F98,$N$6:$R$17,2)","v":8},{"$f":"VLOOKUP($F98,$N$6:$R$17,3)","v":12},{"$f":"VLOOKUP($F98,$N$6:$R$17,4)","v":26},{"$f":"VLOOKUP($F98,$N$6:$R$17,5)","v":5},{"$f":"E98+F98","v":154}]
[null,"Florida - Bay (Panama City) (Aug 1-Sep 30)","Florida","Panama City",79,51,8,12,26,5,130]
[null,"Florida - Brevard (Cocoa Beach)","Florida","Cocoa Beach",99,51,8,12,26,5,150]
[null,"Florida - Broward (Fort Lauderdale) (October 1-Dec 31)","Florida","Fort Lauderdale",124,71,{"$f":"VLOOKUP($F101,$N$6:$R$17,2)","v":9},{"$f":"VLOOKUP($F101,$N$6:$R$17,3)","v":13},{"$f":"VLOOKUP($F101,$N$6:$R$17,4)","v":29},{"$f":"VLOOKUP($F101,$N$6:$R$17,5)","v":5},{"$f":"E101+F101","v":195}]
[null,"Florida - Broward (Fort Lauderdale) (Jan 1-Mar 31)","Florida","Fort Lauderdale",164,71,{"$f":"VLOOKUP($F102,$N$6:$R$17,2)","v":9},{"$f":"VLOOKUP($F102,$N$6:$R$17,3)","v":13},{"$f":"VLOOKUP($F102,$N$6:$R$17,4)","v":29},{"$f":"VLOOKUP($F102,$N$6:$R$17,5)","v":5},{"$f":"E102+F102","v":235}]
[null,"Florida - Broward (Fort Lauderdale) (Apr 1-May 31)","Florida","Fort Lauderdale",137,71,9,13,29,5,208]
[null,"Florida - Broward (Fort Lauderdale) (Jun 1-Sep 30)","Florida","Fort Lauderdale",101,71,9,13,29,5,{"$f":"E104+F104","v":172}]
[null,"Florida - Charlotte (Punta Gorda) (October 1-January 31)","Florida","Punta Gorda",77,51,{"$f":"VLOOKUP($F105,$N$6:$R$17,2)","v":8},{"$f":"VLOOKUP($F105,$N$6:$R$17,3)","v":12},{"$f":"VLOOKUP($F105,$N$6:$R$17,4)","v":26},{"$f":"VLOOKUP($F105,$N$6:$R$17,5)","v":5},{"$f":"E105+F105","v":128}]
[null,"Florida - Charlotte (Punta Gorda) (February 1-March 31)","Florida","Punta Gorda",85,51,{"$f":"VLOOKUP($F106,$N$6:$R$17,2)","v":8},{"$f":"VLOOKUP($F106,$N$6:$R$17,3)","v":12},{"$f":"VLOOKUP($F106,$N$6:$R$17,4)","v":26},{"$f":"VLOOKUP($F106,$N$6:$R$17,5)","v":5},{"$f":"E106+F106","v":136}]
[null,"Florida - Charlotte (Punta Gorda) (April 1-September 30)","Florida","Punta Gorda",77,51,8,12,26,5,128]
[null,"Florida - Collier (Naples) (April 1-September 30)","Florida","Naples",116.593025,64,9,13,29,5,180.59302500000001]
[null,"Florida - Collier (Naples) (February 1-March 31)","Florida","Naples",214.36474499999997,64,9,13,29,5,278.36474499999997]
[null,"Florida - Collier (Naples) (October 1-January 31)","Florida","Naples",116.593025,64,9,13,29,5,180.59302500000001]
[null,"Florida - Duval, City of Jacksonville and Nassau (Jacksonville/Jacksonville Beach/Mayport Naval Station/Fernandina Beach/Atlantic Beach)","Florida","Jacksonville/Jacksonville Beach/Mayport Naval Station/Fernandina Beach/Atlantic Beach",84.386979999999994,49,9,13,24,5,133.38697999999999]
[null,"Florida - Escambia (Pensacola/Pensacola Beach)","Florida","Pensacola/Pensacola Beach",101.16435999999999,49,9,13,24,5,150.16435999999999]
[null,"Florida - Highlands (Sebring)","Florida","Sebring",88.161139999999989,39,7,7,18,5,127.16113999999999]
[null,"Florida - Indian River (Vero Beach) (April 1-September 30)","Florida","Vero Beach",98.740529999999993,49,9,13,24,5,147.74052999999998]
[null,"Florida - Indian River (Vero Beach) (February 1-March 31)","Florida","Vero Beach",131.72918499999997,49,9,13,24,5,180.72918499999997]
[null,"Florida - Indian River (Vero Beach) (October 1-January 31)","Florida","Vero Beach",98.740529999999993,49,9,13,24,5,147.74052999999998]
[null,"Florida - Lake (Leesburg)","Florida","Leesburg",82.745284999999996,44,7,11,18,5,126.745285]
[null,"Florida - Lee (Fort Myers) (January 1-April 30)","Florida","Fort Myers",132.55387999999999,49,9,13,24,5,181.55387999999999]
[null,"Florida - Lee (Fort Myers) (May 1-September 30)","Florida","Fort Myers",83.916444999999996,49,9,13,24,5,132.91644500000001]
[null,"Florida - Lee (Fort Myers) (October 1-December 31)","Florida","Fort Myers",83.916444999999996,49,9,13,24,5,132.91644500000001]
[null,"Florida - Leon (Tallahassee)","Florida","Tallahassee",88.611249999999998,44,7,11,18,5,132.61124999999998]
[null,"Florida - Manatee (Bradenton) (April 1-September 30)","Florida","Bradenton",97.66019,39,7,7,18,5,136.66019]
[null,"Florida - Manatee (Bradenton) (February 1-March 31)","Florida","Bradenton",137.05317500000001,39,7,7,18,5,176.05317500000001]
[null,"Florida - Manatee (Bradenton) (October 1-January 31)","Florida","Bradenton",97.66019,39,7,7,18,5,136.66019]
[null,"Florida - Marion (Ocala) (April 1-September 30)","Florida","Ocala",84.600920000000002,44,7,11,18,5,128.60092]
[null,"Florida - Marion (Ocala) (January 1-March 31)","Florida","Ocala",94.952404999999999,44,7,11,18,5,138.952405]
[null,"Florida - Marion (Ocala) (October 1-December 31)","Florida","Ocala",84.600920000000002,44,7,11,18,5,128.60092]
[null,"Florida - Martin (Stuart) (April 1-September 30)","Florida","Stuart",108.078745,49,9,13,24,5,157.078745]
[null,"Florida - Martin (Stuart) (February 1-March 31)","Florida","Stuart",151.83583999999999,49,9,13,24,5,200.83583999999999]
[null,"Florida - Martin (Stuart) (November 1-January 31)","Florida","Stuart",114.93033499999999,49,9,13,24,5,163.93033499999999]
[null,"Florida - Martin (Stuart) (October 1-October 31)","Florida","Stuart",108.078745,49,9,13,24,5,157.078745]
[null,"Florida - Miami-Dade (Miami) (March 1-September 30)","Florida","Miami",118.60047,59,9,13,29,5,177.60047]
[null,"Florida - Miami-Dade (Miami) (October 1-February 29)","Florida","Miami",145.94498499999997,59,9,13,29,5,204.94498499999997]
[null,"Florida - Monroe (Key West) (April 1-September 30)","Florida","Key West",156.30407,64,9,13,29,5,220.30407]
[null,"Florida - Monroe (Key West) (December 1-January 31)","Florida","Key West",187.59972999999999,64,9,13,29,5,251.59972999999999]
[null,"Florida - Monroe (Key West) (February 1-March 31)","Florida","Key West",239.06312999999997,64,{"$f":"VLOOKUP($F136,$N$6:$R$17,2)","v":9},{"$f":"VLOOKUP($F136,$N$6:$R$17,3)","v":13},{"$f":"VLOOKUP($F136,$N$6:$R$17,4)","v":29},{"$f":"VLOOKUP($F136,$N$6:$R$17,5)","v":5},303.06313]
[null,"Florida - Monroe (Key West) (October 1-November 30)","Florida","Key West",156.30407,64,9,13,29,5,220.30407]
[null,"Florida - Okaloosa and Walton (Fort Walton Beach/De Funiak Springs) (August 1-September 30)","Florida","Fort Walton Beach/De Funiak Springs",112.80271499999999,44,7,11,18,5,156.80271499999998]
[null,"Florida - Okaloosa and Walton (Fort Walton Beach/De Funiak Springs) (June 1-July 31)","Florida","Fort Walton Beach/De Funiak Springs",169.049745,44,7,11,18,5,{"$f":"E139+F139","v":213.049745}]
[null,"Florida - Okaloosa and Walton (Fort Walton Beach/De Funiak Springs) (March 1-May 31)","Florida","Fort Walton Beach/De Funiak Springs",131.71180000000001,44,7,11,18,5,175.71180000000001]
[null,"Florida - Okaloosa and Walton (Fort Walton Beach/De Funiak Springs) (November 1-February 29)","Florida","Fort Walton Beach/De Funiak Springs",80.711239999999989,44,7,11,18,5,124.71123999999999]
[null,"Florida - Okaloosa and Walton (Fort Walton Beach/De Funiak Springs) (October 1-October 31)","Florida","Fort Walton Beach/De Funiak Springs",112.80271499999999,44,7,11,18,5,156.80271499999998]
[null,"Florida - Orange (Orlando) (April 1-September 30)","Florida","Orlando",99.075310000000002,49,9,13,24,5,148.07531]
[null,"Florida - Orange (Orlando) (January 1-March 31)","Florida","Orlando",121.02011999999999,49,9,13,24,5,170.02011999999999]
[null,"Florida - Orange (Orlando) (October 1-December 31)","Florida","Orlando",99.075310000000002,49,9,13,24,5,148.07531]
[null,"Florida - Osceola (Kissimmee) (June 1-August 31)","Florida","Kissimmee",69.658749999999998,39,7,7,18,5,108.65875]
[null,"Florida - Osceola (Kissimmee) (October 1-May 31)","Florida","Kissimmee",82.621214999999992,39,7,7,18,5,121.62121499999999]
[null,"Florida - Osceola (Kissimmee) (September 1-September 30)","Florida","Kissimmee",82.621214999999992,39,7,7,18,5,121.62121499999999]
[null,"Florida - Palm Beach (Boca Raton, Delray Beach, Jupiter, Palm Beach Gardens, Palm Beach, Palm Beach Shores, Singer Island and West Palm Beach) (April 1-September 30)","Florida","Boca Raton, Delray Beach, Jupiter, Palm Beach Gardens, Palm Beach, Palm Beach Shores, Singer Island and West Palm Beach",103.38156499999999,64,9,13,29,5,167.38156499999999]
[null,"Florida - Palm Beach (Boca Raton, Delray Beach, Jupiter, Palm Beach Gardens, Palm Beach, Palm Beach Shores, Singer Island and West Palm Beach) (January 1-March 31)","Florida","Boca Raton, Delray Beach, Jupiter, Palm Beach Gardens, Palm Beach, Palm Beach Shores, Singer Island and West Palm Beach",157.69486999999998,64,9,13,29,5,221.69486999999998]
[null,"Florida - Palm Beach (Boca Raton, Delray Beach, Jupiter, Palm Beach Gardens, Palm Beach, Palm Beach Shores, Singer Island and West Palm Beach) (October 1-December 31)","Florida","Boca Raton, Delray Beach, Jupiter, Palm Beach Gardens, Palm Beach, Palm Beach Shores, Singer Island and West Palm Beach",103.38156499999999,64,9,13,29,5,167.38156499999999]
[null,"Florida - Pinellas and Hillsborough (Tampa/St. Petersburg) (April 1-September 30)","Florida","Tampa/St. Petersburg",97.720134999999985,54,8,12,26,5,151.72013499999997]
[null,"Florida - Pinellas and Hillsborough (Tampa/St. Petersburg) (January 1-March 31)","Florida","Tampa/St. Petersburg",122.63521499999999,54,8,12,26,5,176.63521499999999]
[null,"Florida - Pinellas and Hillsborough (Tampa/St. Petersburg) (October 1-December 31)","Florida","Tampa/St. Petersburg",97.720134999999985,54,8,12,26,5,151.72013499999997]
[null,"Florida - Polk (Lakeland)","Florida","Lakeland",82.812830000000005,39,7,7,18,5,121.81283000000001]
[null,"Florida - Saint Lucie (Fort Pierce) (April 1-September 30)","Florida","Fort Pierce",100.781795,49,9,13,24,5,149.78179499999999]
[null,"Florida - Saint Lucie (Fort Pierce) (February 1-March 31)","Florida","Fort Pierce",132.53858499999998,49,9,13,24,5,181.53858499999998]
[null,"Florida - Saint Lucie (Fort Pierce) (October 1-January 31)","Florida","Fort Pierce",100.781795,49,9,13,24,5,149.78179499999999]
[null,"Florida - Santa Rosa (Gulf Breeze) (August 1-September 30)","Florida","Gulf Breeze",96.853259999999992,39,7,7,18,5,135.85325999999998]
[null,"Florida - Santa Rosa (Gulf Breeze) (June 1-July 31)","Florida","Gulf Breeze",146.86639,39,7,7,18,5,185.86639]
[null,"Florida - Santa Rosa (Gulf Breeze) (March 1-May 31)","Florida","Gulf Breeze",118.71446999999999,39,7,7,18,5,157.71447000000001]
[null,"Florida - Santa Rosa (Gulf Breeze) (October 1-February 29)","Florida","Gulf Breeze",96.853259999999992,39,7,7,18,5,135.85325999999998]
[null,"Florida - Sarasota (Sarasota) (April 1-September 30)","Florida","Sarasota",95.219449999999995,49,9,13,24,5,144.21944999999999]
[null,"Florida - Sarasota (Sarasota) (February 1-March 31)","Florida","Sarasota",140.05602999999999,49,9,13,24,5,189.05602999999999]
[null,"Florida - Sarasota (Sarasota) (October 1-January 31)","Florida","Sarasota",95.219449999999995,49,9,13,24,5,144.21944999999999]
[null,"Florida - Seminole (Altamonte Springs) (April 1-September 30)","Florida","Altamonte Springs",82.579889999999992,39,7,7,18,5,121.57988999999999]
[null,"Florida - Seminole (Altamonte Springs) (January 1-March 31)","Florida","Altamonte Springs",96.113304999999983,39,7,7,18,5,135.11330499999997]
[null,"Florida - Seminole (Altamonte Springs) (October 1-December 31)","Florida","Altamonte Springs",82.579889999999992,39,7,7,18,5,121.57988999999999]
[null,"Florida - St. Johns (St. Augustine) (April 1-September 30)","Florida","St. Augustine",94.431614999999994,54,8,12,26,5,148.43161499999999]
[null,"Florida - St. Johns (St. Augustine) (February 1-March 31)","Florida","St. Augustine",107.27153,54,8,12,26,5,161.27152999999998]
[null,"Florida - St. Johns (St. Augustine) (October 1-January 31)","Florida","St. Augustine",94.431614999999994,54,8,12,26,5,148.43161499999999]
[null,"Florida - Volusia (Daytona Beach) (April 1-May 31)","Florida","Daytona Beach",93.165549999999996,39,7,7,18,5,132.16555]
[null,"Florida - Volusia (Daytona Beach) (August 1-September 30)","Florida","Daytona Beach",87.414534999999987,39,7,7,18,5,126.41453499999999]
[null,"Florida - Volusia (Daytona Beach) (February 1-March 31)","Florida","Daytona Beach",138.30005,39,7,7,18,5,177.30005]
[null,"Florida - Volusia (Daytona Beach) (June 1-July 31)","Florida","Daytona Beach",103.04792500000001,39,7,7,18,5,142.04792500000002]
[null,"Florida - Volusia (Daytona Beach) (October 1-January 31)","Florida","Daytona Beach",87.414534999999987,39,7,7,18,5,126.41453499999999]
[null,"GEORGIA  -- Conus Rate","Georgia","CONUS",70,39,7,7,18,5,109]
[null,"Georgia - Chatham (Savannah)","Georgia","Savannah",104.32434499999999,49,9,13,24,5,153.32434499999999]
[null,"Georgia - Clarke (Athens)","Georgia","Athens",79.644390000000001,39,7,7,18,5,118.64439]
[null,"Georgia - Fayette/Coweta/Clayton (Peachtree City/Jonesboro/Morrow/Newnan)","Georgia","Peachtree City/Jonesboro/Morrow/Newnan",77.485704999999996,44,7,11,18,5,121.485705]
[null,"Georgia - Fulton, Dekalb and Cobb (Atlanta) (April 1-September 30)","Georgia","Atlanta",128.64111499999999,49,9,13,24,5,177.64111499999999]
[null,"Georgia - Fulton, Dekalb and Cobb (Atlanta) (January 1-March 31)","Georgia","Atlanta",138.83775,49,9,13,24,5,187.83775]
[null,"Georgia - Fulton, Dekalb and Cobb (Atlanta) (October 1-December 31)","Georgia","Atlanta",128.64111499999999,49,9,13,24,5,177.64111499999999]
[null,"Georgia - Glynn (Jekyll Island/Brunswick)","Georgia","Jekyll Island/Brunswick",125.32210000000001,49,9,13,24,5,174.32210000000001]
[null,"Georgia - Gwinnett (Duluth/Norcross/Lawrenceville/Braselton)","Georgia","Duluth/Norcross/Lawrenceville/Braselton",76.271225000000001,44,7,11,18,5,120.271225]
[null,"Georgia - Muscogee (Columbus)","Georgia","Columbus",84.411299999999997,39,7,7,18,5,123.4113]
[null,"Georgia - Richmond (Augusta)","Georgia","Augusta",79.992945000000006,39,7,7,18,5,118.99294500000001]
[null,"Georgia - Rockdale (Conyers)","Georgia","Conyers",74.518950000000004,39,7,7,18,5,113.51895]
[null,"IDAHO  -- Conus Rate","Idaho","CONUS",70,39,7,7,18,5,109]
[null,"Idaho - Ada (Boise)","Idaho","Boise",85.038489999999996,49,9,13,24,5,134.03849]
[null,"Idaho - Blaine (Sun Valley/Ketchum)","Idaho","Sun Valley/Ketchum",79.05292,59,9,13,29,5,138.05292]
[null,"Idaho - Kootenai (Coeur d'Alene) (June 1-August 31)","Idaho","Coeur d'Alene",104.88703,59,9,13,29,5,163.88702999999998]
[null,"Idaho - Kootenai (Coeur d'Alene) (October 1-May 31)","Idaho","Coeur d'Alene",70.645609999999991,59,9,13,29,5,129.64560999999998]
[null,"Idaho - Kootenai (Coeur d'Alene) (September 1-September 30)","Idaho","Coeur d'Alene",70.645609999999991,59,9,13,29,5,129.64560999999998]
[null,"Idaho - Twin Falls (Twin Falls)","Idaho","Twin Falls",80.771945000000002,39,7,7,18,5,119.771945]
[null,"Illinois - City of Elgin, Kane (Elgin/Aurora)","Illinois","Elgin/Aurora",82.921795000000003,44,7,11,18,5,126.921795]
[null,"Illinois - Cook and Lake (Chicago) (December 1-April 30)","Illinois","Chicago",149.28062499999999,64,9,13,29,5,213.28062499999999]
[null,"Illinois - Cook and Lake (Chicago) (July 1-August 31)","Illinois","Chicago",167.996385,64,9,13,29,5,231.996385]
[null,"Illinois - Cook and Lake (Chicago) (May 1-June 30)","Illinois","Chicago",188.37502499999999,64,9,13,29,5,252.37502499999999]
[null,"Illinois - Cook and Lake (Chicago) (October 1-November 30)","Illinois","Chicago",205.41099500000001,64,{"$f":"VLOOKUP($F200,$N$6:$R$17,2)","v":9},{"$f":"VLOOKUP($F200,$N$6:$R$17,3)","v":13},{"$f":"VLOOKUP($F200,$N$6:$R$17,4)","v":29},{"$f":"VLOOKUP($F200,$N$6:$R$17,5)","v":5},269.41099500000001]
[null,"Illinois - Cook and Lake (Chicago) (September 1-September 30)","Illinois","Chicago",205.41099500000001,64,9,13,29,5,269.41099500000001]
[null,"Illinois - Dupage (Oak Brook Terrace)","Illinois","Oak Brook Terrace",103.648515,49,9,13,24,5,152.648515]
[null,"Illinois - Sangamon (Springfield )","Illinois","Springfield ",80.164514999999994,49,9,13,24,5,{"$f":"E203+F203","v":129.16451499999999}]
[null,"Illinois - Will (Bolingbrook/Romeoville/Lemont/Lockport/Homer Glen/Mokena/New Lenox)","Illinois","Bolingbrook/Romeoville/Lemont/Lockport/Homer Glen/Mokena/New Lenox",80.252864999999986,44,7,11,18,5,124.25286499999999]
[null,"ILLINOIS  -- Conus Rate","Illinois","CONUS",70,39,7,7,18,5,109]
[null,"INDIANA  -- Conus Rate","Indiana","CONUS",70,39,7,7,18,5,109]
[null,"Indiana - Allen (Ft. Wayne)","Indiana","Ft. Wayne",81.16400999999999,39,7,7,18,5,120.16400999999999]
[null,"Indiana - Hendricks (Brownsburg/Plainfield)","Indiana","Brownsburg/Plainfield",74.525030000000001,44,7,11,18,5,118.52503]
[null,"Indiana - La Porte (Michigan City)","Indiana","Michigan City",77.787140000000008,39,7,7,18,5,116.78714000000001]
[null,"Indiana - Lake (Hammond/Munster/Merrillville)","Indiana","Hammond/Munster/Merrillville",85.097674999999995,44,7,11,18,5,129.09767499999998]
[null,"Indiana - Marion, Hamilton, Fort Benjamin Harrison military base (Indianapolis/Carmel)","Indiana","Indianapolis/Carmel",97.056369999999987,44,7,11,18,5,141.05636999999999]
[null,"Indiana - Monroe (Bloomington )","Indiana","Bloomington ",87.620590000000007,44,7,11,18,5,131.62058999999999]
[null,"Indiana - Porter (Valparaiso/Burlington Beach)","Indiana","Valparaiso/Burlington Beach",79.331364999999991,49,9,13,24,5,128.33136500000001]
[null,"Indiana - St. Joseph (South Bend)","Indiana","South Bend",92.063074999999998,44,7,11,18,5,136.063075]
[null,"Indiana - Tippecanoe (Lafayette)","Indiana","Lafayette",81.260339999999999,39,7,7,18,5,120.26034]
[null,"IOWA  -- Conus Rate","Iowa","CONUS",70,39,7,7,18,5,109]
[null,"Iowa - Linn (Cedar Rapids)","Iowa","Cedar Rapids",74.871779999999987,39,7,7,18,5,113.87177999999999]
[null,"Iowa - Polk (Des Moines)","Iowa","Des Moines",80.253910000000005,44,7,11,18,5,124.25391]
[null,"KANSAS  -- Conus Rate","Kansas","CONUS",70,39,7,7,18,5,109]
[null,"Kansas - Sedgwick (Wichita)","Kansas","Wichita",80.383775,49,9,13,24,5,129.38377500000001]
[null,"Kansas - Wyandotte and Johnson (Kansas City/Overland Park)","Kansas","Kansas City/Overland Park",103.49603999999999,44,7,11,18,5,147.49603999999999]
[null,"KENTUCKY  -- Conus Rate","Kentucky","CONUS",70,39,7,7,18,5,109]
[null,"Kentucky - Boone (Boone County)","Kentucky","Boone County",94.649069999999995,44,7,11,18,5,138.64906999999999]
[null,"Kentucky - Fayette (Lexington)","Kentucky","Lexington",87.889724999999999,49,9,13,24,5,136.889725]
[null,"Kentucky - Jefferson (Louisville) (June 1-September 30)","Kentucky","Louisville",88.81882499999999,49,9,13,24,5,137.818825]
[null,"Kentucky - Jefferson (Louisville) (October 1-May 31)","Kentucky","Louisville",97.485579999999999,49,9,13,24,5,146.48558]
[null,"Kentucky - Kenton (Kenton County)","Kentucky","Kenton County",109.60862499999999,44,7,11,18,5,153.60862499999999]
[null,"LOUISIANA  -- Conus Rate","Louisiana","CONUS",70,39,7,7,18,5,109]
[null,"Louisiana - Calcasieu Parish (Lake Charles)","Louisiana","Lake Charles",76.219355000000007,39,7,7,18,5,115.21935500000001]
[null,"Louisiana - East Baton Rouge Parish (Baton Rouge)","Louisiana","Baton Rouge",99.224744999999999,44,7,11,18,5,143.22474499999998]
[null,"Louisiana - Lafayette Consolidated Government (Lafayette)","Louisiana","Lafayette",79.109255000000005,49,9,13,24,5,128.10925500000002]
[null,"Louisiana - Orleans, St. Bernard, Jefferson and Plaquemine Parishes (New Orleans) (July 1-September 30)","Louisiana","New Orleans",99.214769999999987,59,9,13,29,5,158.21476999999999]
[null,"Louisiana - Orleans, St. Bernard, Jefferson and Plaquemine Parishes (New Orleans) (October 1-June 30)","Louisiana","New Orleans",130.81851499999999,59,9,13,29,5,189.81851499999999]
[null,"Louisiana - St. Tammany Parish (Covington/Slidell)","Louisiana","Covington/Slidell",96.352324999999993,49,9,13,24,5,145.35232500000001]
[null,"MAINE  -- Conus Rate","Maine","CONUS",70,39,7,7,18,5,109]
[null,"Maine - Cumberland/Sagadahoc (Portland) (July 1-September 30)","Maine","Portland",106.99413,44,7,11,18,5,150.99412999999998]
[null,"Maine - Cumberland/Sagadahoc (Portland) (October 1-June 30)","Maine","Portland",85.188209999999998,44,7,11,18,5,129.18821]
[null,"Maine - Hancock (Bar Harbor) (July 1-September 30)","Maine","Bar Harbor",132.56186,49,9,13,24,5,181.56186]
[null,"Maine - Hancock (Bar Harbor) (October 1-June 30)","Maine","Bar Harbor",83.116164999999995,49,9,13,24,5,132.116165]
[null,"Maine - Knox (Rockport) (July 1-August 31)","Maine","Rockport",76.313784999999996,49,9,13,24,5,125.313785]
[null,"Maine - Knox (Rockport) (October 1-June 30)","Maine","Rockport",69.70738999999999,49,9,13,24,5,118.70738999999999]
[null,"Maine - Knox (Rockport) (September 1-September 30)","Maine","Rockport",69.70738999999999,49,9,13,24,5,118.70738999999999]
[null,"Maine - York  (Kennebunk/Kittery/Sanford) (April 1-June 30)","Maine","Kennebunk/Kittery/Sanford",76.580639999999988,54,8,12,26,5,130.58063999999999]
[null,"Maine - York  (Kennebunk/Kittery/Sanford) (July 1-August 31)","Maine","Kennebunk/Kittery/Sanford",114.57019,54,8,12,26,5,168.57019]
[null,"Maine - York  (Kennebunk/Kittery/Sanford) (November 1-March 31)","Maine","Kennebunk/Kittery/Sanford",69.999989999999997,54,8,12,26,5,123.99999]
[null,"Maine - York  (Kennebunk/Kittery/Sanford) (October 1-October 31)","Maine","Kennebunk/Kittery/Sanford",84.830725000000001,54,8,12,26,5,138.830725]
[null,"Maine - York  (Kennebunk/Kittery/Sanford) (September 1-September 30)","Maine","Kennebunk/Kittery/Sanford",84.830725000000001,54,8,12,26,5,138.830725]
[null,"MARYLAND  -- Conus Rate","Maine","CONUS",70,39,7,7,18,5,109]
[null,"Maryland - Anne Arundel (Annapolis)","Maryland","Annapolis",123.18421999999998,64,9,13,29,5,187.18421999999998]
[null,"Maryland - Baltimore (Baltimore County)","Maryland","Baltimore County",99.255144999999999,54,8,12,26,5,153.255145]
[null,"Maryland - Baltimore City (Baltimore City)","Maryland","Baltimore City",155.33649499999999,59,9,13,29,5,214.33649499999999]
[null,"Maryland - Charles (La Plata/Indian Head )","Maryland","La Plata/Indian Head ",74.706005000000005,39,7,7,18,5,113.706005]
[null,"Maryland - Dorchester and Talbot (Cambridge/St. Michaels) (April 1-August 31)","Maryland","Cambridge/St. Michaels",147.35801499999999,54,8,12,26,5,201.35801499999999]
[null,"Maryland - Dorchester and Talbot (Cambridge/St. Michaels) (October 1-March 31)","Maryland","Cambridge/St. Michaels",114.79324999999999,54,8,12,26,5,168.79325]
[null,"Maryland - Dorchester and Talbot (Cambridge/St. Michaels) (September 1-September 30)","Maryland","Cambridge/St. Michaels",114.79324999999999,54,8,12,26,5,168.79325]
[null,"Maryland - Frederick (Frederick)","Maryland","Frederick",87.99289499999999,39,7,7,18,5,126.99289499999999]
[null,"Maryland - Harford (Aberdeen/Bel Air/Belcamp/Edgewood)","Maryland","Aberdeen/Bel Air/Belcamp/Edgewood",79.143265,44,7,11,18,5,123.143265]
[null,"Maryland - Howard (Columbia)","Maryland","Columbia",113.86405499999999,49,9,13,24,5,162.86405500000001]
[null,"Maryland - Montgomery and Prince George's (Washington DC Metro Area) (July 1-August 31)","Maryland","Washington DC Metro Area",153.88375499999998,64,9,13,29,5,217.88375499999998]
[null,"Maryland - Montgomery and Prince George's (Washington DC Metro Area) (October 1-June 30)","Maryland","Washington DC Metro Area",200.72264999999999,64,9,13,29,5,264.72264999999999]
[null,"Maryland - Montgomery and Prince George's (Washington DC Metro Area) (September 1-September 30)","Maryland","Washington DC Metro Area",200.72264999999999,64,9,13,29,5,264.72264999999999]
[null,"Maryland - St. Mary's and Calvert (Lexington Park/Leonardtown/Lusby)","Maryland","Lexington Park/Leonardtown/Lusby",87.759574999999998,39,7,7,18,5,126.759575]
[null,"Maryland - Washington (Hagerstown)","Maryland","Hagerstown",72.060540000000003,39,7,7,18,5,111.06054]
[null,"Maryland - Worcester (Ocean City) (June 1-August 31)","Maryland","Ocean City",180.14906999999997,64,{"$f":"VLOOKUP($F264,$N$6:$R$17,2)","v":9},{"$f":"VLOOKUP($F264,$N$6:$R$17,3)","v":13},{"$f":"VLOOKUP($F264,$N$6:$R$17,4)","v":29},{"$f":"VLOOKUP($F264,$N$6:$R$17,5)","v":5},244.14906999999997]
[null,"Maryland - Worcester (Ocean City) (October 1-May 31)","Maryland","Ocean City",85.355504999999994,64,9,13,29,5,149.35550499999999]
[null,"Maryland - Worcester (Ocean City) (September 1-September 30)","Maryland","Ocean City",85.355504999999994,64,9,13,29,5,149.35550499999999]
[null,"MASSACHUSETTS  -- Conus Rate","Massachusetts","CONUS",70,39,7,7,18,5,{"$f":"E267+F267","v":109}]
[null,"Massachusetts - Barnstable (Hyannis) (July 1-August 31)","Massachusetts","Hyannis",133.18505999999999,59,9,13,29,5,192.18505999999999]
[null,"Massachusetts - Barnstable (Hyannis) (May 1-June 30)","Massachusetts","Hyannis",103.13703499999998,59,9,13,29,5,162.13703499999997]
[null,"Massachusetts - Barnstable (Hyannis) (October 1-April 30)","Massachusetts","Hyannis",85.497054999999989,59,9,13,29,5,144.49705499999999]
[null,"Massachusetts - Barnstable (Hyannis) (September 1-September 30)","Massachusetts","Hyannis",85.497054999999989,59,9,13,29,5,144.49705499999999]
[null,"Massachusetts - Berkshire (Pittsfield)","Massachusetts","Pittsfield",93.609864999999985,59,9,13,29,5,152.60986499999999]
[null,"Massachusetts - City limits of Falmouth (Falmouth) (July 1-August 31)","Massachusetts","Falmouth",92.563914999999994,49,9,13,24,5,141.56391500000001]
[null,"Massachusetts - City limits of Falmouth (Falmouth) (October 1-June 30)","Massachusetts","Falmouth",78.062640000000002,49,9,13,24,5,127.06264]
[null,"Massachusetts - City limits of Falmouth (Falmouth) (September 1-September 30)","Massachusetts","Falmouth",78.062640000000002,49,9,13,24,5,127.06264]
[null,"Massachusetts - Dukes (Martha's Vineyard) (July 1-August 31)","Massachusetts","Martha's Vineyard",196.80247500000002,64,9,13,29,5,260.80247500000002]
[null,"Massachusetts - Dukes (Martha's Vineyard) (November 1-June 30)","Massachusetts","Martha's Vineyard",113.74169499999999,64,9,13,29,5,177.74169499999999]
[null,"Massachusetts - Dukes (Martha's Vineyard) (October 1-October 31)","Massachusetts","Martha's Vineyard",120.41857999999999,64,9,13,29,5,184.41857999999999]
[null,"Massachusetts - Dukes (Martha's Vineyard) (September 1-September 30)","Massachusetts","Martha's Vineyard",120.41857999999999,64,9,13,29,5,184.41857999999999]
[null,"Massachusetts - Essex (Andover)","Massachusetts","Andover",86.606939999999994,59,9,13,29,5,145.60694000000001]
[null,"Massachusetts - Hampden (Springfield)","Massachusetts","Springfield",92.634119999999996,44,7,11,18,5,136.63412]
[null,"Massachusetts - Hampshire (Northampton)","Massachusetts","Northampton",88.355414999999994,39,7,7,18,5,127.35541499999999]
[null,"Massachusetts - Middlesex (Burlington/Woburn)","Massachusetts","Burlington/Woburn",111.24708999999999,59,9,13,29,5,170.24708999999999]
[null,"Massachusetts - Nantucket (Nantucket) (June 1-September 30)","Massachusetts","Nantucket",255.15555999999995,64,9,13,29,5,319.15555999999992]
[null,"Massachusetts - Nantucket (Nantucket) (October 1-May 31)","Massachusetts","Nantucket",130.723705,64,9,13,29,5,194.723705]
[null,"Massachusetts - Norfolk (Quincy)","Massachusetts","Quincy",118.367435,44,7,11,18,5,162.367435]
[null,"Massachusetts - Plymouth/Bristol (Plymouth/Taunton/New Bedford)","Massachusetts","Plymouth/Taunton/New Bedford",92.825354999999988,54,8,12,26,5,146.825355]
[null,"Massachusetts - Suffolk, city of Cambridge (Boston/Cambridge) (November 1-August 31)","Massachusetts","Boston/Cambridge",185.62724499999999,64,9,13,29,5,249.62724499999999]
[null,"Massachusetts - Suffolk, city of Cambridge (Boston/Cambridge) (October 1-October 31)","Massachusetts","Boston/Cambridge",219.54423999999997,64,9,13,29,5,283.54423999999995]
[null,"Massachusetts - Suffolk, city of Cambridge (Boston/Cambridge) (September 1-September 30)","Massachusetts","Boston/Cambridge",219.54423999999997,64,9,13,29,5,283.54423999999995]
[null,"Massachusetts - Worcester (Worcester)","Massachusetts","Worcester",92.306274999999999,49,9,13,24,5,141.306275]
[null,"MICHIGAN  -- Conus Rate","Michigan","CONUS",70,39,7,7,18,5,109]
[null,"Michigan - Berrien  (Benton Harbor/St. Joseph/Stevensville)","Michigan","Benton Harbor/St. Joseph/Stevensville",71.58373499999999,49,9,13,24,5,120.58373499999999]
[null,"Michigan - Charlevoix (Charlevoix) (June 1-August 31)","Michigan","Charlevoix",85.132824999999997,49,9,13,24,5,134.132825]
[null,"Michigan - Charlevoix (Charlevoix) (October 1-May 31)","Michigan","Charlevoix",72.658850000000001,49,9,13,24,5,121.65885]
[null,"Michigan - Charlevoix (Charlevoix) (September 1-September 30)","Michigan","Charlevoix",72.658850000000001,49,9,13,24,5,121.65885]
[null,"Michigan - Emmet (Petoskey) (July 1-August 31)","Michigan","Petoskey",91.387245000000007,54,8,12,26,5,145.38724500000001]
[null,"Michigan - Emmet (Petoskey) (October 1-June 30)","Michigan","Petoskey",70.97829999999999,54,8,12,26,5,124.97829999999999]
[null,"Michigan - Emmet (Petoskey) (September 1-September 30)","Michigan","Petoskey",70.97829999999999,54,8,12,26,5,124.97829999999999]
[null,"Michigan - Genessee (Flint )","Michigan","Flint ",78.623994999999994,39,7,7,18,5,117.62399499999999]
[null,"Michigan - Grand Traverse and Leelanau (Traverse City and Leland) (July 1-August 31)","Michigan","Traverse City and Leland",108.80806,44,7,11,18,5,152.80806000000001]
[null,"Michigan - Grand Traverse and Leelanau (Traverse City and Leland) (October 1-June 30)","Michigan","Traverse City and Leland",70.494654999999995,44,7,11,18,5,114.49465499999999]
[null,"Michigan - Grand Traverse and Leelanau (Traverse City and Leland) (September 1-September 30)","Michigan","Traverse City and Leland",70.494654999999995,44,7,11,18,5,114.49465499999999]
[null,"Michigan - Ingham and Eaton (East Lansing/Lansing)","Michigan","East Lansing/Lansing",77.982839999999996,39,7,7,18,5,116.98284]
[null,"Michigan - Isabella (Mount Pleasant)","Michigan","Mount Pleasant",70.627939999999995,44,7,11,18,5,114.62794]
[null,"Michigan - Kalamazoo/Calhoun (Kalamazoo/Battle Creek )","Michigan","Kalamazoo/Battle Creek ",80.745725000000007,44,7,11,18,5,124.74572500000001]
[null,"Michigan - Kent (Grand Rapids)","Michigan","Grand Rapids",79.948104999999998,39,7,7,18,5,118.948105]
[null,"Michigan - Mackinac (Mackinac Island) (July 1-August 31)","Michigan","Mackinac Island",84.475614999999991,49,9,13,24,5,133.475615]
[null,"Michigan - Mackinac (Mackinac Island) (October 1-June 30)","Michigan","Mackinac Island",70.356999999999999,49,9,13,24,5,119.357]
[null,"Michigan - Mackinac (Mackinac Island) (September 1-September 30)","Michigan","Mackinac Island",70.356999999999999,49,9,13,24,5,119.357]
[null,"Michigan - Macomb (Warren)","Michigan","Warren",76.604579999999984,39,7,7,18,5,115.60457999999998]
[null,"Michigan - Midland (Midland)","Michigan","Midland",90.38091,39,7,7,18,5,129.38091]
[null,"Michigan - Muskegon (Muskegon) (June 1-August 31)","Michigan","Muskegon",80.772989999999993,39,7,7,18,5,119.77298999999999]
[null,"Michigan - Muskegon (Muskegon) (October 1-May 31)","Michigan","Muskegon",70.274445,39,7,7,18,5,109.274445]
[null,"Michigan - Muskegon (Muskegon) (September 1-September 30)","Michigan","Muskegon",70.274445,39,7,7,18,5,109.274445]
[null,"Michigan - Oakland (Pontiac/Auburn Hills )","Michigan","Pontiac/Auburn Hills ",99.728244999999987,44,7,11,18,5,143.72824499999999]
[null,"Michigan - Ontonagon/Baraga/Houghton (Ontonagon/Baraga/Houghton )","Michigan","Ontonagon/Baraga/Houghton ",72.031660000000002,39,7,7,18,5,111.03166]
[null,"Michigan - Ottawa (Holland)","Michigan","Holland",74.452924999999993,44,7,11,18,5,118.45292499999999]
[null,"Michigan - Van Buren (South Haven) (June 1-August 31)","Michigan","South Haven",81.798990000000003,39,7,7,18,5,120.79899]
[null,"Michigan - Van Buren (South Haven) (October 1-May 31)","Michigan","South Haven",70.21602,39,7,7,18,5,109.21602]
[null,"Michigan - Van Buren (South Haven) (September 1-September 30)","Michigan","South Haven",70.21602,39,7,7,18,5,109.21602]
[null,"Michigan - Washtenaw (Ann Arbor)","Michigan","Ann Arbor",88.988685000000004,44,7,11,18,5,132.988685]
[null,"Michigan - Wayne (Detroit)","Michigan","Detroit",105.02211999999999,49,9,13,24,5,154.02211999999997]
[null,"MINNESOTA  -- Conus Rate","Minnesota ","CONUS",70,39,7,7,18,5,109]
[null,"Minnesota - Anoka (Coon Rapids/Ramsey)","Minnesota ","Coon Rapids/Ramsey",74.69821499999999,44,7,11,18,5,118.69821499999999]
[null,"Minnesota - Dakota (Eagan/Burnsville/Mendota Heights/Lakeville/Inver Grove Heights)","Minnesota ","Eagan/Burnsville/Mendota Heights/Lakeville/Inver Grove Heights",87.167914999999994,49,9,13,24,5,136.16791499999999]
[null,"Minnesota - Hennepin and  Ramsey (Minneapolis/St. Paul)","Minnesota ","Minneapolis/St. Paul",121.40809999999999,64,9,13,29,5,185.40809999999999]
[null,"Minnesota - Olmsted (Rochester)","Minnesota ","Rochester",93.069694999999996,44,{"$f":"VLOOKUP($F328,$N$6:$R$17,2)","v":7},{"$f":"VLOOKUP($F328,$N$6:$R$17,3)","v":11},{"$f":"VLOOKUP($F328,$N$6:$R$17,4)","v":18},{"$f":"VLOOKUP($F328,$N$6:$R$17,5)","v":5},137.069695]
[null,"Minnesota - St. Louis (Duluth) (June 1-September 30)","Minnesota ","Duluth",93.876244999999997,49,9,13,24,5,142.87624499999998]
[null,"Minnesota - St. Louis (Duluth) (October 1-May 31)","Minnesota ","Duluth",74.382435000000001,49,9,13,24,5,123.382435]
[null,"MISSISSIPPI  -- Conus Rate","Mississippi","CONUS",70,39,7,7,18,5,{"$f":"E331+F331","v":109}]
[null,"Mississippi - Desoto (Southaven)","Mississippi","Southaven",85.564409999999995,44,7,11,18,5,129.56441000000001]
[null,"Mississippi - Forrest and Lamar (Hattiesburg)","Mississippi","Hattiesburg",74.574619999999996,49,9,13,24,5,123.57462]
[null,"Mississippi - Grenada (Grenada)","Mississippi","Grenada",71.710369999999998,44,7,11,18,5,115.71037]
[null,"Mississippi - Harrison (Gulfport/Biloxi)","Mississippi","Gulfport/Biloxi",86.171175000000005,44,7,11,18,5,130.17117500000001]
[null,"Mississippi - Oktibbeha (Starkville )","Mississippi","Starkville ",72.728295000000003,44,7,11,18,5,116.728295]
[null,"Mississippi - Tunica (Robinsonville)","Mississippi","Robinsonville",75.089235000000002,44,7,11,18,5,119.089235]
[null,"MISSOURI  -- Conus Rate","Missouri","CONUS",70,39,7,7,18,5,109]
[null,"Missouri - Boone (Columbia)","Missouri","Columbia",72.076880000000003,39,7,7,18,5,111.07688]
[null,"Missouri - Greene (Springfield)","Missouri","Springfield",72.976339999999993,39,7,7,18,5,111.97633999999999]
[null,"Missouri - Jackson, Clay, Cass and Platte (Kansas City)","Missouri","Kansas City",103.49603999999999,49,9,13,24,5,152.49603999999999]
[null,"Missouri - St. Louis, St. Louis City and St. Charles (St. Louis)","Missouri","St. Louis",106.18900499999999,59,9,13,29,5,165.18900500000001]
[null,"MONTANA  -- Conus Rate","Montana","CONUS",70,39,7,7,18,5,109]
[null,"Montana - Gallatin (Big Sky/West Yellowstone) (July 1-August 31)","Montana","Big Sky/West Yellowstone",101.18544999999999,49,9,13,24,5,150.18545]
[null,"Montana - Gallatin (Big Sky/West Yellowstone) (October 1-June 30)","Montana","Big Sky/West Yellowstone",76.422655000000006,49,9,13,24,5,125.42265500000001]
[null,"Montana - Gallatin (Big Sky/West Yellowstone) (September 1-September 30)","Montana","Big Sky/West Yellowstone",76.422655000000006,49,9,13,24,5,125.42265500000001]
[null,"Montana - Lewis and Clark (Helena)","Montana","Helena",72.544470000000004,44,7,11,18,5,116.54447]
[null,"Montana - Missoula/Lake/Flathead (Missoula/Polson/Kalispell) (June 1-August 31)","Montana","Missoula/Polson/Kalispell",95.578739999999996,44,7,11,18,5,139.57873999999998]
[null,"Montana - Missoula/Lake/Flathead (Missoula/Polson/Kalispell) (October 1-May 31)","Montana","Missoula/Polson/Kalispell",77.784859999999995,44,7,11,18,5,121.78485999999999]
[null,"Montana - Missoula/Lake/Flathead (Missoula/Polson/Kalispell) (September 1-September 30)","Montana","Missoula/Polson/Kalispell",77.784859999999995,44,7,11,18,5,121.78485999999999]
[null,"Montana - Silver Bow (Butte)","Montana","Butte",71.646814999999989,44,7,11,18,5,115.64681499999999]
[null,"NEBRASKA  -- Conus Rate","Nebraska","CONUS",70,39,7,7,18,5,109]
[null,"Nebraska - Douglas (Omaha)","Nebraska","Omaha",92.718194999999994,49,9,13,24,5,141.71819499999998]
[null,"NEVADA  -- Conus Rate","Nevada","CONUS",70,39,7,7,18,5,109]
[null,"Nevada - Clark (Las Vegas) (January 1-May 31)","Nevada","Las Vegas",124.14752,64,9,13,29,5,188.14751999999999]
[null,"Nevada - Clark (Las Vegas) (June 1-August 31)","Nevada","Las Vegas",93.297979999999995,64,9,13,29,5,157.29798]
[null,"Nevada - Clark (Las Vegas) (October 1-December 31)","Nevada","Las Vegas",108.19265,64,9,13,29,5,172.19265000000001]
[null,"Nevada - Clark (Las Vegas) (September 1-September 30)","Nevada","Las Vegas",108.19265,64,9,13,29,5,172.19265000000001]
[null,"Nevada - Douglas, Carson City  (Stateline, Carson City)","Nevada","Stateline, Carson City",91.444434999999999,64,9,13,29,5,155.444435]
[null,"Nevada - Washoe (Incline Village/Crystal Bay/Reno/Sparks) (June 1-August 31)","Nevada","Incline Village/Crystal Bay/Reno/Sparks",151.91525999999999,49,9,13,24,5,200.91525999999999]
[null,"Nevada - Washoe (Incline Village/Crystal Bay/Reno/Sparks) (October 1-May 31)","Nevada","Incline Village/Crystal Bay/Reno/Sparks",103.73334999999999,49,9,13,24,5,152.73334999999997]
[null,"Nevada - Washoe (Incline Village/Crystal Bay/Reno/Sparks) (September 1-September 30)","Nevada","Incline Village/Crystal Bay/Reno/Sparks",103.73334999999999,49,9,13,24,5,152.73334999999997]
[null,"NEW HAMPSHIRE  -- Conus Rate","New Hampshire","CONUS",70,39,7,7,18,5,109]
[null,"New Hampshire - Belknap (Laconia) (June 1-September 30)","New Hampshire","Laconia",95.424554999999998,39,7,7,18,5,134.424555]
[null,"New Hampshire - Belknap (Laconia) (November 1-May 31)","New Hampshire","Laconia",78.999054999999984,39,7,7,18,5,117.99905499999998]
[null,"New Hampshire - Belknap (Laconia) (October 1-October 31)","New Hampshire","Laconia",95.424554999999998,39,7,7,18,5,134.424555]
[null,"New Hampshire - Caroll (Conway) (July 1-August 31)","New Hampshire","Conway",146.74478999999999,49,9,13,24,5,195.74478999999999]
[null,"New Hampshire - Caroll (Conway) (March 1-June 30)","New Hampshire","Conway",98.989620000000002,49,9,13,24,5,147.98962]
[null,"New Hampshire - Caroll (Conway) (October 1-February 29)","New Hampshire","Conway",117.30409999999999,49,9,13,24,5,166.30410000000001]
[null,"New Hampshire - Caroll (Conway) (September 1-September 30)","New Hampshire","Conway",117.30409999999999,49,9,13,24,5,166.30410000000001]
[null,"New Hampshire - Grafton and Sullivan  (Lebanon/Lincoln/West Lebanon/Franconia/Hanover/Holderness/Sunapee/Waterville Valley/North Woodstock/Plymouth)","New Hampshire","Lebanon/Lincoln/West Lebanon/Franconia/Hanover/Holderness/Sunapee/Waterville Valley/North Woodstock/Plymouth",92.095659999999995,49,9,13,24,5,141.09566000000001]
[null,"New Hampshire - Hillsborough (Manchester)","New Hampshire","Manchester",91.660274999999999,44,7,11,18,5,135.66027500000001]
[null,"New Hampshire - Merrimack (Concord) (May 1-September 30)","New Hampshire","Concord",89.704129999999992,44,7,11,18,5,133.70412999999999]
[null,"New Hampshire - Merrimack (Concord) (November 1-April 30)","New Hampshire","Concord",76.459514999999996,44,7,11,18,5,120.459515]
[null,"New Hampshire - Merrimack (Concord) (October 1-October 31)","New Hampshire","Concord",89.704129999999992,44,7,11,18,5,133.70412999999999]
[null,"New Hampshire - Rockingham (Portsmouth) (July 1-September 30)","New Hampshire","Portsmouth",124.59820000000001,44,7,11,18,5,168.59820000000002]
[null,"New Hampshire - Rockingham (Portsmouth) (October 1-June 30)","New Hampshire","Portsmouth",95.666044999999997,44,7,11,18,5,139.666045]
[null,"New Hampshire - Strafford (Durham)","New Hampshire","Durham",87.131720000000001,44,7,11,18,5,131.13172]
[null,"NEW JERSEY  -- Conus Rate","New Jersey","CONUS",70,39,7,7,18,5,109]
[null,"New Jersey - Atlantic and Cape May (Atlantic City/Ocean City/Cape May) (May 1-September 30)","New Jersey","Atlantic City/Ocean City/Cape May",117.36309499999999,54,8,12,26,5,171.36309499999999]
[null,"New Jersey - Atlantic and Cape May (Atlantic City/Ocean City/Cape May) (November 1-April 30)","New Jersey","Atlantic City/Ocean City/Cape May",96.36381999999999,54,8,12,26,5,150.36381999999998]
[null,"New Jersey - Atlantic and Cape May (Atlantic City/Ocean City/Cape May) (October 1-October 31)","New Jersey","Atlantic City/Ocean City/Cape May",117.36309499999999,54,8,12,26,5,171.36309499999999]
[null,"New Jersey - Camden and Burlington (Cherry Hill/Moorestown)","New Jersey","Cherry Hill/Moorestown",90.797105000000002,44,7,11,18,5,134.79710499999999]
[null,"New Jersey - Essex, Bergen, Hudson and Passaic (Newark)","New Jersey","Newark",124.37704000000001,49,9,13,24,5,173.37704000000002]
[null,"New Jersey - Hunterdon (Flemington)","New Jersey","Flemington",103.899125,39,7,7,18,5,142.899125]
[null,"New Jersey - Mercer (Princeton/Trenton )","New Jersey","Princeton/Trenton ",137.26454999999999,44,7,11,18,5,181.26454999999999]
[null,"New Jersey - Middlesex  (Edison/Piscataway)","New Jersey","Edison/Piscataway",111.70859999999999,44,7,11,18,5,155.70859999999999]
[null,"New Jersey - Monmouth (Eatontown/Freehold)","New Jersey","Eatontown/Freehold",118.621655,49,9,13,24,5,167.621655]
[null,"New Jersey - Morris (Parsippany)","New Jersey","Parsippany",134.28763000000001,49,9,13,24,5,183.28763000000001]
[null,"New Jersey - Ocean (Tom’s River) (July 1-August 31)","New Jersey","Tom’s River",112.68814499999999,39,7,7,18,5,151.68814499999999]
[null,"New Jersey - Ocean (Tom’s River) (October 1-June 30)","New Jersey","Tom’s River",85.131114999999994,39,7,7,18,5,124.13111499999999]
[null,"New Jersey - Ocean (Tom’s River) (September 1-September 30)","New Jersey","Tom’s River",85.131114999999994,39,{"$f":"VLOOKUP($F392,$N$6:$R$17,2)","v":7},{"$f":"VLOOKUP($F392,$N$6:$R$17,3)","v":7},{"$f":"VLOOKUP($F392,$N$6:$R$17,4)","v":18},{"$f":"VLOOKUP($F392,$N$6:$R$17,5)","v":5},124.13111499999999]
[null,"New Jersey - Somerset (Belle Mead)","New Jersey","Belle Mead",125.64329499999999,44,7,11,18,5,169.64329499999999]
[null,"New Jersey - Union (Springfield/Cranford/New Providence/Westfield/Clark/Summit/Linden)","New Jersey","Springfield/Cranford/New Providence/Westfield/Clark/Summit/Linden",103.09542499999999,49,9,13,24,5,152.09542499999998]
[null,"NEW MEXICO  -- Conus Rate","New Mexico","CONUS",70,39,7,7,18,5,{"$f":"E395+F395","v":109}]
[null,"New Mexico - Bernalillo (Albuquerque)","New Mexico","Albuquerque",74.670379999999994,49,9,13,24,5,123.67037999999999]
[null,"New Mexico - Los Alamos  (Los Alamos)","New Mexico","Los Alamos",77.552109999999985,49,9,13,24,5,126.55210999999998]
[null,"New Mexico - Santa Fe (Santa Fe) (November 1-August 31)","New Mexico","Santa Fe",84.855045000000004,59,9,13,29,5,143.85504500000002]
[null,"New Mexico - Santa Fe (Santa Fe) (October 1-October 31)","New Mexico","Santa Fe",90.68348499999999,59,9,13,29,5,149.68348499999999]
[null,"New Mexico - Santa Fe (Santa Fe) (September 1-September 30)","New Mexico","Santa Fe",90.68348499999999,59,9,13,29,5,149.68348499999999]
[null,"New Mexico - Taos (Taos)","New Mexico","Taos",71.303579999999997,59,9,13,29,5,130.30358000000001]
[null,"NEW YORK  -- Conus rate","New York","CONUS",70,39,7,7,18,5,109]
[null,"New York - Albany (Albany)","New York","Albany",105.41437500000001,49,9,13,24,5,154.41437500000001]
[null,"New York - Broome and Tioga (Binghamton/Owego)","New York","Binghamton/Owego",81.08117,39,7,7,18,5,120.08117]
[null,"New York - Dutchess (Poughkeepsie)","New York","Poughkeepsie",105.50870999999999,54,8,12,26,5,159.50871000000001]
[null,"New York - Erie (Buffalo)","New York","Buffalo",86.348159999999993,54,8,12,26,5,140.34816000000001]
[null,"New York - Essex (Lake Placid) (June 1-August 31)","New York","Lake Placid",134.61471499999999,54,8,12,26,5,188.61471499999999]
[null,"New York - Essex (Lake Placid) (October 1-May 31)","New York","Lake Placid",102.54138499999999,54,8,12,26,5,156.54138499999999]
[null,"New York - Essex (Lake Placid) (September 1-September 30)","New York","Lake Placid",102.54138499999999,54,8,12,26,5,156.54138499999999]
[null,"New York - Monroe (Rochester)","New York","Rochester",94.642894999999996,44,7,11,18,5,138.64289500000001]
[null,"New York - Nassau (Floral Park/Garden City/Glen Cove/Great Neck/Roslyn)","New York","Floral Park/Garden City/Glen Cove/Great Neck/Roslyn",159.42842999999999,64,9,13,29,5,223.42842999999999]
[null,"New York - Niagara (Niagara Falls) (July 1-August 31)","New York","Niagara Falls",92.616924999999995,44,7,11,18,5,136.61692499999998]
[null,"New York - Niagara (Niagara Falls) (October 1-June 30)","New York","Niagara Falls",69.596620000000001,44,7,11,18,5,113.59662]
[null,"New York - Niagara (Niagara Falls) (September 1-September 30)","New York","Niagara Falls",69.596620000000001,44,7,11,18,5,113.59662]
[null,"New York - Onondaga (Syracuse)","New York","Syracuse",85.383909999999986,44,7,11,18,5,129.38390999999999]
[null,"New York - Orange (West Point)","New York","West Point",107.79317499999999,44,7,11,18,5,151.79317499999999]
[null,"New York - Queens (Queens)","New York","Queens",135.20238499999999,59,9,13,29,5,194.20238499999999]
[null,"New York - Rensselaer (Troy )","New York","Troy ",84.289319999999989,39,7,7,18,5,123.28931999999999]
[null,"New York - Rockland (Nyack/Palisades)","New York","Nyack/Palisades",108.01927499999999,49,9,13,24,5,157.01927499999999]
[null,"New York - Saratoga and Schenectady (Saratoga Springs/Schenectady) (July 1-August 31)","New York","Saratoga Springs/Schenectady",167.80999499999999,44,7,11,18,5,211.80999499999999]
[null,"New York - Saratoga and Schenectady (Saratoga Springs/Schenectady) (October 1-June 30)","New York","Saratoga Springs/Schenectady",104.57371999999999,44,7,11,18,5,148.57371999999998]
[null,"New York - Saratoga and Schenectady (Saratoga Springs/Schenectady) (September 1-September 30)","New York","Saratoga Springs/Schenectady",104.57371999999999,44,7,11,18,5,148.57371999999998]
[null,"New York - Suffolk (Riverhead/Ronkonkoma/Melville/Smithtown/Huntington Station/Amagansett/East Hampton/Montauk/Southhampton/Islandia/Commack/Medford/Stony Brook/Hauppauge/Centereach)","New York","Riverhead/Ronkonkoma/Melville/Smithtown/Huntington Station/Amagansett/East Hampton/Montauk/Southhampton/Islandia/Commack/Medford/Stony Brook/Hauppauge/Centereach",126.98441,64,9,13,29,5,190.98441]
[null,"New York - The boroughs of Manhattan, Brooklyn, the Bronx, Richmond County (Manhattan (includes the boroughs of Manhattan, Brooklyn, the Bronx and Staten Island)) (January 1-June 30)","New York","Manhattan (includes the boroughs of Manhattan, Brooklyn, the Bronx and Staten Island)",244.33344500000001,64,9,13,29,5,308.33344499999998]
[null,"New York - The boroughs of Manhattan, Brooklyn, the Bronx, Richmond County (Manhattan (includes the boroughs of Manhattan, Brooklyn, the Bronx and Staten Island)) (July 1-August 31)","New York","Manhattan (includes the boroughs of Manhattan, Brooklyn, the Bronx and Staten Island)",220.07519499999998,64,9,13,29,5,284.07519500000001]
[null,"New York - The boroughs of Manhattan, Brooklyn, the Bronx, Richmond County (Manhattan (includes the boroughs of Manhattan, Brooklyn, the Bronx and Staten Island)) (October 1-December 31)","New York","Manhattan (includes the boroughs of Manhattan, Brooklyn, the Bronx and Staten Island)",310.54930000000002,64,9,13,29,5,374.54930000000002]
[null,"New York - The boroughs of Manhattan, Brooklyn, the Bronx, Richmond County (Manhattan (includes the boroughs of Manhattan, Brooklyn, the Bronx and Staten Island)) (September 1-September 30)","New York","Manhattan (includes the boroughs of Manhattan, Brooklyn, the Bronx and Staten Island)",310.54930000000002,64,9,13,29,5,374.54930000000002]
[null,"New York - Tompkins and Seneca (Ithaca/Waterloo/Romulus)","New York","Ithaca/Waterloo/Romulus",93.666105000000002,44,7,11,18,5,137.66610500000002]
[null,"New York - Ulster (Kingston)","New York","Kingston",92.337530000000001,49,9,13,24,5,141.33753000000002]
[null,"New York - Warren (Glens Falls) (July 1-August 31)","New York","Glens Falls",132.609645,49,9,13,24,5,181.609645]
[null,"New York - Warren (Glens Falls) (October 1-June 30)","New York","Glens Falls",90.12688,49,9,13,24,5,139.12688]
[null,"New York - Warren (Glens Falls) (September 1-September 30)","New York","Glens Falls",90.12688,49,9,13,24,5,139.12688]
[null,"New York - Westchester (Tarrytown/White Plains/New Rochelle/Yonkers)","New York","Tarrytown/White Plains/New Rochelle/Yonkers",153.82856000000001,59,9,13,29,5,212.82856000000001]
[null,"North Carolina - Buncombe (Asheville ) (July 1-September 30)","North Carolina","Asheville ",88.779304999999994,49,9,13,24,5,137.77930499999999]
[null,"North Carolina - Buncombe (Asheville ) (November 1-June 30)","North Carolina","Asheville ",75.998289999999997,49,9,13,24,5,124.99829]
[null,"North Carolina - Buncombe (Asheville ) (October 1-October 31)","North Carolina","Asheville ",88.779304999999994,49,9,13,24,5,137.77930499999999]
[null,"North Carolina - Carteret (Atlantic Beach/Morehead City) (June 1-August 31)","North Carolina","Atlantic Beach/Morehead City",105.75656499999999,49,9,13,24,5,154.75656499999999]
[null,"North Carolina - Carteret (Atlantic Beach/Morehead City) (October 1-May 31)","North Carolina","Atlantic Beach/Morehead City",70.314250000000001,49,9,13,24,5,119.31425]
[null,"North Carolina - Carteret (Atlantic Beach/Morehead City) (September 1-September 30)","North Carolina","Atlantic Beach/Morehead City",70.314250000000001,49,9,13,24,5,119.31425]
[null,"North Carolina - Craven  (New Bern/Havelock)","North Carolina","New Bern/Havelock",81.767924999999991,44,7,11,18,5,125.76792499999999]
[null,"North Carolina - Dare (Kill Devil) (April 1-September 30)","North Carolina","Kill Devil",101.57894,54,8,12,26,5,155.57893999999999]
[null,"North Carolina - Dare (Kill Devil) (October 1-March 31)","North Carolina","Kill Devil",69.999989999999997,54,8,12,26,5,123.99999]
[null,"North Carolina - Durham (Durham)","North Carolina","Durham",97.20456999999999,49,9,13,24,5,146.20456999999999]
[null,"North Carolina - Forsyth (Winston-Salem)","North Carolina","Winston-Salem",86.786394999999999,44,7,11,18,5,130.786395]
[null,"North Carolina - Guilford (Greensboro) (May 1-September 30)","North Carolina","Greensboro",87.437809999999999,44,7,11,18,5,131.43781000000001]
[null,"North Carolina - Guilford (Greensboro) (October 1-April 30)","North Carolina","Greensboro",99.553539999999998,44,7,11,18,5,143.55354]
[null,"North Carolina - Mecklenburg (Charlotte)","North Carolina","Charlotte",87.510294999999999,49,9,13,24,5,136.51029499999999]
[null,"North Carolina - New Hanover (Wilmington)","North Carolina","Wilmington",81.691545000000005,49,9,13,24,5,130.69154500000002]
[null,"North Carolina - Orange (Chapel Hill)","North Carolina","Chapel Hill",88.878389999999996,49,9,13,24,5,137.87839]
[null,"North Carolina - Pitt (Greenville)","North Carolina","Greenville",73.650365000000008,39,7,7,18,5,112.65036500000001]
[null,"North Carolina - Wake (Raleigh)","North Carolina","Raleigh",87.832819999999998,54,8,12,26,5,141.83282]
[null,"NORTH DAKOTA  -- Conus rate","North Dakota","CONUS",70,39,7,7,18,5,109]
[null,"OHIO  -- Conus rate","Ohio","CONUS",70,39,7,7,18,5,109]
[null,"Ohio - Butler and Warren (Hamilton)","Ohio","Hamilton",85.544839999999994,49,9,13,24,5,134.54483999999999]
[null,"Ohio - Cuyahoga (Cleveland)","Ohio","Cleveland",106.567865,54,8,12,26,5,160.56786499999998]
[null,"Ohio - Erie and  Huron (Sandusky/Bellevue)","Ohio","Sandusky/Bellevue",94.657619999999994,39,{"$f":"VLOOKUP($F456,$N$6:$R$17,2)","v":7},{"$f":"VLOOKUP($F456,$N$6:$R$17,3)","v":7},{"$f":"VLOOKUP($F456,$N$6:$R$17,4)","v":18},{"$f":"VLOOKUP($F456,$N$6:$R$17,5)","v":5},133.65762000000001]
[null,"Ohio - Franklin (Columbus)","Ohio","Columbus",101.41705999999999,49,9,13,24,5,150.41705999999999]
[null,"Ohio - Greene, Darke and Montgomery (Dayton/Fairborn)","Ohio","Dayton/Fairborn",83.917014999999992,44,7,11,18,5,127.91701499999999]
[null,"Ohio - Hamilton and Clermont (Cincinnati)","Ohio","Cincinnati",104.13672,54,8,12,26,5,{"$f":"E459+F459","v":158.13672}]
[null,"Ohio - Lake (Mentor)","Ohio","Mentor",83.982564999999994,44,7,11,18,5,127.98256499999999]
[null,"Ohio - Lucas (Toledo)","Ohio","Toledo",78.415184999999994,44,7,11,18,5,122.41518499999999]
[null,"Ohio - Mahoning and Trumbull (Youngstown)","Ohio","Youngstown",75.331009999999992,39,7,7,18,5,114.33100999999999]
[null,"Ohio - Stark (Canton)","Ohio","Canton",76.595744999999994,44,7,11,18,5,120.59574499999999]
[null,"Ohio - Summit (Akron)","Ohio","Akron",82.68885499999999,49,9,13,24,5,131.68885499999999]
[null,"Ohio - Wayne and Medina (Rittman)","Ohio","Rittman",77.812314999999998,39,7,7,18,5,116.812315]
[null,"OKLAHOMA  -- Conus rate","Oklahoma","CONUS",70,39,7,7,18,5,109]
[null,"Oklahoma - Oklahoma (Oklahoma City)","Oklahoma","Oklahoma City",80.780399999999986,49,9,13,24,5,129.78039999999999]
[null,"Oklahoma - Tulsa, Creek, Osage, and Rogers (Tulsa )","Oklahoma","Tulsa ",73.168144999999996,44,7,11,18,5,117.168145]
[null,"OREGON  -- Conus rate","Oregon","CONUS",70,39,7,7,18,5,109]
[null,"Oregon - Clackamas (Clackamas)","Oregon","Clackamas",76.935085000000001,39,7,7,18,5,115.935085]
[null,"Oregon - Clatsop (Seaside) (July 1-August 31)","Oregon","Seaside",122.86331,54,8,12,26,5,176.86331000000001]
[null,"Oregon - Clatsop (Seaside) (October 1-June 30)","Oregon","Seaside",85.159329999999997,54,8,12,26,5,139.15933000000001]
[null,"Oregon - Clatsop (Seaside) (September 1-September 30)","Oregon","Seaside",85.159329999999997,54,8,12,26,5,139.15933000000001]
[null,"Oregon - Deschutes (Bend)","Oregon","Bend",81.141494999999992,44,7,11,18,5,125.14149499999999]
[null,"Oregon - Jackson/Klamath (Ashland/Crater Lake) (June 1-August 31)","Oregon","Ashland/Crater Lake",85.451454999999996,44,7,11,18,5,129.45145500000001]
[null,"Oregon - Jackson/Klamath (Ashland/Crater Lake) (October 1-May 31)","Oregon","Ashland/Crater Lake",77.081669999999988,44,7,11,18,5,121.08166999999999]
[null,"Oregon - Jackson/Klamath (Ashland/Crater Lake) (September 1-September 30)","Oregon","Ashland/Crater Lake",77.081669999999988,44,7,11,18,5,121.08166999999999]
[null,"Oregon - Lane (Eugene/Florence)","Oregon","Eugene/Florence",91.618570000000005,44,7,11,18,5,135.61857000000001]
[null,"Oregon - Lincoln (Lincoln City) (July 1-August 31)","Oregon","Lincoln City",104.838105,49,9,13,24,5,153.83810499999998]
[null,"Oregon - Lincoln (Lincoln City) (October 1-June 30)","Oregon","Lincoln City",81.235829999999993,49,9,13,24,5,130.23582999999999]
[null,"Oregon - Lincoln (Lincoln City) (September 1-September 30)","Oregon","Lincoln City",81.235829999999993,49,9,13,24,5,130.23582999999999]
[null,"Oregon - Multnomah (Portland)","Oregon","Portland",106.41690999999999,49,9,13,24,5,155.41690999999997]
[null,"Oregon - Washington (Beaverton)","Oregon","Beaverton",89.724554999999995,44,7,11,18,5,133.72455500000001]
[null,"PENNSYLVANIA  -- Conus rate","Pennsylvania","CONUS",70,39,7,7,18,5,109]
[null,"Pennsylvania - Adams (Gettysburg) (April 1-September 30)","Pennsylvania","Gettysburg",98.248525000000001,54,8,12,26,5,152.248525]
[null,"Pennsylvania - Adams (Gettysburg) (November 1-March 31)","Pennsylvania","Gettysburg",74.882704999999987,54,8,12,26,5,128.88270499999999]
[null,"Pennsylvania - Adams (Gettysburg) (October 1-October 31)","Pennsylvania","Gettysburg",98.248525000000001,54,8,12,26,5,152.248525]
[null,"Pennsylvania - Allegheny (Pittsburgh)","Pennsylvania","Pittsburgh",107.802295,54,8,12,26,5,161.80229500000002]
[null,"Pennsylvania - Berks (Reading)","Pennsylvania","Reading",82.976230000000001,44,7,11,18,5,126.97623]
[null,"Pennsylvania - Bucks (Bucks County)","Pennsylvania","Bucks County",100.72203999999999,59,9,13,29,5,159.72203999999999]
[null,"Pennsylvania - Centre (State College )","Pennsylvania","State College ",79.403849999999991,44,7,11,18,5,123.40384999999999]
[null,"Pennsylvania - Chester (Malvern/Frazer/Berwyn/Phoenixville)","Pennsylvania","Malvern/Frazer/Berwyn/Phoenixville",111.599825,49,9,13,24,5,160.59982500000001]
[null,"Pennsylvania - City of Hershey (Hershey) (June 1-September 30)","Pennsylvania","Hershey",140.72008,44,7,11,18,5,184.72008]
[null,"Pennsylvania - City of Hershey (Hershey) (October 1-May 31)","Pennsylvania","Hershey",85.800674999999998,44,7,11,18,5,129.80067500000001]
[null,"Pennsylvania - Cumberland (Mechanicsburg)","Pennsylvania","Mechanicsburg",78.766400000000004,54,8,12,26,5,132.7664]
[null,"Pennsylvania - Daupin (Harrisburg)","Pennsylvania","Harrisburg",88.611724999999993,44,7,11,18,5,132.61172499999998]
[null,"Pennsylvania - Delaware (Chester/Radnor/Essington)","Pennsylvania","Chester/Radnor/Essington",98.704334999999986,44,7,11,18,5,142.70433499999999]
[null,"Pennsylvania - Erie (Erie)","Pennsylvania","Erie",85.417635000000004,39,7,7,18,5,124.417635]
[null,"Pennsylvania - Lackawanna (Scranton)","Pennsylvania","Scranton",73.446304999999995,39,7,7,18,5,112.446305]
[null,"Pennsylvania - Lancaster (Lancaster)","Pennsylvania","Lancaster",89.28613,49,9,13,24,5,138.28613000000001]
[null,"Pennsylvania - Lehigh and Northampton (Allentown/Easton/Bethlehem)","Pennsylvania","Allentown/Easton/Bethlehem",86.969840000000005,44,7,11,18,5,130.96984]
[null,"Pennsylvania - Montgomery (Montgomery County)","Pennsylvania","Montgomery County",122.979495,59,9,13,29,5,181.97949499999999]
[null,"Pennsylvania - Philadelphia (Philadelphia)","Pennsylvania","Philadelphia",149.13385,64,9,13,29,5,213.13385]
[null,"RHODE ISLAND  -- Conus rate","Rhode Island","CONUS",70,39,7,7,18,5,109]
[null,"Rhode Island - Kent and  Washington (East Greenwich/Warwick/North Kingstown)","Rhode Island","East Greenwich/Warwick/North Kingstown",102.50794499999999,49,9,13,24,5,151.50794500000001]
[null,"Rhode Island - Newport  (Jamestown/Middletown/Newport) (December 1-January 31)","Rhode Island","Jamestown/Middletown/Newport",82.108784999999997,64,9,13,29,5,146.10878500000001]
[null,"Rhode Island - Newport  (Jamestown/Middletown/Newport) (February 1-September 30)","Rhode Island","Jamestown/Middletown/Newport",138.950895,64,9,13,29,5,202.950895]
[null,"Rhode Island - Newport  (Jamestown/Middletown/Newport) (October 1-November 30)","Rhode Island","Jamestown/Middletown/Newport",138.950895,64,9,13,29,5,202.950895]
[null,"Rhode Island - Providence (Providence)","Rhode Island","Providence",146.34892500000001,54,8,12,26,5,200.34892500000001]
[null,"SOUTH CAROLINA  -- Conus rate","South Carolina","CONUS",70,39,7,7,18,5,109]
[null,"South Carolina - Aiken (Aiken)","South Carolina","Aiken",76.853574999999992,39,7,7,18,5,115.85357499999999]
[null,"South Carolina - Beaufort (Hilton Head) (April 1-September 30)","South Carolina","Hilton Head",135.53849499999998,54,8,12,26,5,189.53849499999998]
[null,"South Carolina - Beaufort (Hilton Head) (October 1-March 31)","South Carolina","Hilton Head",94.472084999999993,54,8,12,26,5,148.47208499999999]
[null,"South Carolina - Charleston, Berkeley and Dorchester (Charleston)","South Carolina","Charleston",137,54,8,12,26,5,191]
[null,"South Carolina - Greenville (Greenville)","South Carolina","Greenville",85.265920000000008,49,9,13,24,5,134.26591999999999]
[null,"South Carolina - Horry (Myrtle Beach) (November 1-August 31)","South Carolina","Myrtle Beach",95.498464999999996,54,8,12,26,5,149.49846500000001]
[null,"South Carolina - Horry (Myrtle Beach) (October 1-October 31)","South Carolina","Myrtle Beach",82.33175,54,8,12,26,5,136.33175]
[null,"South Carolina - Horry (Myrtle Beach) (September 1-September 30)","South Carolina","Myrtle Beach",82.33175,54,8,12,26,5,136.33175]
[null,"South Carolina - Richland (Columbia)","South Carolina","Columbia",86.623279999999994,44,7,11,18,5,130.62327999999999]
[null,"SOUTH DAKOTA  -- Conus rate","South Dakota","CONUS",70,39,{"$f":"VLOOKUP($F520,$N$6:$R$17,2)","v":7},{"$f":"VLOOKUP($F520,$N$6:$R$17,3)","v":7},{"$f":"VLOOKUP($F520,$N$6:$R$17,4)","v":18},{"$f":"VLOOKUP($F520,$N$6:$R$17,5)","v":5},109]
[null,"South Dakota - Fall River and Custer (Hot Springs) (July 1-August 31)","South Dakota","Hot Springs",95.611514999999997,39,7,7,18,5,134.611515]
[null,"South Dakota - Fall River and Custer (Hot Springs) (October 1-June 30)","South Dakota","Hot Springs",70.303325000000001,39,7,7,18,5,109.303325]
[null,"South Dakota - Fall River and Custer (Hot Springs) (September 1-September 30)","South Dakota","Hot Springs",70.303325000000001,39,7,7,18,5,{"$f":"E523+F523","v":109.303325}]
[null,"South Dakota - Meade, Butte and Lawrence (Sturgis/Spearfish ) (May 1-August 31)","South Dakota","Sturgis/Spearfish ",92.802269999999993,44,7,11,18,5,136.80226999999999]
[null,"South Dakota - Meade, Butte and Lawrence (Sturgis/Spearfish ) (October 1-April 30)","South Dakota","Sturgis/Spearfish ",70.111329999999995,44,7,11,18,5,114.11133]
[null,"South Dakota - Meade, Butte and Lawrence (Sturgis/Spearfish ) (September 1-September 30)","South Dakota","Sturgis/Spearfish ",70.111329999999995,44,7,11,18,5,114.11133]
[null,"South Dakota - Pennington (Rapid City) (June 1-August 31)","South Dakota","Rapid City",107.04457499999999,44,7,11,18,5,151.04457500000001]
[null,"South Dakota - Pennington (Rapid City) (October 1-May 31)","South Dakota","Rapid City",69.657134999999997,44,7,11,18,5,113.657135]
[null,"South Dakota - Pennington (Rapid City) (September 1-September 30)","South Dakota","Rapid City",69.657134999999997,44,7,11,18,5,113.657135]
[null,"TENNESSEE  -- Conus rate","Tennessee","CONUS",70,39,7,7,18,5,109]
[null,"Tennessee - Anderson (Oak Ridge)","Tennessee","Oak Ridge",78.543814999999995,39,7,7,18,5,117.543815]
[null,"Tennessee - Davidson (Nashville)","Tennessee","Nashville",107.00324999999999,54,8,12,26,5,161.00324999999998]
[null,"Tennessee - Hamilton (Chattanooga )","Tennessee","Chattanooga ",84.540594999999996,44,7,11,18,5,128.540595]
[null,"Tennessee - Knox (Knoxville)","Tennessee","Knoxville",77.037210000000002,49,9,13,24,5,126.03721]
[null,"Tennessee - Shelby (Memphis)","Tennessee","Memphis",89.545194999999993,49,9,13,24,5,138.54519499999998]
[null,"Tennessee - Williamson (Brentwood/Franklin)","Tennessee","Brentwood/Franklin",90.744379999999992,49,9,13,24,5,139.74437999999998]
[null,"TEXAS  -- Conus rate","Texas","CONUS",70,39,7,7,18,5,109]
[null,"Texas - Bexar (San Antonio)","Texas","San Antonio",112.44902999999999,54,8,12,26,5,166.44902999999999]
[null,"Texas - Brazos (College Station)","Texas","College Station",77.851549999999989,39,7,7,18,5,116.85154999999999]
[null,"Texas - Cameron (South Padre Island) (March 1-August 31)","Texas","South Padre Island",98.766179999999991,44,7,11,18,5,142.76617999999999]
[null,"Texas - Cameron (South Padre Island) (October 1-February 29)","Texas","South Padre Island",72.614674999999991,44,7,11,18,5,116.61467499999999]
[null,"Texas - Cameron (South Padre Island) (September 1-September 30)","Texas","South Padre Island",72.614674999999991,44,7,11,18,5,116.61467499999999]
[null,"Texas - Collin (Plano)","Texas","Plano",86.970409999999987,49,9,13,24,5,135.97040999999999]
[null,"Texas - Dallas County and City of Dallas (Dallas) (April 1-September 30)","Texas","Dallas",109.47239499999999,59,9,13,29,5,168.47239500000001]
[null,"Texas - Dallas County and City of Dallas (Dallas) (January 1-March 31)","Texas","Dallas",123.296795,59,9,13,29,5,182.296795]
[null,"Texas - Dallas County and City of Dallas (Dallas) (October 1-December 31)","Texas","Dallas",109.47239499999999,59,9,13,29,5,168.47239500000001]
[null,"Texas - El Paso (El Paso)","Texas","El Paso",86.723504999999989,44,7,11,18,5,130.72350499999999]
[null,"Texas - Galveston (Galveston) (August 1-September 30)","Texas","Galveston",95.192184999999995,49,9,13,24,5,144.19218499999999]
[null,"Texas - Galveston (Galveston) (June 1-July 31)","Texas","Galveston",119.90349000000001,49,9,13,24,5,168.90349000000001]
[null,"Texas - Galveston (Galveston) (October 1-May 31)","Texas","Galveston",95.192184999999995,49,9,13,24,5,144.19218499999999]
[null,"Texas - Hidalgo (McAllen)","Texas","McAllen",79.326899999999995,44,7,11,18,5,123.32689999999999]
[null,"Texas - Hunt County (Hunt County)","Texas","Hunt County",70.542819999999992,39,7,7,18,5,109.54281999999999]
[null,"Texas - McLennan (Waco)","Texas","Waco",78.88306,39,7,7,18,5,117.88306]
[null,"Texas - Montgomery, Fort Bend and Harris (Houston (L.B. Johnson Space Center) )","Texas","Houston (L.B. Johnson Space Center) ",101.942505,59,9,13,29,5,160.94250499999998]
[null,"Texas - Nueces (Corpus Christi)","Texas","Corpus Christi",83.052229999999994,44,7,11,18,5,127.05222999999999]
[null,"Texas - Tarrant county and City limits of Grapevine (Arlington/Fort Worth/Grapevine)","Texas","Arlington/Fort Worth/Grapevine",134.27698999999998,44,7,11,18,5,178.27698999999998]
[null,"Texas - Travis (Austin)","Texas","Austin",97.447580000000002,54,8,12,26,5,151.44758000000002]
[null,"Texas - Webb (Laredo)","Texas","Laredo",84.536794999999984,44,7,11,18,5,128.53679499999998]
[null,"Texas - Williamson (Round Rock )","Texas","Round Rock ",86.456270000000004,44,7,11,18,5,130.45627000000002]
[null,"UTAH  -- Conus rate","Utah","CONUS",70,39,7,7,18,5,109]
[null,"Utah - Salt Lake and Tooele (Salt Lake City) (April 1-September 30)","Utah","Salt Lake City",94.257004999999992,54,8,12,26,5,148.25700499999999]
[null,"Utah - Salt Lake and Tooele (Salt Lake City) (January 1-March 31)","Utah","Salt Lake City",106.930195,54,8,12,26,5,160.930195]
[null,"Utah - Salt Lake and Tooele (Salt Lake City) (October 1-December 31)","Utah","Salt Lake City",94.257004999999992,54,8,12,26,5,148.25700499999999]
[null,"Utah - Summit (Park City) (April 1-September 30)","Utah","Park City",79.863460000000003,64,9,13,29,5,143.86346]
[null,"Utah - Summit (Park City) (January 1-March 31)","Utah","Park City",150.33977999999999,64,9,13,29,5,214.33977999999999]
["*","Utah - Summit (Park City) (October 1-December 31)","Utah","Park City",79.863460000000003,64,9,13,29,5,143.86346]
[null,"Utah - Utah (Provo)","Utah","Provo",78.38459499999999,49,9,13,24,5,127.38459499999999]
[null,"VERMONT  -- Conus rate","Vermont","CONUS",70,39,7,7,18,5,109]
[null,"Vermont - Bennington (Manchester)","Vermont","Manchester",85.872019999999992,59,9,13,29,5,144.87201999999999]
[null,"Vermont - Chittenden and Franklin (Burlington/St. Albans) (May 1-September 30)","Vermont","Burlington/St. Albans",101.89937500000001,49,9,13,24,5,150.89937500000002]
[null,"Vermont - Chittenden and Franklin (Burlington/St. Albans) (November 1-April 30)","Vermont","Burlington/St. Albans",85.698359999999994,49,9,13,24,5,134.69835999999998]
[null,"Vermont - Chittenden and Franklin (Burlington/St. Albans) (October 1-October 31)","Vermont","Burlington/St. Albans",101.89937500000001,49,9,13,24,5,150.89937500000002]
[null,"Vermont - Lamoille (Stowe ) (December 1-February 29)","Vermont","Stowe ",126.69181,64,9,13,29,5,190.69181]
[null,"Vermont - Lamoille (Stowe ) (March 1-September 30)","Vermont","Stowe ",111.23626,64,9,13,29,5,175.23626000000002]
[null,"Vermont - Lamoille (Stowe ) (October 1-November 30)","Vermont","Stowe ",111.23626,64,9,13,29,5,175.23626000000002]
[null,"Vermont - Washington (Montpelier)","Vermont","Montpelier",82.610384999999994,54,8,12,26,5,136.61038500000001]
[null,"Vermont - Windsor (White River Junction) (March 1-August 31)","Vermont","White River Junction",81.85123999999999,54,8,12,26,5,135.85123999999999]
[null,"Vermont - Windsor (White River Junction) (October 1-February 29)","Vermont","White River Junction",91.770664999999994,54,8,12,26,5,145.77066500000001]
[null,"Vermont - Windsor (White River Junction) (September 1-September 30)","Vermont","White River Junction",91.770664999999994,54,8,12,26,5,145.77066500000001]
[null,"VIRGINIA  -- Conus rate","Virginia","CONUS",70,39,7,7,18,5,109]
[null,"Virginia - Accomack (Wallops Island) (July 1-August 31)","Virginia","Wallops Island",119.15337,49,9,13,24,5,168.15337]
[null,"Virginia - Accomack (Wallops Island) (October 1-June 30)","Virginia","Wallops Island",82.189155,49,9,13,24,5,131.189155]
[null,"Virginia - Accomack (Wallops Island) (September 1-September 30)","Virginia","Wallops Island",82.189155,49,9,13,24,5,131.189155]
[null,"Virginia - Campbell, Lynchburg City (Lynchburg)","Virginia","Lynchburg",72.455455000000001,44,{"$f":"VLOOKUP($F584,$N$6:$R$17,2)","v":7},{"$f":"VLOOKUP($F584,$N$6:$R$17,3)","v":11},{"$f":"VLOOKUP($F584,$N$6:$R$17,4)","v":18},{"$f":"VLOOKUP($F584,$N$6:$R$17,5)","v":5},116.455455]
[null,"Virginia - Chesterfield/Henrico (Chesterfield/Henrico Counties)","Virginia","Chesterfield/Henrico Counties",88.93339499999999,49,9,13,24,5,137.93339499999999]
[null,"Virginia - Cities of Alexandria, Fairfax and Falls Church; Arlington and Fairfax (Washington DC Metro Area) (July 1-August 31)","Virginia","Washington DC Metro Area",153.88375499999998,64,9,13,29,5,217.88375499999998]
[null,"Virginia - Cities of Alexandria, Fairfax and Falls Church; Arlington and Fairfax (Washington DC Metro Area) (October 1-June 30)","Virginia","Washington DC Metro Area",200.72264999999999,64,9,13,29,5,{"$f":"E587+F587","v":264.72264999999999}]
[null,"Virginia - Cities of Alexandria, Fairfax and Falls Church; Arlington and Fairfax (Washington DC Metro Area) (September 1-September 30)","Virginia","Washington DC Metro Area",200.72264999999999,64,9,13,29,5,264.72264999999999]
[null,"Virginia - Cities of Chesapeake and Suffolk (Chesapeake/Suffolk) (April 1-May 31)","Virginia","Chesapeake/Suffolk",88.393699999999995,44,7,11,18,5,132.3937]
[null,"Virginia - Cities of Chesapeake and Suffolk (Chesapeake/Suffolk) (June 1-August 31)","Virginia","Chesapeake/Suffolk",108.988275,44,7,11,18,5,152.98827499999999]
[null,"Virginia - Cities of Chesapeake and Suffolk (Chesapeake/Suffolk) (October 1-March 31)","Virginia","Chesapeake/Suffolk",81.38136999999999,44,7,11,18,5,125.38136999999999]
[null,"Virginia - Cities of Chesapeake and Suffolk (Chesapeake/Suffolk) (September 1-September 30)","Virginia","Chesapeake/Suffolk",81.38136999999999,44,7,11,18,5,125.38136999999999]
[null,"Virginia - Cities of Hampton City and Newport News (Hampton City/Newport News)","Virginia","Hampton City/Newport News",74.987015,44,7,11,18,5,118.987015]
[null,"Virginia - Cities of Norfolk and Portsmouth (Norfolk/Portsmouth)","Virginia","Norfolk/Portsmouth",93.760630000000006,59,9,13,29,5,152.76062999999999]
[null,"Virginia - City limits of Roanoke (Roanoke)","Virginia","Roanoke",83.889274999999998,44,7,11,18,5,127.889275]
[null,"Virginia - City of Charlottesville, Albemarle, Greene (Charlottesville)","Virginia","Charlottesville",92.943534999999997,44,7,11,18,5,136.943535]
[null,"Virginia - City of Manassas (Manassas)","Virginia","Manassas",92.524014999999991,39,7,7,18,5,131.52401499999999]
[null,"Virginia - City of Richmond (Richmond City)","Virginia","Richmond City",115.45739499999999,54,8,12,26,5,169.45739499999999]
[null,"Virginia - City of Virginia Beach (Virginia Beach) (April 1-May 31)","Virginia","Virginia Beach",87.44408,54,8,12,26,5,141.44407999999999]
[null,"Virginia - City of Virginia Beach (Virginia Beach) (June 1-August 31)","Virginia","Virginia Beach",139.60667999999998,54,8,12,26,5,193.60667999999998]
[null,"Virginia - City of Virginia Beach (Virginia Beach) (October 1-March 31)","Virginia","Virginia Beach",78.685839999999999,54,8,12,26,5,132.68583999999998]
[null,"Virginia - City of Virginia Beach (Virginia Beach) (September 1-September 30)","Virginia","Virginia Beach",78.685839999999999,54,8,12,26,5,132.68583999999998]
[null,"Virginia - Fauquier (Warrenton )","Virginia","Warrenton ",90.758154999999988,44,7,11,18,5,134.75815499999999]
[null,"Virginia - James City and York Counties, City of Williamsburg (James City and York Counties, Williamsburg) (April 1-August 31)","Virginia","James City and York Counties, Williamsburg",89.202815000000001,54,8,12,26,5,143.20281499999999]
[null,"Virginia - James City and York Counties, City of Williamsburg (James City and York Counties, Williamsburg) (October 1-March 31)","Virginia","James City and York Counties, Williamsburg",70.400794999999988,54,8,12,26,5,124.40079499999999]
[null,"Virginia - James City and York Counties, City of Williamsburg (James City and York Counties, Williamsburg) (September 1-September 30)","Virginia","James City and York Counties, Williamsburg",70.400794999999988,54,8,12,26,5,124.40079499999999]
[null,"Virginia - Loudon (Loudoun County)","Virginia","Loudoun County",141.32152500000001,59,9,13,29,5,200.32152500000001]
[null,"Virginia - Montgomery (Blacksburg)","Virginia","Blacksburg",76.686754999999991,54,8,12,26,5,130.68675500000001]
[null,"Virginia - Stafford/Prince William (Stafford/Prince William Counties)","Virginia","Stafford/Prince William Counties",87.884500000000003,44,7,11,18,5,131.8845]
[null,"Virginia - Washington (Abington)","Virginia","Abington",71.784850000000006,49,9,13,24,5,120.78485000000001]
[null,"WASHINGTON  -- Conus rate","Washington","CONUS",70,39,7,7,18,5,109]
[null,"Washington - Clallam and Jefferson (Port Angeles/Port Townsend) (July 1-August 31)","Washington","Port Angeles/Port Townsend",125.51666,59,9,13,29,5,184.51666]
[null,"Washington - Clallam and Jefferson (Port Angeles/Port Townsend) (October 1-June 30)","Washington","Port Angeles/Port Townsend",87.683004999999994,59,9,13,29,5,146.68300499999998]
[null,"Washington - Clallam and Jefferson (Port Angeles/Port Townsend) (September 1-September 30)","Washington","Port Angeles/Port Townsend",87.683004999999994,59,9,13,29,5,146.68300499999998]
[null,"Washington - Clark, Cowlitz and Skamania (Vancouver )","Washington","Vancouver ",110.02596,49,9,13,24,5,159.02596]
[null,"Washington - Grays Harbor (Ocean Shores) (June 1-August 31)","Washington","Ocean Shores",111.55888,44,7,11,18,5,155.55887999999999]
[null,"Washington - Grays Harbor (Ocean Shores) (October 1-May 31)","Washington","Ocean Shores",89.294109999999989,44,7,11,18,5,133.29410999999999]
[null,"Washington - Grays Harbor (Ocean Shores) (September 1-September 30)","Washington","Ocean Shores",89.294109999999989,44,7,11,18,5,133.29410999999999]
[null,"Washington - King (Seattle)","Washington","Seattle",152.01539,64,9,13,29,5,216.01539]
[null,"Washington - Kitsap (Bremerton)","Washington","Bremerton",78.714434999999995,59,9,13,29,5,137.71443499999998]
[null,"Washington - Pierce (Tacoma)","Washington","Tacoma",107.71214000000001,59,9,13,29,5,166.71214000000001]
[null,"Washington - Skagit, Island, San Juan  (Anacortes/Camano Island/Coupeville/Mount Vernon/La Conner/Burlington/Friday Harbor/Oak Harbor) (June 1-August 31)","Washington","Anacortes/Camano Island/Coupeville/Mount Vernon/La Conner/Burlington/Friday Harbor/Oak Harbor",94.023589999999999,59,9,13,29,5,153.02359000000001]
[null,"Washington - Skagit, Island, San Juan  (Anacortes/Camano Island/Coupeville/Mount Vernon/La Conner/Burlington/Friday Harbor/Oak Harbor) (October 1-May 31)","Washington","Anacortes/Camano Island/Coupeville/Mount Vernon/La Conner/Burlington/Friday Harbor/Oak Harbor",79.816529999999986,59,9,13,29,5,138.81653]
[null,"Washington - Skagit, Island, San Juan  (Anacortes/Camano Island/Coupeville/Mount Vernon/La Conner/Burlington/Friday Harbor/Oak Harbor) (September 1-September 30)","Washington","Anacortes/Camano Island/Coupeville/Mount Vernon/La Conner/Burlington/Friday Harbor/Oak Harbor",79.816529999999986,59,9,13,29,5,138.81653]
[null,"Washington - Snohomish (Everett/Lynnwood)","Washington","Everett/Lynnwood",89.910279999999986,54,8,12,26,5,143.91028]
[null,"Washington - Spokane (Spokane)","Washington","Spokane",76.95474999999999,49,9,13,24,5,125.95474999999999]
[null,"Washington - Thurston (Olympia/Tumwater)","Washington","Olympia/Tumwater",79.615034999999992,49,9,13,24,5,128.61503499999998]
[null,"WEST VIRGINIA  -- Conus rate","Washington","CONUS",70,39,7,7,18,5,109]
[null,"West Virginia - Jefferson (Shepherdstown)","West Virginia","Shepherdstown",77.503374999999991,44,7,11,18,5,121.50337499999999]
[null,"West Virginia - Kanawha (Charleston)","West Virginia","Charleston",90.680919999999986,44,7,11,18,5,134.68091999999999]
[null,"West Virginia - Monongalia (Morgantown)","West Virginia","Morgantown",79.027270000000001,44,7,11,18,5,123.02727]
[null,"West Virginia - Ohio (Wheeling)","West Virginia","Wheeling",74.491209999999995,44,7,11,18,5,118.49121]
[null,"WISCONSIN  -- Conus rate","Wisconsin","CONUS",70,39,7,7,18,5,109]
[null,"Wisconsin - Brown (Green Bay)","Wisconsin","Green Bay",73.290219999999991,44,7,11,18,5,117.29021999999999]
[null,"Wisconsin - Columbia (Wisconsin Dells) (July 1-August 31)","Wisconsin","Wisconsin Dells",82.498095000000006,64,9,13,29,5,146.49809500000001]
[null,"Wisconsin - Columbia (Wisconsin Dells) (October 1-June 30)","Wisconsin","Wisconsin Dells",70.062879999999993,64,9,13,29,5,134.06288000000001]
[null,"Wisconsin - Columbia (Wisconsin Dells) (September 1-September 30)","Wisconsin","Wisconsin Dells",70.062879999999993,64,9,13,29,5,134.06288000000001]
[null,"Wisconsin - Dane (Madison)","Wisconsin","Madison",89.008065000000002,54,8,12,26,5,143.00806499999999]
[null,"Wisconsin - Door (Sturgeon Bay) (July 1-September 30)","Wisconsin","Sturgeon Bay",80.524470000000008,49,9,13,24,5,129.52447000000001]
[null,"Wisconsin - Door (Sturgeon Bay) (October 1-June 30)","Wisconsin","Sturgeon Bay",69.832790000000003,49,9,13,24,5,118.83279]
[null,"Wisconsin - Milwaukee (Milwaukee)","Wisconsin","Milwaukee",93.384715,44,7,11,18,5,137.384715]
[null,"Wisconsin - Outagamie  (Appleton)","Wisconsin","Appleton",79.103080000000006,44,7,11,18,5,123.10308000000001]
[null,"Wisconsin - Sheboygan  (Sheboygan) (July 1-August 31)","Wisconsin","Sheboygan",82.320824999999985,44,7,11,18,5,126.32082499999999]
[null,"Wisconsin - Sheboygan  (Sheboygan) (October 1-June 30)","Wisconsin","Sheboygan",71.718729999999994,44,7,11,18,5,115.71872999999999]
[null,"Wisconsin - Sheboygan  (Sheboygan) (September 1-September 30)","Wisconsin","Sheboygan",71.718729999999994,44,7,11,18,5,115.71872999999999]
[null,"Wisconsin - Walworth (Lake Geneva) (June 1-September 30)","Wisconsin","Lake Geneva",141.45006000000001,54,8,12,26,5,195.45006000000001]
[null,"Wisconsin - Walworth (Lake Geneva) (October 1-May 31)","Wisconsin","Lake Geneva",101.749275,54,8,12,26,5,155.74927500000001]
[null,"Wisconsin - Waukesha/Racine (Brookfield/Racine)","Wisconsin","Brookfield/Racine",85.404049999999998,44,{"$f":"VLOOKUP($F648,$N$6:$R$17,2)","v":7},{"$f":"VLOOKUP($F648,$N$6:$R$17,3)","v":11},{"$f":"VLOOKUP($F648,$N$6:$R$17,4)","v":18},{"$f":"VLOOKUP($F648,$N$6:$R$17,5)","v":5},129.40404999999998]
[null,"WYOMING  -- Conus rate","Wyoming","CONUS",77,46,7,11,23,5,123]
[null,"Wyoming - Campbell (Gillette) (Oct 1-May 31)","Wyoming","Gillette",79,51,8,12,26,5,130]
[null,"Wyoming - Campbell (Gillette) (Jun 1-Aug 31)","Wyoming","Gillette",88,51,8,12,26,5,{"$f":"E651+F651","v":139}]
[null,"Wyoming - Campbell (Gillette) (Sep 1-Sep 30)","Wyoming","Gillette",79,51,8,12,26,5,130]
[null,"Wyoming - Park (Cody) (October 1-April 30)","Wyoming","Cody",91,51,8,12,26,5,142]
[null,"Wyoming - Park (Cody) (May 1-September 30)","Wyoming","Cody",120,51,8,12,26,5,171]
[null,"Wyoming - Sheridan (Sheridan) (October 1-May 31)","Wyoming","Sheridan",77,56,9,13,29,5,133]
[null,"Wyoming - Sheridan (Sheridan) (June 1-August 31)","Wyoming","Sheridan",88,56,9,13,29,5,144]
[null,"Wyoming - Sheridan (Sheridan) (September 1-September 30)","Wyoming","Sheridan",77,56,9,13,29,5,133]
[null,"Wyoming - Sweetwater/Uinta (Evanston/Rock Springs)","Wyoming","Evanston/Rock Springs",79,51,8,12,26,5,130]
[null,"Wyoming - Teton and Sublette (Jackson/Pinedale) (October 1-Jun 30)","Wyoming","Jackson/Pinedale",113,56,9,13,29,5,169]
[null,"Wyoming - Teton and Sublette (Jackson/Pinedale) (July 1-August 31)","Wyoming","Jackson/Pinedale",163,56,9,13,29,5,219]
[null,"Wyoming - Teton and Sublette (Jackson/Pinedale) (September 1-September 30)","Wyoming","Jackson/Pinedale",113,56,9,13,29,5,169]

{"sheet":"Sheet1","index":10,"n_rows":632,"n_cols":10,"rows_kept":632,"cut":false,"hidden":false,"merged":[]}
["State","Destination","Location Defined (Counties unless otherwise defined)","Season Begin Date","Season End Date",null,null,"FY06 Final Lodging Rate","FY06 M&IE","Maximum Per Diem Rate"]
[null,"Standard CONUS Rate applies to all destinations not specifically listed",null,null,null,null,null,60,39,{"$f":"SUM(H2:I2)","v":99}]
["AL","Birmingham","Jefferson and Shelby",null,null,"ALABAMA",{"$f":"+C3&\" \"&MONTH(D3)&\"/\"&DAY(D3)&\"-\"&MONTH(E3)&\"/\"&DAY(E3)","v":"Jefferson and Shelby 1/0-1/0"},72,44,116]
["AL","Gulf Shores","Baldwin","2005-10-01","2006-02-28","ALABAMA","Baldwin 10/1-2/28",80,39,119]
["AL","Gulf Shores","Baldwin","2006-03-01","2006-08-31","ALABAMA","Baldwin 3/1-8/31",93,39,132]
["AL","Gulf Shores","Baldwin","2006-09-01","2006-09-30","ALABAMA","Baldwin 9/1-9/30",80,39,119]
["AL","Huntsville","Madison and Limestone",null,null,"ALABAMA","Madison and Limestone 1/0-1/0",66,44,110]
["AR","Hot Springs","Garland",null,null,"ARKANSAS","Garland 1/0-1/0",76,49,125]
["AR","Little Rock","Pulaski",null,null,"ARKANSAS","Pulaski 1/0-1/0",71,54,125]
["AZ","Grand Canyon/Flagstaff","Coconino (except the city limits of Sedona)",null,null,"ARIZONA","Coconino (except the city limits of Sedona) 1/0-1/0",68,44,112]
["AZ","Kayenta","Navajo","2005-10-01","2006-04-30","ARIZONA","Navajo 10/1-4/30",61,54,115]
["AZ","Kayenta","Navajo","2006-05-01","2006-09-30","ARIZONA","Navajo 5/1-9/30",74,54,128]
["AZ","Phoenix/Scottsdale","Maricopa","2005-10-01","2005-12-31","ARIZONA","Maricopa 10/1-12/31",84,59,143]
["AZ","Phoenix/Scottsdale","Maricopa","2006-01-01","2006-03-31","ARIZONA","Maricopa 1/1-3/31",127,59,186]
["AZ","Phoenix/Scottsdale","Maricopa","2006-04-01","2006-05-31","ARIZONA","Maricopa 4/1-5/31",109,59,168]
["AZ","Phoenix/Scottsdale","Maricopa","2006-06-01","2006-09-30","ARIZONA","Maricopa 6/1-9/30",84,59,143]
["AZ","Sedona","City of Sedona which falls within Yavapai and Coconino Counties, Yavapai","2005-10-01","2006-02-28","ARIZONA","City of Sedona which falls within Yavapai and Coconino Counties, Yavapai 10/1-2/28",94,64,158]
["AZ","Sedona","City of Sedona which falls within Yavapai and Coconino Counties, Yavapai","2006-03-01","2006-05-31","ARIZONA","City of Sedona which falls within Yavapai and Coconino Counties, Yavapai 3/1-5/31",110,64,174]
["AZ","Sedona","City of Sedona which falls within Yavapai and Coconino Counties, Yavapai","2006-06-01","2006-09-30","ARIZONA","City of Sedona which falls within Yavapai and Coconino Counties, Yavapai 6/1-9/30",94,64,158]
["AZ","Tucson","Pima","2005-10-01","2006-02-28","ARIZONA","Pima 10/1-2/28",88,49,137]
["AZ","Tucson","Pima","2006-03-01","2006-09-30","ARIZONA","Pima 3/1-9/30",75,49,124]
["AZ","Yuma","Yuma",null,null,"ARIZONA","Yuma 1/0-1/0",67,39,106]
["CA","Antioch/Brentwood/Concord/Lafayette/Martinez/Pleasant Hill/Richmond/San Ramon/Walnut Creek","Contra Costa",null,null,"California","Contra Costa 1/0-1/0",101,49,150]
["CA","Bakersfield/Delano (Naval Weapons Center and Ordinance Test Station, China Lake)","Kern",null,null,"California","Kern 1/0-1/0",62,44,106]
["CA","Barstow/Ontario/Victorville","San Bernardino",null,null,"California","San Bernardino 1/0-1/0",76,59,135]
["CA","Benicia/Dixon/Fairfield/Vacaville/Vallejo","Solano",null,null,"California","Solano 1/0-1/0",80,44,124]
["CA","Brawley/Calexico/El Centro/Imperial","Imperial",null,null,"California","Imperial 1/0-1/0",68,39,107]
["CA","Clearlake","Lake ",null,null,"California","Lake  1/0-1/0",61,44,105]
["CA","Death Valley","Inyo ",null,null,"California","Inyo  1/0-1/0",70,49,119]
["CA","Fresno","Fresno",null,null,"California","Fresno 1/0-1/0",72,54,126]
["CA","Los Angeles","Los Angeles, Orange and Ventura, Edwards AFB",null,null,"California","Los Angeles, Orange and Ventura, Edwards AFB 1/0-1/0",96,64,160]
["CA","Mammoth Lakes","Mono","2005-10-01","2005-11-30","California","Mono 10/1-11/30",79,54,133]
["CA","Mammoth Lakes","Mono","2005-12-01","2006-01-31","California","Mono 12/1-1/31",106,54,160]
["CA","Mammoth Lakes","Mono","2006-02-01","2006-09-30","California","Mono 2/1-9/30",79,54,133]
["CA","Mill Valley/San Rafael/Novato/Corte Madera/Sausalito/Tiburon/Larkspur","Marin",null,null,"California","Marin 1/0-1/0",97,54,151]
["CA","Modesto","Stanislaus",null,null,"California","Stanislaus 1/0-1/0",77,49,126]
["CA","Monterey","Monterey",null,null,"California","Monterey 1/0-1/0",103,64,167]
["CA","Napa","Napa",null,null,"California","Napa 1/0-1/0",124,64,188]
["CA","Oakhurst","Madera ",null,null,"California","Madera  1/0-1/0",67,39,106]
["CA","Oakland","Alameda",null,null,"California","Alameda 1/0-1/0",89,59,148]
["CA","Palm Springs","Riverside","2005-10-01","2005-12-31","California","Riverside 10/1-12/31",99,59,158]
["CA","Palm Springs","Riverside","2006-01-01","2006-04-30","California","Riverside 1/1-4/30",122,59,181]
["CA","Palm Springs","Riverside","2006-05-01","2006-09-30","California","Riverside 5/1-9/30",83,59,142]
["CA","Point Arena/Gualala","Mendocino",null,null,"California","Mendocino 1/0-1/0",66,54,120]
["CA","Redding","Shasta",null,null,"California","Shasta 1/0-1/0",76,44,120]
["CA","Sacramento","Sacramento",null,null,"California","Sacramento 1/0-1/0",94,59,153]
["CA","San Diego","San Diego","2005-10-01","2005-12-31","California","San Diego 10/1-12/31",120,64,184]
["CA","San Diego","San Diego","2006-01-01","2006-05-31","California","San Diego 1/1-5/31",127,64,191]
["CA","San Diego","San Diego","2006-06-01","2006-09-30","California","San Diego 6/1-9/30",120,64,184]
["CA","San Francisco","San Francisco",null,null,"California","San Francisco 1/0-1/0",130,64,194]
["CA","San Luis Obispo","San Luis Obispo",null,null,"California","San Luis Obispo 1/0-1/0",94,54,148]
["CA","San Mateo/Foster City/Belmont","San Mateo",null,null,"California","San Mateo 1/0-1/0",86,54,140]
["CA","Santa Barbara","Santa Barbara","2005-10-01","2006-06-30","California","Santa Barbara 10/1-6/30",100,59,159]
["CA","Santa Barbara","Santa Barbara","2006-07-01","2006-08-31","California","Santa Barbara 7/1-8/31",117,59,176]
["CA","Santa Barbara","Santa Barbara","2006-09-01","2006-09-30","California","Santa Barbara 9/1-9/30",100,59,159]
["CA","Santa Cruz","Santa Cruz","2005-10-01","2006-05-31","California","Santa Cruz 10/1-5/31",70,54,124]
["CA","Santa Cruz","Santa Cruz","2006-06-01","2006-08-31","California","Santa Cruz 6/1-8/31",85,54,139]
["CA","Santa Cruz","Santa Cruz","2006-09-01","2006-09-30","California","Santa Cruz 9/1-9/30",70,54,124]
["CA","Santa Monica ","City limits of Santa Monica",null,null,"California","City limits of Santa Monica 1/0-1/0",149,64,213]
["CA","Santa Rosa","Sonoma",null,null,"California","Sonoma 1/0-1/0",100,64,164]
["CA","South Lake Tahoe","El Dorado","2005-10-01","2005-12-31","California","El Dorado 10/1-12/31",124,54,178]
["CA","South Lake Tahoe","El Dorado","2006-01-01","2006-06-30","California","El Dorado 1/1-6/30",114,54,168]
["CA","South Lake Tahoe","El Dorado","2006-07-01","2006-09-30","California","El Dorado 7/1-9/30",124,54,178]
["CA","Stockton ","San Joaquin",null,null,"California","San Joaquin 1/0-1/0",70,44,114]
["CA","Sunnyvale/Palo Alto/San Jose","Santa Clara",null,null,"California","Santa Clara 1/0-1/0",101,59,160]
["CA","Tahoe City","Placer",null,null,"California","Placer 1/0-1/0",92,59,{"$f":"SUM(H66:I66)","v":151}]
["CA","Truckee","Nevada ","2005-10-01","2005-11-30","California",{"$f":"+C67&\" \"&MONTH(D67)&\"/\"&DAY(D67)&\"-\"&MONTH(E67)&\"/\"&DAY(E67)","v":"Nevada  10/1-11/30"},80,59,139]
["CA","Truckee","Nevada ","2005-12-01","2006-02-28","California","Nevada  12/1-2/28",93,59,152]
["CA","Truckee","Nevada ","2006-03-01","2006-09-30","California","Nevada  3/1-9/30",80,59,139]
["CA","Visalia/Lemoore","Tulare and Kings",null,null,"California","Tulare and Kings 1/0-1/0",65,49,114]
["CA","West Sacramento","Yolo",null,null,"California","Yolo 1/0-1/0",75,44,119]
["CA","Yosemite National Park","Mariposa","2005-10-01","2005-10-31","California","Mariposa 10/1-10/31",80,64,144]
["CA","Yosemite National Park","Mariposa","2005-11-01","2005-12-31","California","Mariposa 11/1-12/31",104,64,168]
["CA","Yosemite National Park","Mariposa","2006-01-01","2006-09-30","California","Mariposa 1/1-9/30",80,64,144]
["CO","Aspen","Pitkin","2005-10-01","2005-11-30","COLORADO","Pitkin 10/1-11/30",104,64,168]
["CO","Aspen","Pitkin","2005-12-01","2006-03-31","COLORADO","Pitkin 12/1-3/31",229,64,293]
["CO","Aspen","Pitkin","2006-04-01","2006-08-31","COLORADO","Pitkin 4/1-8/31",119,64,183]
["CO","Aspen","Pitkin","2006-09-01","2006-09-30","COLORADO","Pitkin 9/1-9/30",104,64,168]
["CO","Boulder/Broomfield","Boulder and Broomfield",null,null,"COLORADO","Boulder and Broomfield 1/0-1/0",90,54,144]
["CO","Colorado Springs","El Paso",null,null,"COLORADO","El Paso 1/0-1/0",70,44,114]
["CO","Cortez","Montezuma",null,null,"COLORADO","Montezuma 1/0-1/0",69,39,108]
["CO","Crested Butte/Gunnison","Gunnison","2005-10-01","2005-11-30","COLORADO","Gunnison 10/1-11/30",93,49,142]
["CO","Crested Butte/Gunnison","Gunnison","2005-12-01","2006-04-30","COLORADO","Gunnison 12/1-4/30",195,49,244]
["CO","Crested Butte/Gunnison","Gunnison","2006-05-01","2006-09-30","COLORADO","Gunnison 5/1-9/30",93,49,142]
["CO","Denver/Aurora","Denver, Adams, Arapahoe, Jefferson and Douglas Counties",null,null,"COLORADO","Denver, Adams, Arapahoe, Jefferson and Douglas Counties 1/0-1/0",119,49,168]
["CO","Durango","La Plata","2005-10-01","2006-04-30","COLORADO","La Plata 10/1-4/30",73,49,122]
["CO","Durango","La Plata","2006-05-01","2006-09-30","COLORADO","La Plata 5/1-9/30",93,49,142]
["CO","Fort Collins/Loveland","Larimer",null,null,"COLORADO","Larimer 1/0-1/0",73,44,117]
["CO","Glenwood Springs","Garfield","2005-10-01","2006-05-31","COLORADO","Garfield 10/1-5/31",68,49,117]
["CO","Glenwood Springs","Garfield","2006-06-01","2006-08-31","COLORADO","Garfield 6/1-8/31",82,49,131]
["CO","Glenwood Springs","Garfield","2006-09-01","2006-09-30","COLORADO","Garfield 9/1-9/30",68,49,117]
["CO","Grand Junction","Mesa",null,null,"COLORADO","Mesa 1/0-1/0",62,44,106]
["CO","Montrose","Montrose","2005-10-01","2006-05-31","COLORADO","Montrose 10/1-5/31",63,39,102]
["CO","Montrose","Montrose","2006-06-01","2006-08-31","COLORADO","Montrose 6/1-8/31",76,39,115]
["CO","Montrose","Montrose","2006-09-01","2006-09-30","COLORADO","Montrose 9/1-9/30",63,39,102]
["CO","Silverthorne/Breckenridge","Summit","2005-10-01","2005-11-30","COLORADO","Summit 10/1-11/30",89,54,143]
["CO","Silverthorne/Breckenridge","Summit","2005-12-01","2006-03-31","COLORADO","Summit 12/1-3/31",157,54,211]
["CO","Silverthorne/Breckenridge","Summit","2006-04-01","2006-09-30","COLORADO","Summit 4/1-9/30",89,54,143]
["CO","Steamboat Springs","Routt","2005-10-01","2005-11-30","COLORADO","Routt 10/1-11/30",90,54,144]
["CO","Steamboat Springs","Routt","2005-12-01","2006-03-31","COLORADO","Routt 12/1-3/31",154,54,208]
["CO","Steamboat Springs","Routt","2006-04-01","2006-09-30","COLORADO","Routt 4/1-9/30",90,54,144]
["CO","Telluride","San Miguel","2005-10-01","2005-12-31","COLORADO","San Miguel 10/1-12/31",130,59,189]
["CO","Telluride","San Miguel","2006-01-01","2006-04-30","COLORADO","San Miguel 1/1-4/30",178,59,237]
["CO","Telluride","San Miguel","2006-05-01","2006-09-30","COLORADO","San Miguel 5/1-9/30",112,59,171]
["CO","Vail","Eagle","2005-10-01","2005-11-30","COLORADO","Eagle 10/1-11/30",116,64,180]
["CO","Vail","Eagle","2005-12-01","2006-03-31","COLORADO","Eagle 12/1-3/31",280,64,344]
["CO","Vail","Eagle","2006-04-01","2006-09-30","COLORADO","Eagle 4/1-9/30",116,64,180]
["CT","Bridgeport/Danbury","Fairfield",null,null,"CONNECTICUT","Fairfield 1/0-1/0",107,64,171]
["CT","Cromwell/Old Saybrook","Middlesex",null,null,"CONNECTICUT","Middlesex 1/0-1/0",77,44,121]
["CT","Hartford","Hartford",null,null,"CONNECTICUT","Hartford 1/0-1/0",95,49,144]
["CT","Lakeville/Salisbury","Litchfield ",null,null,"CONNECTICUT","Litchfield  1/0-1/0",87,64,151]
["CT","New Haven","New Haven",null,null,"CONNECTICUT","New Haven 1/0-1/0",85,64,149]
["CT","New London/Groton","New London",null,null,"CONNECTICUT","New London 1/0-1/0",87,64,151]
["CT","Putnam/Danielson","Windham",null,null,"CONNECTICUT","Windham 1/0-1/0",69,59,128]
["CT","Storrs/Mansfield","Tolland",null,null,"CONNECTICUT","Tolland 1/0-1/0",66,49,115]
["DC","District of Columbia","Washington DC (also the cities of Alexandria, Falls Church and Fairfax, and the counties of Arlington, Fairfax, and Loudoun in Virginia; and the counties of Montgomery and Prince George's in Maryland) (See also Maryland and Virginia)","2005-10-01","2005-12-31","DISTRICT OF COLUMBIA","Washington DC (also the cities of Alexandria, Falls Church and Fairfax, and the counties of Arlington, Fairfax, and Loudoun in Virginia; and the counties of Montgomery and Prince George's in Maryland) (See also Maryland and Virginia) 10/1-12/31",166,64,{"$f":"SUM(H116:I116)","v":230}]
["DC","District of Columbia","Washington DC (also the cities of Alexandria, Falls Church and Fairfax, and the counties of Arlington, Fairfax, and Loudoun in Virginia; and the counties of Montgomery and Prince George's in Maryland) (See also Maryland and Virginia)","2006-01-01","2006-05-31","DISTRICT OF COLUMBIA","Washington DC (also the cities of Alexandria, Falls Church and Fairfax, and the counties of Arlington, Fairfax, and Loudoun in Virginia; and the counties of Montgomery and Prince George's in Maryland) (See also Maryland and Virginia) 1/1-5/31",187,64,{"$f":"SUM(H117:I117)","v":251}]
["DC","District of Columbia","Washington DC (also the cities of Alexandria, Falls Church and Fairfax, and the counties of Arlington, Fairfax, and Loudoun in Virginia; and the counties of Montgomery and Prince George's in Maryland) (See also Maryland and Virginia)","2006-06-01","2006-08-31","DISTRICT OF COLUMBIA","Washington DC (also the cities of Alexandria, Falls Church and Fairfax, and the counties of Arlington, Fairfax, and Loudoun in Virginia; and the counties of Montgomery and Prince George's in Maryland) (See also Maryland and Virginia) 6/1-8/31",145,64,{"$f":"SUM(H118:I118)","v":209}]
["DC","District of Columbia","Washington DC (also the cities of Alexandria, Falls Church and Fairfax, and the counties of Arlington, Fairfax, and Loudoun in Virginia; and the counties of Montgomery and Prince George's in Maryland) (See also Maryland and Virginia)","2006-09-01","2006-09-30","DISTRICT OF COLUMBIA","Washington DC (also the cities of Alexandria, Falls Church and Fairfax, and the counties of Arlington, Fairfax, and Loudoun in Virginia; and the counties of Montgomery and Prince George's in Maryland) (See also Maryland and Virginia) 9/1-9/30",166,64,{"$f":"SUM(H119:I119)","v":230}]
["DE","Dover","Kent","2005-10-01","2006-04-30","DELEWARE","Kent 10/1-4/30",72,44,116]
["DE","Dover","Kent","2006-05-01","2006-09-30","DELEWARE","Kent 5/1-9/30",79,44,123]
["DE","Lewes","Sussex","2005-10-01","2006-06-30","DELEWARE","Sussex 10/1-6/30",67,39,106]
["DE","Lewes","Sussex","2006-07-01","2006-08-31","DELEWARE","Sussex 7/1-8/31",107,39,146]
["DE","Lewes","Sussex","2006-09-01","2006-09-30","DELEWARE","Sussex 9/1-9/30",67,39,106]
["DE","Wilmington","New Castle",null,null,"DELEWARE","New Castle 1/0-1/0",90,39,129]
["FL","Altamonte Springs","Seminole",null,null,"FLORIDA","Seminole 1/0-1/0",73,39,112]
["FL","Bradenton","Manatee","2005-10-01","2006-01-31","FLORIDA","Manatee 10/1-1/31",70,39,109]
["FL","Bradenton","Manatee","2006-02-01","2006-03-31","FLORIDA","Manatee 2/1-3/31",101,39,140]
["FL","Bradenton","Manatee","2006-04-01","2006-09-30","FLORIDA","Manatee 4/1-9/30",70,39,109]
["FL","Cocoa Beach","Brevard",null,null,"FLORIDA","Brevard 1/0-1/0",85,44,{"$f":"SUM(H130:I130)","v":129}]
["FL","Daytona Beach","Volusia","2005-10-01","2006-01-31","FLORIDA",{"$f":"+C131&\" \"&MONTH(D131)&\"/\"&DAY(D131)&\"-\"&MONTH(E131)&\"/\"&DAY(E131)","v":"Volusia 10/1-1/31"},68,39,107]
["FL","Daytona Beach","Volusia","2006-02-01","2006-03-31","FLORIDA","Volusia 2/1-3/31",117,39,156]
["FL","Daytona Beach","Volusia","2006-04-01","2006-07-31","FLORIDA","Volusia 4/1-7/31",82,39,121]
["FL","Daytona Beach","Volusia","2006-08-01","2006-09-30","FLORIDA","Volusia 8/1-9/30",68,39,107]
["FL","Fort Lauderdale","Broward","2005-10-01","2005-12-31","FLORIDA","Broward 10/1-12/31",85,54,139]
["FL","Fort Lauderdale","Broward","2006-01-01","2006-03-31","FLORIDA","Broward 1/1-3/31",123,54,177]
["FL","Fort Lauderdale","Broward","2006-04-01","2006-09-30","FLORIDA","Broward 4/1-9/30",85,54,139]
["FL","Fort Myers","Lee","2005-10-01","2005-12-31","FLORIDA","Lee 10/1-12/31",68,49,117]
["FL","Fort Myers","Lee","2006-01-01","2006-04-30","FLORIDA","Lee 1/1-4/30",107,49,156]
["FL","Fort Myers","Lee","2006-05-01","2006-09-30","FLORIDA","Lee 5/1-9/30",68,49,117]
["FL","Fort Pierce","Saint Lucie","2005-10-01","2006-01-31","FLORIDA","Saint Lucie 10/1-1/31",72,49,121]
["FL","Fort Pierce","Saint Lucie","2006-02-01","2006-03-31","FLORIDA","Saint Lucie 2/1-3/31",110,49,159]
["FL","Fort Pierce","Saint Lucie","2006-04-01","2006-09-30","FLORIDA","Saint Lucie 4/1-9/30",72,49,121]
["FL","Fort Walton Beach/De Funiak Springs","Okaloosa and Walton","2005-10-01","2005-10-31","FLORIDA","Okaloosa and Walton 10/1-10/31",90,44,134]
["FL","Fort Walton Beach/De Funiak Springs","Okaloosa and Walton","2005-11-01","2006-02-28","FLORIDA","Okaloosa and Walton 11/1-2/28",75,44,119]
["FL","Fort Walton Beach/De Funiak Springs","Okaloosa and Walton","2006-03-01","2006-05-31","FLORIDA","Okaloosa and Walton 3/1-5/31",119,44,163]
["FL","Fort Walton Beach/De Funiak Springs","Okaloosa and Walton","2006-06-01","2006-08-31","FLORIDA","Okaloosa and Walton 6/1-8/31",139,44,183]
["FL","Fort Walton Beach/De Funiak Springs","Okaloosa and Walton","2006-09-01","2006-09-30","FLORIDA","Okaloosa and Walton 9/1-9/30",90,44,134]
["FL","Gainesville","Alachua",null,null,"FLORIDA","Alachua 1/0-1/0",69,44,113]
["FL","Gulf Breeze","Santa Rosa","2005-10-01","2006-02-28","FLORIDA","Santa Rosa 10/1-2/28",79,39,118]
["FL","Gulf Breeze","Santa Rosa","2006-03-01","2006-07-31","FLORIDA","Santa Rosa 3/1-7/31",102,39,141]
["FL","Gulf Breeze","Santa Rosa","2006-08-01","2006-09-30","FLORIDA","Santa Rosa 8/1-9/30",79,39,118]
["FL","Jacksonville/Jacksonville Beach/Mayport Naval Station/Fernandina Beach/Atlantic Beach","Duval, City of Jacksonville and Nassau",null,null,"FLORIDA","Duval, City of Jacksonville and Nassau 1/0-1/0",73,49,122]
["FL","Key West","Monroe","2005-10-01","2005-11-30","FLORIDA","Monroe 10/1-11/30",132,64,196]
["FL","Key West","Monroe","2005-12-01","2006-01-31","FLORIDA","Monroe 12/1-1/31",157,64,221]
["FL","Key West","Monroe","2006-02-01","2006-03-31","FLORIDA","Monroe 2/1-3/31",200,64,264]
["FL","Key West","Monroe","2006-04-01","2006-09-30","FLORIDA","Monroe 4/1-9/30",132,64,196]
["FL","Kissimmee","Osceola","2005-10-01","2005-12-31","FLORIDA","Osceola 10/1-12/31",60,39,99]
["FL","Kissimmee","Osceola","2006-01-01","2006-04-30","FLORIDA","Osceola 1/1-4/30",68,39,107]
["FL","Kissimmee","Osceola","2006-05-01","2006-09-30","FLORIDA","Osceola 5/1-9/30",60,39,99]
["FL","Lakeland","Polk",null,null,"FLORIDA","Polk 1/0-1/0",66,39,105]
["FL","Leesburg","Lake",null,null,"FLORIDA","Lake 1/0-1/0",61,44,105]
["FL","Miami","Miami-Dade","2005-10-01","2005-12-31","FLORIDA","Miami-Dade 10/1-12/31",108,59,167]
["FL","Miami","Miami-Dade","2006-01-01","2006-04-30","FLORIDA","Miami-Dade 1/1-4/30",144,59,203]
["FL","Miami","Miami-Dade","2006-05-01","2006-09-30","FLORIDA","Miami-Dade 5/1-9/30",93,59,152]
["FL","Naples","Collier","2005-10-01","2006-01-31","FLORIDA","Collier 10/1-1/31",97,64,161]
["FL","Naples","Collier","2006-02-01","2006-03-31","FLORIDA","Collier 2/1-3/31",171,64,235]
["FL","Naples","Collier","2006-04-01","2006-09-30","FLORIDA","Collier 4/1-9/30",97,64,161]
["FL","Ocala","Marion",null,null,"FLORIDA","Marion 1/0-1/0",70,44,114]
["FL","Orlando","Orange","2005-10-01","2005-12-31","FLORIDA","Orange 10/1-12/31",83,49,132]
["FL","Orlando","Orange","2006-01-01","2006-03-31","FLORIDA","Orange 1/1-3/31",101,49,150]
["FL","Orlando","Orange","2006-04-01","2006-09-30","FLORIDA","Orange 4/1-9/30",83,49,132]
["FL","Palm Beach ","Boca Raton, Delray Beach, Jupiter, Palm Beach Gardens, Palm Beach, Palm Beach Shores, Singer Island and West Palm Beach.","2005-10-01","2006-01-31","FLORIDA","Boca Raton, Delray Beach, Jupiter, Palm Beach Gardens, Palm Beach, Palm Beach Shores, Singer Island and West Palm Beach. 10/1-1/31",96,64,160]
["FL","Palm Beach ","Boca Raton, Delray Beach, Jupiter, Palm Beach Gardens, Palm Beach, Palm Beach Shores, Singer Island and West Palm Beach.","2006-02-01","2006-03-31","FLORIDA","Boca Raton, Delray Beach, Jupiter, Palm Beach Gardens, Palm Beach, Palm Beach Shores, Singer Island and West Palm Beach. 2/1-3/31",152,64,216]
["FL","Palm Beach ","Boca Raton, Delray Beach, Jupiter, Palm Beach Gardens, Palm Beach, Palm Beach Shores, Singer Island and West Palm Beach.","2006-04-01","2006-09-30","FLORIDA","Boca Raton, Delray Beach, Jupiter, Palm Beach Gardens, Palm Beach, Palm Beach Shores, Singer Island and West Palm Beach. 4/1-9/30",96,64,160]
["FL","Panama City","Bay","2005-10-01","2006-02-28","FLORIDA","Bay 10/1-2/28",71,49,120]
["FL","Panama City","Bay","2006-03-01","2006-05-31","FLORIDA","Bay 3/1-5/31",101,49,150]
["FL","Panama City","Bay","2006-06-01","2006-07-31","FLORIDA","Bay 6/1-7/31",109,49,158]
["FL","Panama City","Bay","2006-08-01","2006-09-30","FLORIDA","Bay 8/1-9/30",71,49,120]
["FL","Pensacola/Pensacola Beach","Escambia",null,null,"FLORIDA","Escambia 1/0-1/0",61,49,110]
["FL","Punta Gorda","Charlotte","2005-10-01","2006-01-31","FLORIDA","Charlotte 10/1-1/31",60,44,104]
["FL","Punta Gorda","Charlotte","2006-02-01","2006-03-31","FLORIDA","Charlotte 2/1-3/31",102,44,146]
["FL","Punta Gorda","Charlotte","2006-04-01","2006-09-30","FLORIDA","Charlotte 4/1-9/30",60,44,104]
["FL","Sarasota","Sarasota","2005-10-01","2006-01-31","FLORIDA","Sarasota 10/1-1/31",78,49,127]
["FL","Sarasota","Sarasota","2006-02-01","2006-03-31","FLORIDA","Sarasota 2/1-3/31",117,49,166]
["FL","Sarasota","Sarasota","2006-04-01","2006-09-30","FLORIDA","Sarasota 4/1-9/30",78,49,127]
["FL","Sebring","Highlands",null,null,"FLORIDA","Highlands 1/0-1/0",71,39,110]
["FL","St. Augustine","St. Johns","2005-10-01","2006-01-31","FLORIDA","St. Johns 10/1-1/31",86,54,140]
["FL","St. Augustine","St. Johns","2006-02-01","2006-03-31","FLORIDA","St. Johns 2/1-3/31",116,54,170]
["FL","St. Augustine","St. Johns","2006-04-01","2006-09-30","FLORIDA","St. Johns 4/1-9/30",86,54,140]
["FL","Stuart","Martin","2005-10-01","2006-01-31","FLORIDA","Martin 10/1-1/31",87,49,136]
["FL","Stuart","Martin","2006-02-01","2006-03-31","FLORIDA","Martin 2/1-3/31",128,49,177]
["FL","Stuart","Martin","2006-04-01","2006-09-30","FLORIDA","Martin 4/1-9/30",87,49,136]
["FL","Tallahassee","Leon",null,null,"FLORIDA","Leon 1/0-1/0",73,44,{"$f":"SUM(H194:I194)","v":117}]
["FL","Tampa/St. Petersburg","Pinellas and Hillsborough",null,null,"FLORIDA",{"$f":"+C195&\" \"&MONTH(D195)&\"/\"&DAY(D195)&\"-\"&MONTH(E195)&\"/\"&DAY(E195)","v":"Pinellas and Hillsborough 1/0-1/0"},84,54,138]
["FL","Vero Beach","Indian River","2005-10-01","2006-01-31","FLORIDA","Indian River 10/1-1/31",80,49,129]
["FL","Vero Beach","Indian River","2006-02-01","2006-03-31","FLORIDA","Indian River 2/1-3/31",128,49,177]
["FL","Vero Beach","Indian River","2006-04-01","2006-09-30","FLORIDA","Indian River 4/1-9/30",80,49,129]
["GA","Athens","Clarke",null,null,"GEORGIA","Clarke 1/0-1/0",69,39,108]
["GA","Atlanta","Fulton, Dekalb and Cobb",null,null,"GEORGIA","Fulton, Dekalb and Cobb 1/0-1/0",115,49,164]
["GA","Augusta","Richmond",null,null,"GEORGIA","Richmond 1/0-1/0",69,39,108]
["GA","Columbus","Muscogee",null,null,"GEORGIA","Muscogee 1/0-1/0",68,39,107]
["GA","Conyers","Rockdale",null,null,"GEORGIA","Rockdale 1/0-1/0",69,39,108]
["GA","Duluth/Norcross/Lawrenceville/Braselton","Gwinnett",null,null,"GEORGIA","Gwinnett 1/0-1/0",61,44,105]
["GA","Jekyll Island ","Glynn",null,null,"GEORGIA","Glynn 1/0-1/0",72,49,121]
["GA","Savannah","Chatham",null,null,"GEORGIA","Chatham 1/0-1/0",87,49,136]
["IA","Cedar Rapids","Linn",null,null,"IOWA","Linn 1/0-1/0",66,39,105]
["IA","Des Moines","Polk",null,null,"IOWA","Polk 1/0-1/0",73,44,117]
["ID","Boise","Ada",null,null,"IDAHO","Ada 1/0-1/0",73,49,122]
["ID","Coeur d'Alene","Kootenai","2005-10-01","2006-05-31","IDAHO","Kootenai 10/1-5/31",62,59,121]
["ID","Coeur d'Alene","Kootenai","2006-06-01","2006-08-31","IDAHO","Kootenai 6/1-8/31",89,59,148]
["ID","Coeur d'Alene","Kootenai","2006-09-01","2006-09-30","IDAHO","Kootenai 9/1-9/30",62,59,121]
["ID","Sun Valley/Ketchum","Blaine","2005-10-01","2006-06-30","IDAHO","Blaine 10/1-6/30",69,59,128]
["ID","Sun Valley/Ketchum","Blaine","2006-07-01","2006-08-31","IDAHO","Blaine 7/1-8/31",83,59,142]
["ID","Sun Valley/Ketchum","Blaine","2006-09-01","2006-09-30","IDAHO","Blaine 9/1-9/30",69,59,128]
["IL","Chicago","Cook and Lake","2005-10-01","2006-03-31","ILLINOIS","Cook and Lake 10/1-3/31",136,49,185]
["IL","Chicago","Cook and Lake","2006-04-01","2006-06-30","ILLINOIS","Cook and Lake 4/1-6/30",152,49,201]
["IL","Chicago","Cook and Lake","2006-07-01","2006-08-31","ILLINOIS","Cook and Lake 7/1-8/31",127,49,176]
["IL","Chicago","Cook and Lake","2006-09-01","2006-09-30","ILLINOIS","Cook and Lake 9/1-9/30",136,49,185]
["IL","Elgin/Aurora","City of Elgin, Kane",null,null,"ILLINOIS","City of Elgin, Kane 1/0-1/0",66,44,110]
["IL","Oak Brook Terrace","Dupage",null,null,"ILLINOIS","Dupage 1/0-1/0",78,49,127]
["IL","Rockford","Winnebago",null,null,"ILLINOIS","Winnebago 1/0-1/0",64,39,103]
["IL","Springfield ","Sangamon",null,null,"ILLINOIS","Sangamon 1/0-1/0",71,49,120]
["IN","Bloomington ","Monroe","2005-10-01","2006-05-31","INDIANA","Monroe 10/1-5/31",68,44,112]
["IN","Bloomington ","Monroe","2006-06-01","2006-08-31","INDIANA","Monroe 6/1-8/31",79,44,123]
["IN","Bloomington ","Monroe","2006-09-01","2006-09-30","INDIANA","Monroe 9/1-9/30",68,44,112]
["IN","Brownsburg/Plainfield","Hendricks",null,null,"INDIANA","Hendricks 1/0-1/0",65,44,109]
["IN","Ft. Wayne","Allen",null,null,"INDIANA","Allen 1/0-1/0",61,39,100]
["IN","Hammond/Munster/Merrillville","Lake",null,null,"INDIANA","Lake 1/0-1/0",75,44,119]
["IN","Indianapolis/Carmel","Marion, Hamilton, Fort Benjamin Harrison Military Base",null,null,"INDIANA","Marion, Hamilton, Fort Benjamin Harrison Military Base 1/0-1/0",84,44,128]
["IN","Lafayette","Tippecanoe",null,null,"INDIANA","Tippecanoe 1/0-1/0",77,39,116]
["IN","Michigan City","La Porte",null,null,"INDIANA","La Porte 1/0-1/0",73,39,112]
["IN","Nashville","Brown",null,null,"INDIANA","Brown 1/0-1/0",64,49,113]
["IN","South Bend","St. Joseph",null,null,"INDIANA","St. Joseph 1/0-1/0",74,44,118]
["IN","Valparaiso/Burlington Beach","Porter",null,null,"INDIANA","Porter 1/0-1/0",74,49,123]
["KS","Fort Riley/Manhattan ","Geary, Riley and Pottawatomie",null,null,"KANSAS","Geary, Riley and Pottawatomie 1/0-1/0",65,39,104]
["KS","Kansas City/Overland Park","Wyandotte and Johnson",null,null,"KANSAS","Wyandotte and Johnson 1/0-1/0",87,44,131]
["KS","Wichita","Sedgwick",null,null,"KANSAS","Sedgwick 1/0-1/0",70,49,119]
["KY","Covington/Hebron/Florence/Newport","Kenton, Boone and Campbell",null,null,"KENTUCKY","Kenton, Boone and Campbell 1/0-1/0",80,44,124]
["KY","Lexington","Fayette",null,null,"KENTUCKY","Fayette 1/0-1/0",79,49,128]
["KY","Louisville","Jefferson",null,null,"KENTUCKY","Jefferson 1/0-1/0",80,49,129]
["LA","Baton Rouge","East Baton Rouge Parish",null,null,"LOUISIANA","East Baton Rouge Parish 1/0-1/0",71,44,115]
["LA","Lake Charles","Calcasieu Parish",null,null,"LOUISIANA","Calcasieu Parish 1/0-1/0",65,39,104]
["LA","New Orleans","Orleans, St. Bernard, Jefferson and Plaquemine Parishes","2005-10-01","2006-05-31","LOUISIANA","Orleans, St. Bernard, Jefferson and Plaquemine Parishes 10/1-5/31",133,59,192]
["LA","New Orleans","Orleans, St. Bernard, Jefferson and Plaquemine Parishes","2006-06-01","2006-09-30","LOUISIANA","Orleans, St. Bernard, Jefferson and Plaquemine Parishes 6/1-9/30",103,59,162]
["LA","Shreveport","Caddo Parish and Bossier Parish",null,null,"LOUISIANA","Caddo Parish and Bossier Parish 1/0-1/0",63,44,107]
["MA","Andover","Essex",null,null,"MASSACHUSETTS","Essex 1/0-1/0",83,59,{"$f":"SUM(H247:I247)","v":142}]
["MA","Boston/Cambridge","Suffolk, City of Cambridge",null,null,"MASSACHUSETTS","Suffolk, City of Cambridge 1/0-1/0",165,64,{"$f":"SUM(H248:I248)","v":229}]
["MA","Burlington/Woburn","Middlesex",null,null,"MASSACHUSETTS","Middlesex 1/0-1/0",99,59,158]
["MA","Falmouth","City limits of Falmouth","2005-10-01","2006-05-31","MASSACHUSETTS","City limits of Falmouth 10/1-5/31",78,49,127]
["MA","Falmouth","City limits of Falmouth","2006-06-01","2006-08-31","MASSACHUSETTS","City limits of Falmouth 6/1-8/31",105,49,154]
["MA","Falmouth","City limits of Falmouth","2006-09-01","2006-09-30","MASSACHUSETTS","City limits of Falmouth 9/1-9/30",78,49,127]
["MA","Hyannis","Barnstable","2005-10-01","2006-04-30","MASSACHUSETTS","Barnstable 10/1-4/30",72,59,131]
["MA","Hyannis","Barnstable","2006-05-01","2006-06-30","MASSACHUSETTS","Barnstable 5/1-6/30",87,59,146]
["MA","Hyannis","Barnstable","2006-07-01","2006-08-31","MASSACHUSETTS","Barnstable 7/1-8/31",109,59,168]
["MA","Hyannis","Barnstable","2006-09-01","2006-09-30","MASSACHUSETTS","Barnstable 9/1-9/30",72,59,131]
["MA","Martha's Vineyard","Dukes","2005-10-01","2006-06-30","MASSACHUSETTS","Dukes 10/1-6/30",110,64,174]
["MA","Martha's Vineyard","Dukes","2006-07-01","2006-08-31","MASSACHUSETTS","Dukes 7/1-8/31",185,64,{"$f":"SUM(H258:I258)","v":249}]
["MA","Martha's Vineyard","Dukes","2006-09-01","2006-09-30","MASSACHUSETTS",{"$f":"+C259&\" \"&MONTH(D259)&\"/\"&DAY(D259)&\"-\"&MONTH(E259)&\"/\"&DAY(E259)","v":"Dukes 9/1-9/30"},110,64,174]
["MA","Nantucket","Nantucket","2005-10-01","2006-05-31","MASSACHUSETTS","Nantucket 10/1-5/31",105,64,169]
["MA","Nantucket","Nantucket","2006-06-01","2006-08-31","MASSACHUSETTS","Nantucket 6/1-8/31",175,64,239]
["MA","Nantucket","Nantucket","2006-09-01","2006-09-30","MASSACHUSETTS","Nantucket 9/1-9/30",105,64,169]
["MA","Northampton","Hampshire",null,null,"MASSACHUSETTS","Hampshire 1/0-1/0",87,39,126]
["MA","Pittsfield","Berkshire","2005-10-01","2006-06-30","MASSACHUSETTS","Berkshire 10/1-6/30",92,59,151]
["MA","Pittsfield","Berkshire","2006-07-01","2006-08-31","MASSACHUSETTS","Berkshire 7/1-8/31",107,59,166]
["MA","Pittsfield","Berkshire","2006-09-01","2006-09-30","MASSACHUSETTS","Berkshire 9/1-9/30",92,59,151]
["MA","Plymouth","Plymouth",null,null,"MASSACHUSETTS","Plymouth 1/0-1/0",90,54,144]
["MA","Quincy","Norfolk",null,null,"MASSACHUSETTS","Norfolk 1/0-1/0",106,44,150]
["MA","Springfield","Hampden",null,null,"MASSACHUSETTS","Hampden 1/0-1/0",82,44,126]
["MA","Taunton/New Bedford","Bristol",null,null,"MASSACHUSETTS","Bristol 1/0-1/0",85,44,129]
["MA","Worcester","Worcester",null,null,"MASSACHUSETTS","Worcester 1/0-1/0",85,49,134]
["MD","(For the counties of Montgomery and Prince Georges, See District of Columbia",null,"2005-10-01","2005-12-31","MARYLAND"," 10/1-12/31",166,64,{"$f":"SUM(H272:I272)","v":230}]
["MD","(For the counties of Montgomery and Prince Georges, See District of Columbia",null,"2006-01-01","2006-05-31","MARYLAND"," 1/1-5/31",187,64,{"$f":"SUM(H273:I273)","v":251}]
["MD","(For the counties of Montgomery and Prince Georges, See District of Columbia",null,"2006-06-01","2006-08-31","MARYLAND"," 6/1-8/31",145,64,{"$f":"SUM(H274:I274)","v":209}]
["MD","(For the counties of Montgomery and Prince Georges, See District of Columbia",null,"2006-09-01","2006-09-30","MARYLAND"," 9/1-9/30",166,64,{"$f":"SUM(H275:I275)","v":230}]
["MD","Aberdeen/Bel Air/Belcamp/Edgewood","Harford",null,null,"MARYLAND","Harford 1/0-1/0",76,44,120]
["MD","Annapolis","Anne Arundel",null,null,"MARYLAND","Anne Arundel 1/0-1/0",104,64,168]
["MD","Baltimore","Baltimore County and Baltimore City",null,null,"MARYLAND","Baltimore County and Baltimore City 1/0-1/0",141,59,200]
["MD","Cambridge/St. Michaels","Dorchester and Talbot","2005-10-01","2006-05-31","MARYLAND","Dorchester and Talbot 10/1-5/31",101,54,155]
["MD","Cambridge/St. Michaels","Dorchester and Talbot","2006-06-01","2006-08-31","MARYLAND","Dorchester and Talbot 6/1-8/31",139,54,193]
["MD","Cambridge/St. Michaels","Dorchester and Talbot","2006-09-01","2006-09-30","MARYLAND","Dorchester and Talbot 9/1-9/30",101,54,155]
["MD","Columbia","Howard",null,null,"MARYLAND","Howard 1/0-1/0",103,49,152]
["MD","Frederick","Frederick",null,null,"MARYLAND","Frederick 1/0-1/0",71,39,110]
["MD","La Plata/Indian Head ","Charles",null,null,"MARYLAND","Charles 1/0-1/0",68,39,107]
["MD","Lexington Park/Leonardtown/Lusby","St. Mary's and Calvert",null,null,"MARYLAND","St. Mary's and Calvert 1/0-1/0",76,39,115]
["MD","Ocean City","Worcester","2005-10-01","2006-05-31","MARYLAND","Worcester 10/1-5/31",71,64,135]
["MD","Ocean City","Worcester","2006-06-01","2006-09-30","MARYLAND","Worcester 6/1-9/30",155,64,219]
["ME","Bar Harbor","Hancock","2005-10-01","2006-06-30","MAINE","Hancock 10/1-6/30",79,49,128]
["ME","Bar Harbor","Hancock","2006-07-01","2006-08-31","MAINE","Hancock 7/1-8/31",137,49,186]
["ME","Bar Harbor","Hancock","2006-09-01","2006-09-30","MAINE","Hancock 9/1-9/30",79,49,128]
["ME","Kennebunk/Kittery/Sanford","York ","2005-10-01","2006-06-30","MAINE","York  10/1-6/30",68,54,122]
["ME","Kennebunk/Kittery/Sanford","York ","2006-07-01","2006-08-31","MAINE","York  7/1-8/31",105,54,159]
["ME","Kennebunk/Kittery/Sanford","York ","2006-09-01","2006-09-30","MAINE","York  9/1-9/30",68,54,122]
["ME","Portland","Cumberland","2005-10-01","2005-10-31","MAINE","Cumberland 10/1-10/31",98,44,142]
["ME","Portland","Cumberland","2005-11-01","2006-06-30","MAINE","Cumberland 11/1-6/30",77,44,121]
["ME","Portland","Cumberland","2006-07-01","2006-09-30","MAINE","Cumberland 7/1-9/30",98,44,142]
["ME","Rockport","Knox","2005-10-01","2006-06-30","MAINE","Knox 10/1-6/30",60,49,109]
["ME","Rockport","Knox","2006-07-01","2006-08-31","MAINE","Knox 7/1-8/31",83,49,132]
["ME","Rockport","Knox","2006-09-01","2006-09-30","MAINE","Knox 9/1-9/30",60,49,109]
["MI","Ann Arbor","Washtenaw",null,null,"MICHIGAN","Washtenaw 1/0-1/0",81,44,125]
["MI","Benton Harbor/St. Joseph/Stevensville","Berrien ",null,null,"MICHIGAN","Berrien  1/0-1/0",70,49,119]
["MI","Charlevoix","Charlevoix","2005-10-01","2005-11-30","MICHIGAN","Charlevoix 10/1-11/30",61,49,110]
["MI","Charlevoix","Charlevoix","2005-12-01","2006-08-31","MICHIGAN","Charlevoix 12/1-8/31",70,49,119]
["MI","Charlevoix","Charlevoix","2006-09-01","2006-09-30","MICHIGAN","Charlevoix 9/1-9/30",61,49,110]
["MI","Detroit","Wayne",null,null,"MICHIGAN","Wayne 1/0-1/0",90,44,134]
["MI","East Lansing/Lansing","Ingham and Eaton",null,null,"MICHIGAN","Ingham and Eaton 1/0-1/0",73,39,112]
["MI","Flint ","Genessee",null,null,"MICHIGAN","Genessee 1/0-1/0",74,39,113]
["MI","Frankenmuth","Saginaw",null,null,"MICHIGAN","Saginaw 1/0-1/0",62,44,106]
["MI","Grand Rapids","Kent",null,null,"MICHIGAN","Kent 1/0-1/0",71,39,110]
["MI","Holland","Ottawa",null,null,"MICHIGAN","Ottawa 1/0-1/0",71,44,115]
["MI","Kalamazoo/Battle Creek ","Kalamazoo/Calhoun",null,null,"MICHIGAN","Kalamazoo/Calhoun 1/0-1/0",71,44,115]
["MI","Mackinac Island","Mackinac","2005-10-01","2006-06-30","MICHIGAN","Mackinac 10/1-6/30",67,49,116]
["MI","Mackinac Island","Mackinac","2006-07-01","2006-08-31","MICHIGAN","Mackinac 7/1-8/31",81,49,130]
["MI","Mackinac Island","Mackinac","2006-09-01","2006-09-30","MICHIGAN","Mackinac 9/1-9/30",67,49,116]
["MI","Midland","Midland",null,null,"MICHIGAN","Midland 1/0-1/0",79,39,118]
["MI","Mount Pleasant","Isabella",null,null,"MICHIGAN","Isabella 1/0-1/0",68,44,112]
["MI","Muskegon","Muskegon","2005-10-01","2006-05-31","MICHIGAN","Muskegon 10/1-5/31",63,39,102]
["MI","Muskegon","Muskegon","2006-06-01","2006-08-31","MICHIGAN","Muskegon 6/1-8/31",79,39,118]
["MI","Muskegon","Muskegon","2006-09-01","2006-09-30","MICHIGAN","Muskegon 9/1-9/30",63,39,102]
["MI","Ontonagon/Baraga/Houghton ","Ontonagon/Baraga/Houghton",null,null,"MICHIGAN","Ontonagon/Baraga/Houghton 1/0-1/0",64,39,103]
["MI","Petoskey","Emmet","2005-10-01","2006-05-31","MICHIGAN","Emmet 10/1-5/31",62,54,116]
["MI","Petoskey","Emmet","2006-06-01","2006-08-31","MICHIGAN","Emmet 6/1-8/31",83,54,137]
["MI","Petoskey","Emmet","2006-09-01","2006-09-30","MICHIGAN",{"$f":"+C323&\" \"&MONTH(D323)&\"/\"&DAY(D323)&\"-\"&MONTH(E323)&\"/\"&DAY(E323)","v":"Emmet 9/1-9/30"},62,54,116]
["MI","Pontiac/Auburn Hills ","Oakland",null,null,"MICHIGAN","Oakland 1/0-1/0",86,44,130]
["MI","Sault Ste Marie","Chippewa","2005-10-01","2006-06-30","MICHIGAN","Chippewa 10/1-6/30",60,39,99]
["MI","Sault Ste Marie","Chippewa","2006-07-01","2006-08-31","MICHIGAN","Chippewa 7/1-8/31",68,39,{"$f":"SUM(H326:I326)","v":107}]
["MI","Sault Ste Marie","Chippewa","2006-09-01","2006-09-30","MICHIGAN","Chippewa 9/1-9/30",60,39,99]
["MI","South Haven","Van Buren","2005-10-01","2006-05-31","MICHIGAN","Van Buren 10/1-5/31",61,39,100]
["MI","South Haven","Van Buren","2006-06-01","2006-08-31","MICHIGAN","Van Buren 6/1-8/31",72,39,111]
["MI","South Haven","Van Buren","2006-09-01","2006-09-30","MICHIGAN","Van Buren 9/1-9/30",61,39,100]
["MI","Traverse City and Leland","Grand Traverse and Leelanau","2005-10-01","2006-06-30","MICHIGAN","Grand Traverse and Leelanau 10/1-6/30",61,44,105]
["MI","Traverse City and Leland","Grand Traverse and Leelanau","2006-07-01","2006-08-31","MICHIGAN","Grand Traverse and Leelanau 7/1-8/31",95,44,139]
["MI","Traverse City and Leland","Grand Traverse and Leelanau","2006-09-01","2006-09-30","MICHIGAN","Grand Traverse and Leelanau 9/1-9/30",61,44,105]
["MI","Warren","Macomb",null,null,"MICHIGAN","Macomb 1/0-1/0",68,39,107]
["MN","Coon Rapids/Ramsey","Anoka",null,null,"MINNESOTA","Anoka 1/0-1/0",62,44,106]
["MN","Duluth","St. Louis","2005-10-01","2006-05-31","MINNESOTA","St. Louis 10/1-5/31",67,49,116]
["MN","Duluth","St. Louis","2006-06-01","2006-09-30","MINNESOTA","St. Louis 6/1-9/30",85,49,134]
["MN","Eagan/Burnsville/Mendota Heights/Lakeville/Inver Grove Heights","Dakota",null,null,"MINNESOTA","Dakota 1/0-1/0",65,49,114]
["MN","Minneapolis/St. Paul","Hennepin and  Ramsey",null,null,"MINNESOTA","Hennepin and  Ramsey 1/0-1/0",113,64,177]
["MN","Rochester","Olmstead",null,null,"MINNESOTA","Olmstead 1/0-1/0",81,44,125]
["MO","Kansas City","Jackson, Clay, Cass and Platte",null,null,"MISSOURI","Jackson, Clay, Cass and Platte 1/0-1/0",87,49,136]
["MO","Osage Beach","Camden and Miller",null,null,"MISSOURI","Camden and Miller 1/0-1/0",68,49,117]
["MO","Springfield","Greene",null,null,"MISSOURI","Greene 1/0-1/0",65,39,104]
["MO","St. Louis","St. Louis, St. Louis City and St. Charles",null,null,"MISSOURI","St. Louis, St. Louis City and St. Charles 1/0-1/0",101,59,160]
["MO","St. Robert/Ft. Leonardwood","Pulaski",null,null,"MISSOURI","Pulaski 1/0-1/0",66,39,105]
["MS","Robinsonville","Tunica",null,null,"MISSISSIPPI","Tunica 1/0-1/0",66,44,110]
["MS","Starkville ","Oktibbeha",null,null,"MISSISSIPPI","Oktibbeha 1/0-1/0",66,44,110]
["MT","Big Sky/West Yellowstone","Gallatin","2005-10-01","2006-05-31","MONTANA","Gallatin 10/1-5/31",66,49,115]
["MT","Big Sky/West Yellowstone","Gallatin","2006-06-01","2006-08-31","MONTANA","Gallatin 6/1-8/31",89,49,138]
["MT","Big Sky/West Yellowstone","Gallatin","2006-09-01","2006-09-30","MONTANA","Gallatin 9/1-9/30",66,49,115]
["MT","Butte","Silver Bow",null,null,"MONTANA","Silver Bow 1/0-1/0",63,44,107]
["MT","Missoula","Missoula",null,null,"MONTANA","Missoula 1/0-1/0",68,39,107]
["MT","Polson/Kalispell","Lake and Flathead","2005-10-01","2006-05-31","MONTANA","Lake and Flathead 10/1-5/31",60,44,104]
["MT","Polson/Kalispell","Lake and Flathead","2006-06-01","2006-08-31","MONTANA","Lake and Flathead 6/1-8/31",73,44,117]
["MT","Polson/Kalispell","Lake and Flathead","2006-09-01","2006-09-30","MONTANA","Lake and Flathead 9/1-9/30",60,44,104]
["NC","Asheville ","Buncombe","2005-10-01","2005-10-31","NORTH CAROLINA","Buncombe 10/1-10/31",73,49,122]
["NC","Asheville ","Buncombe","2005-11-01","2006-05-31","NORTH CAROLINA","Buncombe 11/1-5/31",63,49,112]
["NC","Asheville ","Buncombe","2006-06-01","2006-09-30","NORTH CAROLINA","Buncombe 6/1-9/30",73,49,122]
["NC","Atlantic Beach/Morehead City","Carteret","2005-10-01","2006-05-31","NORTH CAROLINA","Carteret 10/1-5/31",60,49,109]
["NC","Atlantic Beach/Morehead City","Carteret","2006-06-01","2006-08-31","NORTH CAROLINA","Carteret 6/1-8/31",83,49,132]
["NC","Atlantic Beach/Morehead City","Carteret","2006-09-01","2006-09-30","NORTH CAROLINA","Carteret 9/1-9/30",60,49,109]
["NC","Chapel Hill","Orange",null,null,"NORTH CAROLINA","Orange 1/0-1/0",76,49,125]
["NC","Charlotte","Mecklenburg",null,null,"NORTH CAROLINA","Mecklenburg 1/0-1/0",70,49,119]
["NC","Cherokee","Swain",null,null,"NORTH CAROLINA","Swain 1/0-1/0",62,44,106]
["NC","Durham","Durham",null,null,"NORTH CAROLINA","Durham 1/0-1/0",77,49,126]
["NC","Greensboro","Guilford","2005-10-01","2005-10-31","NORTH CAROLINA","Guilford 10/1-10/31",82,44,126]
["NC","Greensboro","Guilford","2005-11-01","2006-03-31","NORTH CAROLINA","Guilford 11/1-3/31",72,44,116]
["NC","Greensboro","Guilford","2006-04-01","2006-09-30","NORTH CAROLINA","Guilford 4/1-9/30",82,44,126]
["NC","Greenville","Pitt",null,null,"NORTH CAROLINA","Pitt 1/0-1/0",62,39,101]
["NC","Kill Devil","Dare","2005-10-01","2005-12-31","NORTH CAROLINA","Dare 10/1-12/31",60,54,114]
["NC","Kill Devil","Dare","2006-01-01","2006-09-30","NORTH CAROLINA","Dare 1/1-9/30",86,54,140]
["NC","New Bern/Havelock","Craven ",null,null,"NORTH CAROLINA","Craven  1/0-1/0",71,44,115]
["NC","Raleigh","Wake",null,null,"NORTH CAROLINA","Wake 1/0-1/0",73,54,127]
["NC","Shalotte/Southport/Whiteville","Brunswick and Columbus",null,null,"NORTH CAROLINA","Brunswick and Columbus 1/0-1/0",61,39,100]
["NC","Wilmington","New Hanover",null,null,"NORTH CAROLINA","New Hanover 1/0-1/0",75,49,124]
["NC","Winston-Salem","Forsyth",null,null,"NORTH CAROLINA","Forsyth 1/0-1/0",67,44,111]
["NE","Omaha","Douglas",null,null,"NEBRASKA","Douglas 1/0-1/0",79,49,128]
["NH","Concord","Merrimack","2005-10-01","2005-10-31","NEW HAMPSHIRE","Merrimack 10/1-10/31",81,44,125]
["NH","Concord","Merrimack","2005-11-01","2005-12-31","NEW HAMPSHIRE","Merrimack 11/1-12/31",71,44,115]
["NH","Concord","Merrimack","2006-01-01","2006-09-30","NEW HAMPSHIRE","Merrimack 1/1-9/30",81,44,125]
["NH","Conway","Caroll","2005-10-01","2006-02-28","NEW HAMPSHIRE","Caroll 10/1-2/28",111,49,160]
["NH","Conway","Caroll","2006-03-01","2006-06-30","NEW HAMPSHIRE","Caroll 3/1-6/30",91,49,140]
["NH","Conway","Caroll","2006-07-01","2006-08-31","NEW HAMPSHIRE","Caroll 7/1-8/31",141,49,190]
["NH","Conway","Caroll","2006-09-01","2006-09-30","NEW HAMPSHIRE","Caroll 9/1-9/30",111,49,160]
["NH","Durham","Strafford",null,null,"NEW HAMPSHIRE","Strafford 1/0-1/0",75,44,119]
["NH","Laconia","Belknap","2005-10-01","2006-06-30","NEW HAMPSHIRE","Belknap 10/1-6/30",83,39,122]
["NH","Laconia","Belknap","2006-07-01","2006-08-31","NEW HAMPSHIRE",{"$f":"+C387&\" \"&MONTH(D387)&\"/\"&DAY(D387)&\"-\"&MONTH(E387)&\"/\"&DAY(E387)","v":"Belknap 7/1-8/31"},102,39,141]
["NH","Laconia","Belknap","2006-09-01","2006-09-30","NEW HAMPSHIRE","Belknap 9/1-9/30",83,39,122]
["NH","Lebanon/Lincoln/West Lebanon/Franconia/Hanover/Holderness/Sunapee/Waterville Valley/North Woodstock/Plymouth","Grafton and Sullivan ",null,null,"NEW HAMPSHIRE","Grafton and Sullivan  1/0-1/0",109,49,158]
["NH","Manchester","Hillsborough",null,null,"NEW HAMPSHIRE","Hillsborough 1/0-1/0",83,44,{"$f":"SUM(H390:I390)","v":127}]
["NH","Portsmouth","Rockingham","2005-10-01","2006-06-30","NEW HAMPSHIRE","Rockingham 10/1-6/30",89,44,133]
["NH","Portsmouth","Rockingham","2006-07-01","2006-09-30","NEW HAMPSHIRE","Rockingham 7/1-9/30",112,44,156]
["NJ","Atlantic City","Atlantic","2005-10-01","2005-10-31","NEW JERSEY","Atlantic 10/1-10/31",109,54,163]
["NJ","Atlantic City","Atlantic","2005-11-01","2006-04-30","NEW JERSEY","Atlantic 11/1-4/30",88,54,142]
["NJ","Atlantic City","Atlantic","2006-05-01","2006-09-30","NEW JERSEY","Atlantic 5/1-9/30",109,54,163]
["NJ","Belle Mead","Somerset",null,null,"NEW JERSEY","Somerset 1/0-1/0",117,44,161]
["NJ","Cape May/Ocean City","Cape May","2005-10-01","2006-06-30","NEW JERSEY","Cape May 10/1-6/30",76,64,140]
["NJ","Cape May/Ocean City","Cape May","2006-07-01","2006-08-31","NEW JERSEY","Cape May 7/1-8/31",131,64,195]
["NJ","Cape May/Ocean City","Cape May","2006-09-01","2006-09-30","NEW JERSEY","Cape May 9/1-9/30",76,64,140]
["NJ","Cherry Hill/Moorestown","Camden and Burlington",null,null,"NEW JERSEY","Camden and Burlington 1/0-1/0",72,44,116]
["NJ","Eatontown/Freehold","Monmouth",null,null,"NEW JERSEY","Monmouth 1/0-1/0",94,49,143]
["NJ","Edison/Piscataway","Middlesex ",null,null,"NEW JERSEY","Middlesex  1/0-1/0",107,44,151]
["NJ","Flemington","Hunterdon",null,null,"NEW JERSEY","Hunterdon 1/0-1/0",101,39,140]
["NJ","Newark","Essex, Bergen, Hudson and Passaic",null,null,"NEW JERSEY","Essex, Bergen, Hudson and Passaic 1/0-1/0",109,49,158]
["NJ","Parsippany","Morris",null,null,"NEW JERSEY","Morris 1/0-1/0",116,49,165]
["NJ","Princeton/Trenton","Mercer",null,null,"NEW JERSEY","Mercer 1/0-1/0",122,44,166]
["NJ","Springfield/Cranford/New Providence/Westfield/Clark/Summit/Linden","Union",null,null,"NEW JERSEY","Union 1/0-1/0",91,49,140]
["NJ","Toms River","Ocean","2005-10-01","2006-06-30","NEW JERSEY","Ocean 10/1-6/30",78,39,117]
["NJ","Toms River","Ocean","2006-07-01","2006-08-31","NEW JERSEY","Ocean 7/1-8/31",110,39,149]
["NJ","Toms River","Ocean","2006-09-01","2006-09-30","NEW JERSEY","Ocean 9/1-9/30",78,39,117]
["NM","Albuquerque","Bernalillo",null,null,"NEW MEXICO","Bernalillo 1/0-1/0",66,49,115]
["NM","Los Alamos","Los Alamos ",null,null,"NEW MEXICO","Los Alamos  1/0-1/0",68,49,117]
["NM","Santa Fe","Santa Fe",null,null,"NEW MEXICO","Santa Fe 1/0-1/0",85,59,144]
["NV","Incline Village/Crystal Bay/Reno/Sparks","Washoe","2005-10-01","2006-05-31","NEVADA","Washoe 10/1-5/31",97,49,146]
["NV","Incline Village/Crystal Bay/Reno/Sparks","Washoe","2006-06-01","2006-08-31","NEVADA","Washoe 6/1-8/31",126,49,175]
["NV","Incline Village/Crystal Bay/Reno/Sparks","Washoe","2006-09-01","2006-09-30","NEVADA","Washoe 9/1-9/30",97,49,146]
["NV","Las Vegas","Clark","2005-10-01","2006-04-30","NEVADA","Clark 10/1-4/30",112,64,176]
["NV","Las Vegas","Clark","2006-05-01","2006-08-31","NEVADA","Clark 5/1-8/31",99,64,163]
["NV","Las Vegas","Clark","2006-09-01","2006-09-30","NEVADA","Clark 9/1-9/30",112,64,176]
["NV","Stateline","Douglas ","2005-10-01","2005-11-30","NEVADA","Douglas  10/1-11/30",69,64,133]
["NV","Stateline","Douglas ","2005-12-01","2006-06-30","NEVADA","Douglas  12/1-6/30",79,64,143]
["NV","Stateline","Douglas ","2006-07-01","2006-08-31","NEVADA","Douglas  7/1-8/31",87,64,151]
["NV","Stateline","Douglas ","2006-09-01","2006-09-30","NEVADA","Douglas  9/1-9/30",69,64,133]
["NY","Albany","Albany",null,null,"NEW YORK","Albany 1/0-1/0",94,49,143]
["NY","Binghamton/Owego","Broome and Tioga",null,null,"NEW YORK","Broome and Tioga 1/0-1/0",71,39,110]
["NY","Buffalo","Erie",null,null,"NEW YORK","Erie 1/0-1/0",70,54,124]
["NY","Floral Park/Garden City/Glen Cove/Great Neck/Roslyn","Nassau",null,null,"NEW YORK","Nassau 1/0-1/0",162,64,226]
["NY","Glens Falls","Warren","2005-10-01","2006-06-30","NEW YORK","Warren 10/1-6/30",75,49,124]
["NY","Glens Falls","Warren","2006-07-01","2006-08-31","NEW YORK","Warren 7/1-8/31",121,49,170]
["NY","Glens Falls","Warren","2006-09-01","2006-09-30","NEW YORK","Warren 9/1-9/30",75,49,124]
["NY","Ithaca/Waterloo/Romulus","Tompkins and Seneca",null,null,"NEW YORK","Tompkins and Seneca 1/0-1/0",86,44,130]
["NY","Kingston","Ulster",null,null,"NEW YORK","Ulster 1/0-1/0",83,49,132]
["NY","Lake Placid","Essex","2005-10-01","2005-11-30","NEW YORK","Essex 10/1-11/30",95,54,149]
["NY","Lake Placid","Essex","2005-12-01","2006-02-28","NEW YORK","Essex 12/1-2/28",114,54,168]
["NY","Lake Placid","Essex","2006-03-01","2006-06-30","NEW YORK","Essex 3/1-6/30",83,54,137]
["NY","Lake Placid","Essex","2006-07-01","2006-08-31","NEW YORK","Essex 7/1-8/31",142,54,196]
["NY","Lake Placid","Essex","2006-09-01","2006-09-30","NEW YORK","Essex 9/1-9/30",95,54,149]
["NY","Manhattan (includes the boroughs of Manhattan, Brooklyn, Queens, the Bronx and Staten Island)","The boroughs of Manhattan, Brooklyn, Queens, the Bronx, and Staten Island","2005-10-01","2005-12-31","NEW YORK","The boroughs of Manhattan, Brooklyn, Queens, the Bronx, and Staten Island 10/1-12/31",226,64,290]
["NY","Manhattan (includes the boroughs of Manhattan, Brooklyn, Queens, the Bronx and Staten Island)","The boroughs of Manhattan, Brooklyn, Queens, the Bronx, and Staten Island","2006-01-01","2006-05-31","NEW YORK","The boroughs of Manhattan, Brooklyn, Queens, the Bronx, and Staten Island 1/1-5/31",201,64,265]
["NY","Manhattan (includes the boroughs of Manhattan, Brooklyn, Queens, the Bronx and Staten Island)","The boroughs of Manhattan, Brooklyn, Queens, the Bronx, and Staten Island","2006-06-01","2006-08-31","NEW YORK","The boroughs of Manhattan, Brooklyn, Queens, the Bronx, and Staten Island 6/1-8/31",180,64,244]
["NY","Manhattan (includes the boroughs of Manhattan, Brooklyn, Queens, the Bronx and Staten Island)","The boroughs of Manhattan, Brooklyn, Queens, the Bronx, and Staten Island","2006-09-01","2006-09-30","NEW YORK","The boroughs of Manhattan, Brooklyn, Queens, the Bronx, and Staten Island 9/1-9/30",226,64,290]
["NY","Niagara Falls","Niagara","2005-10-01","2006-06-30","NEW YORK","Niagara 10/1-6/30",60,44,104]
["NY","Niagara Falls","Niagara","2006-07-01","2006-08-31","NEW YORK","Niagara 7/1-8/31",83,44,127]
["NY","Niagara Falls","Niagara","2006-09-01","2006-09-30","NEW YORK","Niagara 9/1-9/30",60,44,104]
["NY","Nyack/Palisades","Rockland",null,null,"NEW YORK","Rockland 1/0-1/0",95,49,144]
["NY","Poughkeepsie","Dutchess",null,null,"NEW YORK","Dutchess 1/0-1/0",102,54,156]
["NY","Riverhead/Ronkonkoma/Melville/Smithtown/Huntington Station/Amagansett/East Hampton/Montauk/Southhampton/Islandia/Commack/Medford/Stony Brook/Hauppauge/Centereach","Suffolk",null,null,"NEW YORK","Suffolk 1/0-1/0",126,64,190]
["NY","Rochester","Monroe",null,null,"NEW YORK","Monroe 1/0-1/0",81,44,125]
["NY","Saratoga Springs/Schenectady","Saratoga and Schenectady","2005-10-01","2006-06-30","NEW YORK","Saratoga and Schenectady 10/1-6/30",93,44,137]
["NY","Saratoga Springs/Schenectady","Saratoga and Schenectady","2006-07-01","2006-08-31","NEW YORK","Saratoga and Schenectady 7/1-8/31",147,44,191]
["NY","Saratoga Springs/Schenectady","Saratoga and Schenectady","2006-09-01","2006-09-30","NEW YORK",{"$f":"+C451&\" \"&MONTH(D451)&\"/\"&DAY(D451)&\"-\"&MONTH(E451)&\"/\"&DAY(E451)","v":"Saratoga and Schenectady 9/1-9/30"},93,44,137]
["NY","Syracuse","Onondaga",null,null,"NEW YORK","Onondaga 1/0-1/0",78,44,122]
["NY","Tarrytown/White Plains/New Rochelle/Yonkers","Westchester",null,null,"NEW YORK","Westchester 1/0-1/0",130,59,189]
["NY","Troy ","Rensselaer",null,null,"NEW YORK","Rensselaer 1/0-1/0",80,39,{"$f":"SUM(H454:I454)","v":119}]
["NY","West Point","Orange",null,null,"NEW YORK","Orange 1/0-1/0",97,44,141]
["OH","Akron","Summit",null,null,"OHIO","Summit 1/0-1/0",65,49,114]
["OH","Canton","Stark",null,null,"OHIO","Stark 1/0-1/0",70,44,114]
["OH","Cincinnati","Hamilton and Clermont",null,null,"OHIO","Hamilton and Clermont 1/0-1/0",78,54,132]
["OH","Cleveland","Cuyahoga",null,null,"OHIO","Cuyahoga 1/0-1/0",84,54,138]
["OH","Columbus","Franklin",null,null,"OHIO","Franklin 1/0-1/0",81,49,130]
["OH","Dayton/Fairborn","Greene, Darke and Montgomery",null,null,"OHIO","Greene, Darke and Montgomery 1/0-1/0",70,44,114]
["OH","Hamilton","Butler and Warren",null,null,"OHIO","Butler and Warren 1/0-1/0",75,49,124]
["OH","Mentor","Lake",null,null,"OHIO","Lake 1/0-1/0",73,44,117]
["OH","Port Clinton","Ottawa","2005-10-01","2006-05-31","OHIO","Ottawa 10/1-5/31",60,44,104]
["OH","Port Clinton","Ottawa","2006-06-01","2006-08-31","OHIO","Ottawa 6/1-8/31",76,44,120]
["OH","Port Clinton","Ottawa","2006-09-01","2006-09-30","OHIO","Ottawa 9/1-9/30",60,44,104]
["OH","Rittman","Wayne and Medina",null,null,"OHIO","Wayne and Medina 1/0-1/0",62,39,101]
["OH","Sandusky/Bellevue","Erie and  Huron",null,null,"OHIO","Erie and  Huron 1/0-1/0",88,39,127]
["OH","Toledo","Lucas",null,null,"OHIO","Lucas 1/0-1/0",70,44,114]
["OH","Youngstown","Mahoning and Trumbull",null,null,"OHIO","Mahoning and Trumbull 1/0-1/0",72,39,111]
["OK","Oklahoma City","Oklahoma",null,null,"OKLAHOMA","Oklahoma 1/0-1/0",67,49,116]
["OK","Tulsa ","Tulsa, Creek, Osage, and Rogers Counties",null,null,"OKLAHOMA","Tulsa, Creek, Osage, and Rogers Counties 1/0-1/0",66,44,110]
["OR","Ashland","Jackson",null,null,"OREGON","Jackson 1/0-1/0",70,44,114]
["OR","Beaverton","Washington",null,null,"OREGON","Washington 1/0-1/0",72,44,116]
["OR","Bend","Deschutes",null,null,"OREGON","Deschutes 1/0-1/0",66,44,110]
["OR","Clackamas","Clackamas",null,null,"OREGON","Clackamas 1/0-1/0",67,39,106]
["OR","Crater Lake","Klamath",null,null,"OREGON","Klamath 1/0-1/0",68,39,107]
["OR","Eugene/Florence","Lane",null,null,"OREGON","Lane 1/0-1/0",76,44,120]
["OR","Lincoln City","Lincoln","2005-10-01","2006-06-30","OREGON","Lincoln 10/1-6/30",74,49,123]
["OR","Lincoln City","Lincoln","2006-07-01","2006-08-31","OREGON","Lincoln 7/1-8/31",94,49,143]
["OR","Lincoln City","Lincoln","2006-09-01","2006-09-30","OREGON","Lincoln 9/1-9/30",74,49,123]
["OR","Portland","Multnomah",null,null,"OREGON","Multnomah 1/0-1/0",98,49,147]
["OR","Seaside","Clatsop","2005-10-01","2006-06-30","OREGON","Clatsop 10/1-6/30",71,54,125]
["OR","Seaside","Clatsop","2006-07-01","2006-08-31","OREGON","Clatsop 7/1-8/31",98,54,152]
["OR","Seaside","Clatsop","2006-09-01","2006-09-30","OREGON","Clatsop 9/1-9/30",71,54,125]
["PA","Allentown/Easton/Bethlehem","Lehigh and Northampton",null,null,"PENNSYLVANIA","Lehigh and Northampton 1/0-1/0",71,44,115]
["PA","Chambersburg","Franklin",null,null,"PENNSYLVANIA","Franklin 1/0-1/0",61,44,105]
["PA","Chester/Radnor/Essington","Delaware",null,null,"PENNSYLVANIA","Delaware 1/0-1/0",84,44,128]
["PA","Erie","Erie","2005-10-01","2005-11-30","PENNSYLVANIA","Erie 10/1-11/30",70,39,109]
["PA","Erie","Erie","2005-12-01","2006-08-31","PENNSYLVANIA","Erie 12/1-8/31",77,39,116]
["PA","Erie","Erie","2006-09-01","2006-09-30","PENNSYLVANIA","Erie 9/1-9/30",70,39,109]
["PA","Gettysburg","Adams","2005-10-01","2005-10-31","PENNSYLVANIA","Adams 10/1-10/31",87,54,141]
["PA","Gettysburg","Adams","2005-11-01","2006-03-31","PENNSYLVANIA","Adams 11/1-3/31",70,54,124]
["PA","Gettysburg","Adams","2006-04-01","2006-09-30","PENNSYLVANIA","Adams 4/1-9/30",87,54,141]
["PA","Harrisburg/Hershey","Daupin","2005-10-01","2006-06-30","PENNSYLVANIA","Daupin 10/1-6/30",77,44,121]
["PA","Harrisburg/Hershey","Daupin","2006-07-01","2006-08-31","PENNSYLVANIA","Daupin 7/1-8/31",101,44,145]
["PA","Harrisburg/Hershey","Daupin","2006-09-01","2006-09-30","PENNSYLVANIA","Daupin 9/1-9/30",77,44,121]
["PA","King of Prussia/Ft. Washington/Warminster","Montgomery and Bucks",null,null,"PENNSYLVANIA","Montgomery and Bucks 1/0-1/0",100,54,154]
["PA","Lancaster","Lancaster",null,null,"PENNSYLVANIA","Lancaster 1/0-1/0",78,49,127]
["PA","Malvern/Frazer/Berwyn/Phoenixville","Chester",null,null,"PENNSYLVANIA","Chester 1/0-1/0",99,49,148]
["PA","Mechanicsburg","Cumberland",null,null,"PENNSYLVANIA","Cumberland 1/0-1/0",70,54,124]
["PA","Philadelphia","Philadelphia",null,null,"PENNSYLVANIA","Philadelphia 1/0-1/0",125,64,189]
["PA","Pittsburgh","Allegheny",null,null,"PENNSYLVANIA","Allegheny 1/0-1/0",91,54,145]
["PA","Reading","Berks",null,null,"PENNSYLVANIA","Berks 1/0-1/0",72,44,116]
["PA","Scranton","Lackawanna",null,null,"PENNSYLVANIA","Lackawanna 1/0-1/0",70,39,109]
["PA","State College ","Centre",null,null,"PENNSYLVANIA","Centre 1/0-1/0",71,44,115]
["RI","East Greenwich/Warwick/North Kingstown","Kent and  Washington",null,null,"RHODE ISLAND","Kent and  Washington 1/0-1/0",98,49,147]
["RI","Jamestown/Middletown/Newport","Newport ","2005-10-01","2005-10-31","RHODE ISLAND","Newport  10/1-10/31",136,64,200]
["RI","Jamestown/Middletown/Newport","Newport ","2005-11-01","2006-04-30","RHODE ISLAND","Newport  11/1-4/30",90,64,154]
["RI","Jamestown/Middletown/Newport","Newport ","2006-05-01","2006-09-30","RHODE ISLAND","Newport  5/1-9/30",136,64,200]
["RI","Providence","Providence",null,null,"RHODE ISLAND","Providence 1/0-1/0",139,54,193]
["SC","Charleston","Charleston, Berkeley and Dorchester",null,null,"SOUTH CAROLINA","Charleston, Berkeley and Dorchester 1/0-1/0",78,54,132]
["SC","Columbia","Richland",null,null,"SOUTH CAROLINA","Richland 1/0-1/0",66,44,110]
["SC","Greenville","Greenville",null,null,"SOUTH CAROLINA","Greenville 1/0-1/0",65,49,114]
["SC","Hilton Head","Beaufort","2005-10-01","2005-10-31","SOUTH CAROLINA",{"$f":"+C515&\" \"&MONTH(D515)&\"/\"&DAY(D515)&\"-\"&MONTH(E515)&\"/\"&DAY(E515)","v":"Beaufort 10/1-10/31"},112,54,166]
["SC","Hilton Head","Beaufort","2005-11-01","2006-02-28","SOUTH CAROLINA","Beaufort 11/1-2/28",75,54,129]
["SC","Hilton Head","Beaufort","2006-03-01","2006-09-30","SOUTH CAROLINA","Beaufort 3/1-9/30",112,54,166]
["SC","Myrtle Beach","Horry","2005-10-01","2006-02-28","SOUTH CAROLINA","Horry 10/1-2/28",65,54,{"$f":"SUM(H518:I518)","v":119}]
["SC","Myrtle Beach","Horry","2006-03-01","2006-05-31","SOUTH CAROLINA","Horry 3/1-5/31",78,54,132]
["SC","Myrtle Beach","Horry","2006-06-01","2006-08-31","SOUTH CAROLINA","Horry 6/1-8/31",107,54,161]
["SC","Myrtle Beach","Horry","2006-09-01","2006-09-30","SOUTH CAROLINA","Horry 9/1-9/30",65,54,119]
["SD","Hot Springs/Custer","Fall River and Custer","2005-10-01","2006-05-31","SOUTH DAKOTA","Fall River and Custer 10/1-5/31",60,39,99]
["SD","Hot Springs/Custer","Fall River and Custer","2006-06-01","2006-08-31","SOUTH DAKOTA","Fall River and Custer 6/1-8/31",92,39,131]
["SD","Hot Springs/Custer","Fall River and Custer","2006-09-01","2006-09-30","SOUTH DAKOTA","Fall River and Custer 9/1-9/30",60,39,99]
["SD","Rapid City","Pennington","2005-10-01","2006-05-31","SOUTH DAKOTA","Pennington 10/1-5/31",60,44,104]
["SD","Rapid City","Pennington","2006-06-01","2006-08-31","SOUTH DAKOTA","Pennington 6/1-8/31",99,44,143]
["SD","Rapid City","Pennington","2006-09-01","2006-09-30","SOUTH DAKOTA","Pennington 9/1-9/30",60,44,104]
["SD","Sturgis/Spearfish ","Meade, Butte and Lawrence","2005-10-01","2006-04-30","SOUTH DAKOTA","Meade, Butte and Lawrence 10/1-4/30",60,44,104]
["SD","Sturgis/Spearfish ","Meade, Butte and Lawrence","2006-05-01","2006-08-31","SOUTH DAKOTA","Meade, Butte and Lawrence 5/1-8/31",86,44,130]
["SD","Sturgis/Spearfish ","Meade, Butte and Lawrence","2006-09-01","2006-09-30","SOUTH DAKOTA","Meade, Butte and Lawrence 9/1-9/30",60,44,104]
["TN","Brentwood/Franklin","Williamson",null,null,"TENNESSEE","Williamson 1/0-1/0",75,49,124]
["TN","Chattanooga ","Hamilton",null,null,"TENNESSEE","Hamilton 1/0-1/0",77,44,121]
["TN","Gatlinburg/Townsend ","Sevier and Blount",null,null,"TENNESSEE","Sevier and Blount 1/0-1/0",66,49,115]
["TN","Knoxville","Knox",null,null,"TENNESSEE","Knox 1/0-1/0",69,49,118]
["TN","Memphis","Shelby",null,null,"TENNESSEE","Shelby 1/0-1/0",73,49,122]
["TN","Nashville","Davidson",null,null,"TENNESSEE","Davidson 1/0-1/0",96,54,150]
["TX","Arlington/Fort Worth/Grapevine","Tarrant County and City limits of Grapevine",null,null,"TENNESSEE","Tarrant County and City limits of Grapevine 1/0-1/0",117,44,161]
["TX","Austin","Travis",null,null,"TENNESSEE","Travis 1/0-1/0",78,54,132]
["TX","College Station","Brazos",null,null,"TENNESSEE","Brazos 1/0-1/0",69,39,108]
["TX","Corpus Christi","Nueces",null,null,"TENNESSEE","Nueces 1/0-1/0",72,44,116]
["TX","Dallas","Dallas County and City of Dallas","2005-10-01","2005-12-31","TENNESSEE","Dallas County and City of Dallas 10/1-12/31",95,59,154]
["TX","Dallas","Dallas County and City of Dallas","2006-01-01","2006-03-31","TENNESSEE","Dallas County and City of Dallas 1/1-3/31",104,59,163]
["TX","Dallas","Dallas County and City of Dallas","2006-04-01","2006-09-30","TENNESSEE","Dallas County and City of Dallas 4/1-9/30",95,59,154]
["TX","El Paso","El Paso",null,null,"TENNESSEE","El Paso 1/0-1/0",66,44,110]
["TX","Galveston","Galveston",null,null,"TENNESSEE","Galveston 1/0-1/0",87,49,136]
["TX","Houston (L.B. Johnson Space Center)","Montgomery, Fort Bend and Harris",null,null,"TENNESSEE","Montgomery, Fort Bend and Harris 1/0-1/0",92,59,151]
["TX","Hunt County","Hunt County",null,null,"TENNESSEE","Hunt County 1/0-1/0",62,39,101]
["TX","Killeen","Bell",null,null,"TENNESSEE","Bell 1/0-1/0",63,39,102]
["TX","Laredo","Webb",null,null,"TENNESSEE","Webb 1/0-1/0",86,44,130]
["TX","McAllen","Hidalgo",null,null,"TENNESSEE","Hidalgo 1/0-1/0",68,44,112]
["TX","Plano","Collin",null,null,"TENNESSEE","Collin 1/0-1/0",74,49,123]
["TX","Round Rock ","Williamson",null,null,"TENNESSEE","Williamson 1/0-1/0",71,44,115]
["TX","San Antonio","Bexar",null,null,"TENNESSEE","Bexar 1/0-1/0",89,54,143]
["TX","South Padre Island","Cameron","2005-10-01","2006-02-28","TENNESSEE","Cameron 10/1-2/28",67,44,111]
["TX","South Padre Island","Cameron","2006-03-01","2006-08-31","TENNESSEE","Cameron 3/1-8/31",89,44,133]
["TX","South Padre Island","Cameron","2006-09-01","2006-09-30","TENNESSEE","Cameron 9/1-9/30",67,44,111]
["TX","Waco","McLennan",null,null,"TENNESSEE","McLennan 1/0-1/0",72,39,111]
["UT","Ogden","Weber",null,null,"UTAH","Weber 1/0-1/0",63,44,107]
["UT","Park City","Summit","2005-10-01","2005-11-30","UTAH","Summit 10/1-11/30",68,64,132]
["UT","Park City","Summit","2005-12-01","2006-03-31","UTAH","Summit 12/1-3/31",127,64,191]
["UT","Park City","Summit","2006-04-01","2006-09-30","UTAH","Summit 4/1-9/30",68,64,132]
["UT","Provo","Utah",null,null,"UTAH","Utah 1/0-1/0",64,49,113]
["UT","Salt Lake City","Salt Lake and Tooele",null,null,"UTAH","Salt Lake and Tooele 1/0-1/0",78,54,132]
["VA","(For the cities of Alexandria, Fairfax, and Falls Church, and the counties of Arlington, Farifax, and Loudon, See District of Columbia)",null,"2005-10-01","2005-12-31","VIRGINIA"," 10/1-12/31",166,64,230]
["VA","(For the cities of Alexandria, Fairfax, and Falls Church, and the counties of Arlington, Farifax, and Loudon, See District of Columbia)",null,"2006-01-01","2006-05-31","VIRGINIA"," 1/1-5/31",187,64,251]
["VA","(For the cities of Alexandria, Fairfax, and Falls Church, and the counties of Arlington, Farifax, and Loudon, See District of Columbia)",null,"2006-06-01","2006-08-31","VIRGINIA"," 6/1-8/31",145,64,209]
["VA","(For the cities of Alexandria, Fairfax, and Falls Church, and the counties of Arlington, Farifax, and Loudon, See District of Columbia)",null,"2006-09-01","2006-09-30","VIRGINIA"," 9/1-9/30",166,64,230]
["VA","Charlottesville","City of Charlottesville",null,null,"VIRGINIA","City of Charlottesville 1/0-1/0",78,44,122]
["VA","Fredericksburg","Spotsylvania, Stafford, the City of Fredericksburg",null,null,"VIRGINIA","Spotsylvania, Stafford, the City of Fredericksburg 1/0-1/0",61,49,110]
["VA","Lynchburg","Campbell, Lynchburg City",null,null,"VIRGINIA","Campbell, Lynchburg City 1/0-1/0",66,44,110]
["VA","Manassas","City of Manassas",null,null,"VIRGINIA","City of Manassas 1/0-1/0",76,39,115]
["VA","Richmond","The City of Richmond, Richmond, Chesterfield, Goochland and Henrico Counties",null,null,"VIRGINIA","The City of Richmond, Richmond, Chesterfield, Goochland and Henrico Counties 1/0-1/0",96,54,150]
["VA","Roanoke","City limits of Roanoke",null,null,"VIRGINIA","City limits of Roanoke 1/0-1/0",69,44,113]
["VA","Virginia Beach","Cities of Virginia Beach, Norfolk, Portsmouth, Chesapeake, and Suffolk","2005-10-01","2006-03-31","VIRGINIA","Cities of Virginia Beach, Norfolk, Portsmouth, Chesapeake, and Suffolk 10/1-3/31",62,49,111]
["VA","Virginia Beach","Cities of Virginia Beach, Norfolk, Portsmouth, Chesapeake, and Suffolk","2006-04-01","2006-05-31","VIRGINIA","Cities of Virginia Beach, Norfolk, Portsmouth, Chesapeake, and Suffolk 4/1-5/31",84,49,133]
["VA","Virginia Beach","Cities of Virginia Beach, Norfolk, Portsmouth, Chesapeake, and Suffolk","2006-06-01","2006-09-30","VIRGINIA","Cities of Virginia Beach, Norfolk, Portsmouth, Chesapeake, and Suffolk 6/1-9/30",124,49,173]
["VA","Wallops Island","Accomack","2005-10-01","2006-05-31","VIRGINIA","Accomack 10/1-5/31",70,49,119]
["VA","Wallops Island","Accomack","2006-06-01","2006-08-31","VIRGINIA","Accomack 6/1-8/31",98,49,147]
["VA","Wallops Island","Accomack","2006-09-01","2006-09-30","VIRGINIA",{"$f":"+C579&\" \"&MONTH(D579)&\"/\"&DAY(D579)&\"-\"&MONTH(E579)&\"/\"&DAY(E579)","v":"Accomack 9/1-9/30"},70,49,119]
["VA","Warrenton ","Fauquier",null,null,"VIRGINIA","Fauquier 1/0-1/0",67,44,111]
["VA","Williamsburg","Cities of Williamsburg, Poquoson, Hampton, and Newport News; James City and York County","2005-10-01","2006-03-31","VIRGINIA","Cities of Williamsburg, Poquoson, Hampton, and Newport News; James City and York County 10/1-3/31",67,54,121]
["VA","Williamsburg","Cities of Williamsburg, Poquoson, Hampton, and Newport News; James City and York County","2006-04-01","2006-08-31","VIRGINIA","Cities of Williamsburg, Poquoson, Hampton, and Newport News; James City and York County 4/1-8/31",82,54,136]
["VA","Williamsburg","Cities of Williamsburg, Poquoson, Hampton, and Newport News; James City and York County","2006-09-01","2006-09-30","VIRGINIA","Cities of Williamsburg, Poquoson, Hampton, and Newport News; James City and York County 9/1-9/30",67,54,121]
["VA","Woodbridge","Prince William",null,null,"VIRGINIA","Prince William 1/0-1/0",76,44,120]
["VT","Burlington/St. Albans","Chittenden and Franklin","2005-10-01","2005-10-31","VERMONT","Chittenden and Franklin 10/1-10/31",92,49,141]
["VT","Burlington/St. Albans","Chittenden and Franklin","2005-11-01","2006-04-30","VERMONT","Chittenden and Franklin 11/1-4/30",78,49,{"$f":"SUM(H586:I586)","v":127}]
["VT","Burlington/St. Albans","Chittenden and Franklin","2006-05-01","2006-09-30","VERMONT","Chittenden and Franklin 5/1-9/30",92,49,141]
["VT","Manchester","Bennington",null,null,"VERMONT","Bennington 1/0-1/0",76,59,135]
["VT","Montpelier","Washington","2005-10-01","2005-10-31","VERMONT","Washington 10/1-10/31",81,54,135]
["VT","Montpelier","Washington","2005-11-01","2006-04-30","VERMONT","Washington 11/1-4/30",70,54,124]
["VT","Montpelier","Washington","2006-05-01","2006-09-30","VERMONT","Washington 5/1-9/30",81,54,135]
["VT","Stowe ","Lamoille",null,null,"VERMONT","Lamoille 1/0-1/0",113,64,177]
["VT","White River Junction","Windsor","2005-10-01","2006-02-28","VERMONT","Windsor 10/1-2/28",81,54,135]
["VT","White River Junction","Windsor","2006-03-01","2006-08-31","VERMONT","Windsor 3/1-8/31",72,54,126]
["VT","White River Junction","Windsor","2006-09-01","2006-09-30","VERMONT","Windsor 9/1-9/30",81,54,135]
["WA","Anacortes/Camano Island/Coupeville/Mount Vernon/La Conner/Burlington/Friday Harbor","Skagit, Island, San Juan ",null,null,"WASHINGTON","Skagit, Island, San Juan  1/0-1/0",71,59,130]
["WA","Bremerton","Kitsap",null,null,"WASHINGTON","Kitsap 1/0-1/0",70,59,129]
["WA","Everett/Lynnwood","Snohomish",null,null,"WASHINGTON","Snohomish 1/0-1/0",76,54,130]
["WA","Ocean Shores","Grays Harbor",null,null,"WASHINGTON","Grays Harbor 1/0-1/0",81,44,125]
["WA","Olympia/Tumwater","Thurston",null,null,"WASHINGTON","Thurston 1/0-1/0",68,49,117]
["WA","Port Angeles/Port Townsend","Clallam and Jefferson","2005-10-01","2006-06-30","WASHINGTON","Clallam and Jefferson 10/1-6/30",71,59,130]
["WA","Port Angeles/Port Townsend","Clallam and Jefferson","2006-07-01","2006-08-31","WASHINGTON","Clallam and Jefferson 7/1-8/31",98,59,157]
["WA","Port Angeles/Port Townsend","Clallam and Jefferson","2006-09-01","2006-09-30","WASHINGTON","Clallam and Jefferson 9/1-9/30",71,59,130]
["WA","Seattle","King",null,null,"WASHINGTON","King 1/0-1/0",124,64,188]
["WA","Spokane","Spokane",null,null,"WASHINGTON","Spokane 1/0-1/0",64,49,113]
["WA","Tacoma","Pierce",null,null,"WASHINGTON","Pierce 1/0-1/0",74,59,133]
["WA","Vancouver","Clark, Cowlitz and Skamania",null,null,"WASHINGTON","Clark, Cowlitz and Skamania 1/0-1/0",98,49,147]
["WI","Appleton","City of Appleton",null,null,"WISCONSIN","City of Appleton 1/0-1/0",73,44,117]
["WI","Brookfield","Waukesha",null,null,"WISCONSIN","Waukesha 1/0-1/0",77,44,121]
["WI","Green Bay","Brown",null,null,"WISCONSIN","Brown 1/0-1/0",67,44,111]
["WI","Lake Geneva","Walworth","2005-10-01","2006-05-31","WISCONSIN","Walworth 10/1-5/31",90,54,144]
["WI","Lake Geneva","Walworth","2006-06-01","2006-09-30","WISCONSIN","Walworth 6/1-9/30",122,54,176]
["WI","Madison","Dane",null,null,"WISCONSIN","Dane 1/0-1/0",80,54,134]
["WI","Milwaukee","Milwaukee",null,null,"WISCONSIN","Milwaukee 1/0-1/0",79,44,123]
["WI","Racine","Racine",null,null,"WISCONSIN","Racine 1/0-1/0",76,44,120]
["WI","Sheboygan","Sheboygan ",null,null,"WISCONSIN","Sheboygan  1/0-1/0",68,44,112]
["WI","Sturgeon Bay","Door","2005-10-01","2006-06-30","WISCONSIN","Door 10/1-6/30",62,49,111]
["WI","Sturgeon Bay","Door","2006-07-01","2006-08-31","WISCONSIN","Door 7/1-8/31",77,49,126]
["WI","Sturgeon Bay","Door","2006-09-01","2006-09-30","WISCONSIN","Door 9/1-9/30",62,49,111]
["WI","Wisconsin Dells","Columbia","2005-10-01","2006-06-30","WISCONSIN","Columbia 10/1-6/30",60,64,124]
["WI","Wisconsin Dells","Columbia","2006-07-01","2006-08-31","WISCONSIN","Columbia 7/1-8/31",83,64,147]
["WI","Wisconsin Dells","Columbia","2006-09-01","2006-09-30","WISCONSIN","Columbia 9/1-9/30",60,64,124]
["WV","Charleston","Kanawha",null,null,"WEST VIRGINIA","Kanawha 1/0-1/0",77,44,121]
["WV","Morgantown","Monongalia",null,null,"WEST VIRGINIA","Monongalia 1/0-1/0",66,44,110]
["WV","Shepherdstown","Jefferson",null,null,"WEST VIRGINIA","Jefferson 1/0-1/0",63,44,107]
["WV","Wheeling","Ohio",null,null,"WEST VIRGINIA","Ohio 1/0-1/0",66,44,110]
["WY","Cody","Park","2005-10-01","2005-10-31","WYOMING","Park 10/1-10/31",107,44,151]
["WY","Cody","Park","2005-11-01","2006-03-31","WYOMING","Park 11/1-3/31",66,44,110]
["WY","Cody","Park","2006-04-01","2006-05-31","WYOMING","Park 4/1-5/31",60,44,104]
["WY","Cody","Park","2006-06-01","2006-09-30","WYOMING","Park 6/1-9/30",107,44,151]
["WY","Jackson/Pinedale","Teton and Sublette","2005-10-01","2006-05-31","WYOMING","Teton and Sublette 10/1-5/31",71,54,125]
["WY","Jackson/Pinedale","Teton and Sublette","2006-06-01","2006-09-30","WYOMING","Teton and Sublette 6/1-9/30",110,54,164]